BEGIN:VCALENDAR
VERSION:2.0
PRODID:-//ARTNOIR//NONSGML Events//EN
CALSCALE:GREGORIAN
X-ORIGINAL-URL:https://artnoir.ch/events/event/
X-WR-CALDESC:ARTNOIR - Events
BEGIN:VEVENT
UID:20260105T0527Z-1767590851.5843-EO-258423-1@10.0.9.48
STATUS:CONFIRMED
DTSTAMP:20260423T221613Z
CREATED:20260103T155533Z
LAST-MODIFIED:20260327T120235Z
DTSTART;VALUE=DATE:20260416
DTEND;VALUE=DATE:20260420
SUMMARY: Roadburn Festival
DESCRIPTION: Line-up / Timetables\nDas Roadburn Festival hat sich zu Europa
 s führendem Underground-Festival für Heavy Metal aller Art entwickelt. Genr
 eunabhängig präsentiert das Roadburn-Line-up regelmäßig szeneprägende Bands
  und Pioniere neben aufstrebenden Künstlern\, die mühelos Genregrenzen verw
 ischen. Trotz seines guten Rufs und der breiten Anerkennung durch die Kriti
 ker bleibt Roadburn ein Boutique-Festival mit Underground-Flair und gleichz
 eitig professioneller Produktion. Roadburn findet jedes Jahr im April in Ti
 lburg\, Niederlande\, statt. Das Epizentrum des Festivals ist der Club 013\
 , ... [Read more...]
X-ALT-DESC;FMTTYPE=text/html: <p><a href="https://roadburn.com/line-up/" ta
 rget="_blank" rel="noopener">Line-up</a> / <a href="https://roadburn.com/ti
 metables/" rel="noopener" target="_blank">Timetables</a></p><p>Das Roadburn
  Festival hat sich zu Europas führendem Underground-Festival für Heavy Meta
 l aller Art entwickelt. Genreunabhängig präsentiert das Roadburn-Line-up re
 gelmäßig szeneprägende Bands und Pioniere neben aufstrebenden Künstlern\, d
 ie mühelos Genregrenzen verwischen. Trotz seines guten Rufs und der breiten
  Anerkennung durch die Kritiker bleibt Roadburn ein Boutique-Festival mit U
 nderground-Flair und gleichzeitig professioneller Produktion. Roadburn find
 et jedes Jahr im April in Tilburg\, Niederlande\, statt. Das Epizentrum des
  Festivals ist der Club 013\, der von weiteren lokalen Veranstaltungsorten 
 ergänzt wird. Roadburn verzeichnet täglich ca. 4.500 Besucher (am Sonntag e
 twas weniger)\, wobei rund 75 % der Besucher aus dem Ausland anreisen. Im M
 ittelpunkt von Roadburn steht der Wunsch\, die Grenzen der Kunst zu erweite
 rn\, anspruchsvolle Performances zu ermöglichen\, die Zusammenarbeit zu för
 dern und allen Festivalbesuchern – ob im Publikum oder auf der Bühne – unve
 rgessliche Erlebnisse zu bieten.</p><p><strong>Roadburn 2026 findet vom Don
 nerstag\, 16. April\, bis Sonntag\, 19. April\, in Tilburg\, Niederlande\, 
 statt.</strong></p><p><strong>Donnerstag:</strong> Acid Mothers Temple | bi
 lly woods | Coalesce | Crippling Alcholism | ELUCID | Fauna (GBG) | Habak |
  Krallice | Maruja | Pain Magazine | Shearling | Unsane | World Peace</p><p
 ><strong>Freitag:</strong> Acid Mothers Temple | All Men Unto Me | Agricult
 ure | Backengrillen | Bosse-de-Nage | Haress | Heaven In Her Arms | Kowloon
  Walled City | Krallice | Lathe of Heaven | Mandy\, Indiana | Milkweed | NG
 HTCRWLR | Planning For Burial | Portrayal of Guilt |  Slow Crush | Yellow E
 yes</p><p><strong>Samstag:</strong> Acid Mothers Temple | aya | Bitchin Baj
 as | Blackwater Holylight | Dälek | Heaven In Her Arms | Moloch | Oathbreak
 er | Primitive Man | Prostitute | Quest Master | RÓIS | Saetia | SLIFT | Sl
 owhole | Truck Violence</p><p><strong>Sonntag:</strong> Ak’Chamel | ECHT! |
  Inter Arma | Krallice | Kiss The Anus Of A Black Cat | Lili Refrain | Orcu
 tt Shelley Miller | Planning for Burial | Primitive Man | SANAM | Siem Reap
  | Sir Richard Bishop | Slow Crush | Warning</p>
CATEGORIES:Metal
LOCATION:013 Poppodium
GEO:51.557738;5.092839
ORGANIZER;CN="Christian Wölbitsch":MAILTO:info@cd-photography.net
URL;VALUE=URI:https://artnoir.ch/events/event/roadburn-festival-2026/
ATTACH;FMTTYPE=image/jpeg:https://artnoir.ch/wp-content/uploads/2026/01/RB2026-kopie-scaled-1.jpg
END:VEVENT
BEGIN:VTIMEZONE
TZID:Europe/Zurich
BEGIN:DAYLIGHT
TZOFFSETFROM:+0100
TZOFFSETTO:+0200
DTSTART:20260329T010000
TZNAME:CEST
END:DAYLIGHT
END:VTIMEZONE
END:VCALENDAR
