BEGIN:VCALENDAR
VERSION:2.0
PRODID:-//ARTNOIR//NONSGML Events//EN
CALSCALE:GREGORIAN
X-ORIGINAL-URL:https://artnoir.ch/events/event/
X-WR-CALDESC:ARTNOIR - Events
BEGIN:VEVENT
UID:20260302T0723Z-1772436230.9175-EO-260946-1@10.0.9.48
STATUS:CONFIRMED
DTSTAMP:20260424T020127Z
CREATED:20260228T164609Z
LAST-MODIFIED:20260228T165005Z
DTSTART;VALUE=DATE:20260821
DTEND;VALUE=DATE:20260824
SUMMARY: Riverside Festival
DESCRIPTION: Lineup\nDas Riverside Festival startet in die 10te Runde.\nDas
  Riverside Festival Aarburg 2026 findet vom 21. bis 23. August 2026 statt u
 nd bietet ein hochkarätiges Rock-\, Hard-Rock- und Metal-Programm mit Highl
 ights wie Within Temptation\, Gotthard\, Krokus und Alestorm. Das Festivalg
 elände direkt an der Aare in Aarburg (Schweiz) beherbergt über 6.000 Fans p
 ro Tag und bietet ein intensives Musikprogramm mit internationaler Besetzun
 g. ... [Read more...]
X-ALT-DESC;FMTTYPE=text/html: <p><a href="https://www.riversideaarburg.com/
 lineup" rel="noopener" target="_blank">Lineup</a></p><p>Das Riverside Festi
 val startet in die 10te Runde.</p><p>Das Riverside Festival Aarburg 2026 fi
 ndet vom 21. bis 23. August 2026 statt und bietet ein hochkarätiges Rock-\,
  Hard-Rock- und Metal-Programm mit Highlights wie <a href="https://www.with
 in-temptation.com/" rel="noopener" target="_blank">Within Temptation</a>\, 
 <a href="https://www.gotthard.com/" rel="noopener" target="_blank">Gotthard
 </a>\, <a href="https://www.krokusonline.com/" rel="noopener" target="_blan
 k">Krokus</a> und <a href="https://www.alestorm.net/" rel="noopener" target
 ="_blank">Alestorm</a>. Das Festivalgelände direkt an der Aare in Aarburg (
 Schweiz) beherbergt über 6.000 Fans pro Tag und bietet ein intensives Musik
 programm mit internationaler Besetzung. </p>
CATEGORIES:Metal,Rock
LOCATION:Riverside Arena
GEO:47.320099;7.899364
ORGANIZER;CN="JHG Shark":MAILTO:webmaster@jhgshark.ch
URL;VALUE=URI:https://artnoir.ch/events/event/riverside-festival-2026/
ATTACH;FMTTYPE=image/jpeg:https://artnoir.ch/wp-content/uploads/2025/08/07-Hammerfall-Riverside-2025-08-22-12.jpg
END:VEVENT
BEGIN:VTIMEZONE
TZID:Europe/Zurich
BEGIN:DAYLIGHT
TZOFFSETFROM:+0100
TZOFFSETTO:+0200
DTSTART:20260329T010000
TZNAME:CEST
END:DAYLIGHT
END:VTIMEZONE
END:VCALENDAR
