BEGIN:VCALENDAR
VERSION:2.0
PRODID:-//ARTNOIR//NONSGML Events//EN
CALSCALE:GREGORIAN
X-ORIGINAL-URL:https://artnoir.ch/events/event/
X-WR-CALDESC:ARTNOIR - Events
BEGIN:VEVENT
UID:20260205T1241Z-1770295299.4702-EO-259562-1@10.0.9.48
STATUS:CONFIRMED
DTSTAMP:20260424T002247Z
CREATED:20260201T135604Z
LAST-MODIFIED:20260203T180454Z
DTSTART;TZID=Europe/Zurich:20260629T183000
DTEND;TZID=Europe/Zurich:20260629T223000
SUMMARY: Rise Against
DESCRIPTION: Rise Against\nNur selten ist der Bandname so passend wie beim 
 Punk-Quartett Rise Against aus Chicago. Während kurzlebige Stile und modisc
 he Imitationen kamen und gingen\, blieben Rise Against ein Leitstern des kü
 nstlerischen Widerstands.\nObwohl sie ihre Formel ständig aktualisieren\, h
 aben sie ihren ursprünglichen rebellischen Geist über ein Vierteljahrhunder
 t hinweg bewahrt. Immer wieder schaffen sie es\, harte Riffs und eingängige
  Me-lodien mit pointierten\, gesellschaftskritischen Texten zu verbinden. S
 o auch auf ihrem 2025 erschie-nen Album «Ricochet»\, ... [Read more...]
X-ALT-DESC;FMTTYPE=text/html: <p><a href="https://riseagainst.com" rel="noo
 pener" target="_blank">Rise Against</a></p><p>Nur selten ist der Bandname s
 o passend wie beim Punk-Quartett Rise Against aus Chicago. Während kurzlebi
 ge Stile und modische Imitationen kamen und gingen\, blieben Rise Against e
 in Leitstern des künstlerischen Widerstands.</p><p>Obwohl sie ihre Formel s
 tändig aktualisieren\, haben sie ihren ursprünglichen rebellischen Geist üb
 er ein Vierteljahrhundert hinweg bewahrt. Immer wieder schaffen sie es\, ha
 rte Riffs und eingängige Me-lodien mit pointierten\, gesellschaftskritische
 n Texten zu verbinden. So auch auf ihrem 2025 erschie-nen Album «Ricochet»\
 , mit dem sie 2026 auf Welttournee gehen und unter anderem in Zürich Halt m
 achen.</p><p>Wie der literarische Held der Band\, George Orwell\, haben sie
  sich die Maxime zu eigen gemacht\, dass «in Zeiten der Täuschung das Aussp
 rechen der Wahrheit ein revolutionärer Akt ist». Das Album «Ricochet» ist a
 uf einfachster Ebene ein Erfolg: eine Sammlung unvergesslicher Rock’n‘-Roll
 -Songs mit mitreissenden Hooks\, die bei ohrenbetäubender Lautstärke am bes
 ten klingen. Aber das Album hat auch eine tiefere Bedeutung: Es ist ein Dok
 ument von Musikern\, die das Chaos des Augenblicks einfangen\, komplexe Wah
 rheiten mit erschütternder Kraft artikulieren und sich der Konsequenzen be-
 wusst sind\, die uns allen bevorstehen könnten. Dieses Album wurde geschaff
 en\, um Teil der Lösung zu sein.</p><p><span style="color: #c86079\;">Ein <
 strong>ARTNOIR</strong> Partner-Event</span></p>
CATEGORIES:Partner-Event,Punk
LOCATION:Halle 622
GEO:47.413112;8.541888
ORGANIZER;CN="Nicole Wild":MAILTO:nic.wild@yahoo.com
URL;VALUE=URI:https://artnoir.ch/events/event/rise-against-2026-06-29/
ATTACH;FMTTYPE=image/jpeg:https://artnoir.ch/wp-content/uploads/2026/02/rise-against-2026-06-29.jpg
END:VEVENT
BEGIN:VTIMEZONE
TZID:Europe/Zurich
BEGIN:DAYLIGHT
TZOFFSETFROM:+0100
TZOFFSETTO:+0200
DTSTART:20260329T010000
TZNAME:CEST
END:DAYLIGHT
END:VTIMEZONE
END:VCALENDAR
