BEGIN:VCALENDAR
VERSION:2.0
PRODID:-//ARTNOIR//NONSGML Events//EN
CALSCALE:GREGORIAN
X-ORIGINAL-URL:https://artnoir.ch/events/event/
X-WR-CALDESC:ARTNOIR - Events
BEGIN:VEVENT
UID:20260411T0926Z-1775899598.1692-EO-262874-1@10.0.9.48
STATUS:CONFIRMED
DTSTAMP:20260423T231746Z
CREATED:20260409T171850Z
LAST-MODIFIED:20260409T172135Z
DTSTART;TZID=Europe/Zurich:20260625T193000
DTEND;TZID=Europe/Zurich:20260625T233000
SUMMARY: REZN
DESCRIPTION: REZN\n+ Leaden Fumes\nChicago-based cosmic and cataclysmic qua
 rtet REZN have mined the stark monochromatic depths of underground metal an
 d fused them with the kaleidoscopic delights of psychedelia\, prog rock\, a
 nd shoegaze. From their inception\, the band have been fiercely independent
  with a fully realized aesthetic and a fervent cult following. As knowledge
 able gear heads\, experienced sound engineers\, and seasoned DIY veterans\,
  REZN have been able to create a body of work devoid of any sonic compromis
 es in their speaker-rattling dirges and heady lysergic forays. ... [Read mo
 re...]
X-ALT-DESC;FMTTYPE=text/html: <p><a href="https://www.rezn.band/" rel="noop
 ener" target="_blank">REZN</a><br />+ <a href="https://www.leadenfumes.com/
 " rel="noopener" target="_blank">Leaden Fumes</a></p><p>Chicago-based cosmi
 c and cataclysmic quartet REZN have mined the stark monochromatic depths of
  underground metal and fused them with the kaleidoscopic delights of psyche
 delia\, prog rock\, and shoegaze. From their inception\, the band have been
  fiercely independent with a fully realized aesthetic and a fervent cult fo
 llowing. As knowledgeable gear heads\, experienced sound engineers\, and se
 asoned DIY veterans\, REZN have been able to create a body of work devoid o
 f any sonic compromises in their speaker-rattling dirges and heady lysergic
  forays. Their four self-released albums—Let It Burn (2017)\, Calm Black Wa
 ter (2018)\, Chaotic Divine (2020)\, and Solace (2023)—have all gone throug
 h multiple vinyl pressings without any distribution or retail presence\, an
 d the international underground heavy psych world has routinely selected th
 e band for distinguished festival slots across North America and Europe.</p
 >
CATEGORIES:Metal
LOCATION:Sedel
GEO:47.066014;8.299130
ORGANIZER;CN="JHG Shark":MAILTO:webmaster@jhgshark.ch
URL;VALUE=URI:https://artnoir.ch/events/event/rezn-2026-06-25/
ATTACH;FMTTYPE=image/jpeg:https://artnoir.ch/wp-content/uploads/2026/04/rezn-2026-06-25.jpg
END:VEVENT
BEGIN:VTIMEZONE
TZID:Europe/Zurich
BEGIN:DAYLIGHT
TZOFFSETFROM:+0100
TZOFFSETTO:+0200
DTSTART:20260329T010000
TZNAME:CEST
END:DAYLIGHT
END:VTIMEZONE
END:VCALENDAR
