BEGIN:VCALENDAR
VERSION:2.0
PRODID:-//ARTNOIR//NONSGML Events//EN
CALSCALE:GREGORIAN
X-ORIGINAL-URL:https://artnoir.ch/events/event/
X-WR-CALDESC:ARTNOIR - Events
BEGIN:VEVENT
UID:20260420T0638Z-1776667085.9241-EO-263231-1@10.0.9.48
STATUS:CONFIRMED
DTSTAMP:20260423T231848Z
CREATED:20260418T135711Z
LAST-MODIFIED:20260418T140029Z
DTSTART;TZID=Europe/Zurich:20261122T190000
DTEND;TZID=Europe/Zurich:20261122T223000
SUMMARY: Red Hot Chilli Pipers
DESCRIPTION: Red Hot Chilli Pipers\nBack 2 Roots World Tour – 2026\nDie Red
  Hot Chilli Pipers verbinden traditionelle Dudelsäcke mit Rock- und Popmusi
 k zu einem eigenständigen Sound\, den sie selbst „Bagrock“ nennen. Seit ihr
 er Gründung 2002 hat sich die schottische Band international etabliert – ni
 cht zuletzt durch ihren Sieg in der BBC-Show When Will I Be Famous? im Jahr
  2007.\nIhre Shows leben vom Zusammenspiel aus Dudelsäcken\, ... [Read more
 ...]
X-ALT-DESC;FMTTYPE=text/html: <p><a href="https://redhotchillipipers.com/" 
 rel="noopener" target="_blank">Red Hot Chilli Pipers</a></p><p><strong>Back
  2 Roots World Tour - 2026</strong></p><p>Die Red Hot Chilli Pipers verbind
 en traditionelle Dudelsäcke mit Rock- und Popmusik zu einem eigenständigen 
 Sound\, den sie selbst „Bagrock“ nennen. Seit ihrer Gründung 2002 hat sich 
 die schottische Band international etabliert – nicht zuletzt durch ihren Si
 eg in der BBC-Show When Will I Be Famous? im Jahr 2007.</p><p>Ihre Shows le
 ben vom Zusammenspiel aus Dudelsäcken\, Gitarren\, Drums und Gesang und bie
 ten eine Mischung aus eigenen Stücken sowie Neuinterpretationen bekannter S
 ongs. Mit ihrer aktuellen Tour „Back to Roots“ – benannt nach dem 2025 ersc
 hienenen Album – knüpfen sie an ihre musikalischen Ursprünge an und präsent
 ieren sowohl neues Material als auch bewährte Klassiker.</p><p>Die Band spi
 elte weltweit vor einem Millionenpublikum und war auf grossen Bühnen und Fe
 stivals zu sehen.<br />[text: zvg/chatgpt]</p>
CATEGORIES:Anderes,Rock
LOCATION:Kammgarn
GEO:47.694492;8.636424
ORGANIZER;CN="JHG Shark":MAILTO:webmaster@jhgshark.ch
URL;VALUE=URI:https://artnoir.ch/events/event/red-hot-chilli-pipers-2026-11
 -22/
ATTACH;FMTTYPE=image/jpeg:https://artnoir.ch/wp-content/uploads/2026/04/red-hot-chilli-pipers-2026-11-22.jpg
END:VEVENT
BEGIN:VTIMEZONE
TZID:Europe/Zurich
BEGIN:STANDARD
TZOFFSETFROM:+0200
TZOFFSETTO:+0100
DTSTART:20261025T010000
TZNAME:CET
END:STANDARD
END:VTIMEZONE
END:VCALENDAR
