BEGIN:VCALENDAR
VERSION:2.0
PRODID:-//ARTNOIR//NONSGML Events//EN
CALSCALE:GREGORIAN
X-ORIGINAL-URL:https://artnoir.ch/events/event/
X-WR-CALDESC:ARTNOIR - Events
BEGIN:VEVENT
UID:20260403T0746Z-1775202398.9948-EO-262550-1@10.0.9.48
STATUS:CONFIRMED
DTSTAMP:20260423T232621Z
CREATED:20260401T163810Z
LAST-MODIFIED:20260401T165310Z
DTSTART;TZID=Europe/Zurich:20260608T190000
DTEND;TZID=Europe/Zurich:20260608T223000
SUMMARY: RATSALAD & NoixXxez
DESCRIPTION: RATSALAD & NoixXxez\nPunk Summer Bash – RATSALAD & NoixXxez 20
 26\nDas Wetter wird heiss\, die Limmat lädt zur Abkühlung ein und danach ab
  ins Werk 21 zum Pogen\, Tanzen und Feiern.\nRATSALAD aus dem ländlichen We
 staustralien sind eine energiegeladene Punkband\, die für ihre chaotischen 
 Live-Shows\, messerscharfen Songs und eine inklusive\, von Freude geprägte 
 Haltung bekannt ist. Angeführt von der charismatischen Frontfrau Jaz hat si
 ch die Band zu einem der spannendsten unabhängigen Punk-Exporte Australiens
  entwickelt. ... [Read more...]
X-ALT-DESC;FMTTYPE=text/html: <p><a href="https://www.ratsaladband.com/" re
 l="noopener" target="_blank">RATSALAD</a> & <a href="https://www.instagram.
 com/n.o.i.x.x.x.e.z/" rel="noopener" target="_blank">NoixXxez</a></p><p><st
 rong>Punk Summer Bash - RATSALAD & NoixXxez 2026</strong></p><p>Das Wetter 
 wird heiss\, die Limmat lädt zur Abkühlung ein und danach ab ins Werk 21 zu
 m Pogen\, Tanzen und Feiern.</p><p><strong>RATSALAD</strong> aus dem ländli
 chen Westaustralien sind eine energiegeladene Punkband\, die für ihre chaot
 ischen Live-Shows\, messerscharfen Songs und eine inklusive\, von Freude ge
 prägte Haltung bekannt ist. Angeführt von der charismatischen Frontfrau Jaz
  hat sich die Band zu einem der spannendsten unabhängigen Punk-Exporte Aust
 raliens entwickelt. RATSALAD werden ihr mit Spannung erwartetes zweites Alb
 um\, „Pest from the West“\, im Mai 2026 über Pee Records veröffentlichen\, 
 vor einer grossen Europatournee im Juni.</p><p>Die Powerpunkgirls von <stro
 ng>NoixXxez</strong> aus Mexiko-Stadt heizen ein Sie wollen die Welt in Fla
 mmen sehen\, deine Gedanken befreien\, lass dich einfach mitreissen … das w
 ird völlig aus dem Ruder laufen!</p><p>Türöffnung: 19 Uhr // Show: 19:30 Uh
 r // Ende: 22:30 Uhr</p><p><span style="color: #c86079\;">Ein <strong>ARTNO
 IR</strong> Partner-Event</span></p>
CATEGORIES:Partner-Event,Punk
LOCATION:Werk 21
GEO:47.383312;8.539341
ORGANIZER;CN="JHG Shark":MAILTO:webmaster@jhgshark.ch
URL;VALUE=URI:https://artnoir.ch/events/event/ratsalad-and-noixxxez-2026-06
 -08/
ATTACH;FMTTYPE=image/jpeg:https://artnoir.ch/wp-content/uploads/2026/04/ratsalad-and-noixxez-2026-06-08.jpg
END:VEVENT
BEGIN:VTIMEZONE
TZID:Europe/Zurich
BEGIN:DAYLIGHT
TZOFFSETFROM:+0100
TZOFFSETTO:+0200
DTSTART:20260329T010000
TZNAME:CEST
END:DAYLIGHT
END:VTIMEZONE
END:VCALENDAR
