BEGIN:VCALENDAR
VERSION:2.0
PRODID:-//ARTNOIR//NONSGML Events//EN
CALSCALE:GREGORIAN
X-ORIGINAL-URL:https://artnoir.ch/events/event/
X-WR-CALDESC:ARTNOIR - Events
BEGIN:VEVENT
UID:20251219T2340Z-1766187635.0883-EO-257568-1@10.0.9.48
STATUS:CONFIRMED
DTSTAMP:20260423T215621Z
CREATED:20251206T132603Z
LAST-MODIFIED:20260410T102607Z
DTSTART;TZID=Europe/Zurich:20260411T200000
DTEND;TZID=Europe/Zurich:20260411T235500
SUMMARY: Pussy Riot
DESCRIPTION: Pussy Riot\n+ Milla Pluton\nPUSSY RIOT: RIOT DAYS\nRiot Days z
 eigt Pussy Riot im Frontalmodus: Live-Musik\, Spoken Word\, Videos und Perf
 ormance\, die wie ein Manifest einschlagen und die Geschichte des Aktivismu
 s der Gruppe erzählen.\nBasierend auf den Memoiren von Maria Alyokhina grei
 ft die Show ihre berüchtigte Aktion von 2012 auf\, die darauffolgende Inhaf
 tierung\, und präsentiert eine neue Kreation\, die die Unterdrückung der LG
 BTQ+-Community angreift\, ... [Read more...]
X-ALT-DESC;FMTTYPE=text/html: <p><a href="https://pussyriot.love" target="_
 blank" rel="noopener">Pussy Riot</a><br />+ <a href="https://www.instagram.
 com/millapluton/" rel="noopener" target="_blank">Milla Pluton</a></p><p><st
 rong>PUSSY RIOT: RIOT DAYS</strong></p><p>Riot Days zeigt <strong>Pussy Rio
 t</strong> im Frontalmodus: Live-Musik\, Spoken Word\, Videos und Performan
 ce\, die wie ein Manifest einschlagen und die Geschichte des Aktivismus der
  Gruppe erzählen.</p><p>Basierend auf den Memoiren von Maria Alyokhina grei
 ft die Show ihre berüchtigte Aktion von 2012 auf\, die darauffolgende Inhaf
 tierung\, und präsentiert eine neue Kreation\, die die Unterdrückung der LG
 BTQ+-Community angreift\, die Geschichte von Alexei Nawalny beleuchtet und 
 Putins Invasion der Ukraine anprangert.</p><p>Ein dringender\, politischer\
 , unbezähmbarer Auftritt – und ihr einziger Termin in der Schweiz.</p><p><s
 trong>Milla Pluton</strong> ist das Genfer Musikprojekt von Sänger und Küns
 tler Alice Oechslin. Bei Cheptel Records unter Vertrag\, bewegt sich das Pr
 ojekt zwischen Pop-Punk\, astralen Sounds und engagierten Themen. Es zeichn
 et sich durch französische Texte\, E-Gitarre und Blockflöten-Solos aus. </p
 ><p>Der Künstler erschafft rund um Milla Pluton ein visuelles\, musikalisch
 es und performatives Universum: eine intergalaktische Popstar-Figur vom Lan
 d\, die die queere Community der Schweiz repräsentiert und die Ikone verkör
 pert\, die sich Alice in der eigenen Kindheit auf dem Land gewünscht hätte.
  </p><p>Horaires/Zeitplan :<br />Doors : 20.00<br />Showtime Milla Pluton :
  20.30 - 21.15<br />Showtime Pussy Riot : 21.30 - 23.00</p>
CATEGORIES:Punk
LOCATION:Fri-Son
GEO:46.795008;7.151619
ORGANIZER;CN="Christian Wölbitsch":MAILTO:info@cd-photography.net
URL;VALUE=URI:https://artnoir.ch/events/event/pussy-riot-2026-04-11/
ATTACH;FMTTYPE=image/png:https://artnoir.ch/wp-content/uploads/2025/12/Pussy-Riot-2026-04-11.png
END:VEVENT
BEGIN:VTIMEZONE
TZID:Europe/Zurich
BEGIN:DAYLIGHT
TZOFFSETFROM:+0100
TZOFFSETTO:+0200
DTSTART:20260329T010000
TZNAME:CEST
END:DAYLIGHT
END:VTIMEZONE
END:VCALENDAR
