BEGIN:VCALENDAR
VERSION:2.0
PRODID:-//ARTNOIR//NONSGML Events//EN
CALSCALE:GREGORIAN
X-ORIGINAL-URL:https://artnoir.ch/events/event/
X-WR-CALDESC:ARTNOIR - Events
BEGIN:VEVENT
UID:20260118T0006Z-1768694777.196-EO-258828-1@10.0.9.48
STATUS:CONFIRMED
DTSTAMP:20260423T221609Z
CREATED:20260115T205014Z
LAST-MODIFIED:20260406T111147Z
DTSTART;TZID=Europe/Zurich:20260516T170000
DTEND;TZID=Europe/Zurich:20260516T235900
SUMMARY: Post-Punk & Wine
DESCRIPTION: Night In Athens / Fotocrime / Rosa Anschütz\n+ DJ Rebelca\nBar
 ricadée dans l’Est de Londres pendant le covid\, Tina Boleti y a conçu le p
 rojet NIGHT IN ATHENS : originaire de Grèce\, basée à Londres\, et signée s
 ur un label brésilien\, elle a conquis le monde de la scène darkwave en un 
 tournemain\, avec une esthétique sonore fidèle aux synthés analogiques vint
 age dont elle est bardée. ... [Read more...]
X-ALT-DESC;FMTTYPE=text/html: <p><a href="https://www.facebook.com/nightina
 thensband/" target="_blank" rel="noopener">Night In Athens</a> / <a href="h
 ttps://www.fotocrime.com/" target="_blank" rel="noopener">Fotocrime</a> / <
 a href="https://rosaanschuetz.com/" target="_blank" rel="noopener">Rosa Ans
 chütz</a><br />+ <a href="https://www.instagram.com/r.e.b.e.l.c.a/" target=
 "_blank" rel="noopener">DJ Rebelca</a></p><p>Barricadée dans l’Est de Londr
 es pendant le covid\, Tina Boleti y a conçu le projet <strong>NIGHT IN ATHE
 NS</strong> : originaire de Grèce\, basée à Londres\, et signée sur un labe
 l brésilien\, elle a conquis le monde de la scène darkwave en un tournemain
 \, avec une esthétique sonore fidèle aux synthés analogiques vintage dont e
 lle est bardée. Minimalisme synth-pop\, prêches punkisants et noirceur 80’s
 \, la recette est éprouvée\, mais le résultat est infaillible. Unique date 
 suisse !</p><p>On a connu Ryan Patterson comme éructeur en chef au sein de 
 feu Coliseum\, formation post-metal du Kentucky – avant qu’il ne lance en 2
 017 <strong>FOTOCRIME</strong>\, où il insuffle\, dit-il\, son amour autant
  pour DAF que pour Roy Orbison ou Portishead. Un projet épique\, qui chiffo
 nne\, justement\, la plupart des étiquettes : death rock à guitare\, darkwa
 ve germanisante\, pop carrément eighties ou post-punk à la Killing Joke\, l
 a seule constante est la voix de velours du sieur Patterson.</p><p><strong>
 ROSA ANSCHÜTZ</strong> a infusé dans la scène expérimentale electro berlino
 ise\, où elle s’est frottée à la musique de film et aux arts plastiques ava
 nt de décocher un premier album solo en 2020. Le somptueux dernier-né\, Sab
 batical\, a atterri chez Heartworm Press\, le label de Cold Cave \; une œuv
 re saisissante\, aussi ample que minimaliste\, qui serpente à mi-chemin ent
 re Dead Can Dance et Bjork.</p><p>Entre EBM\, post-punk et darkwave\, <stro
 ng>REBELCA</strong> achèvera le dancefloor avec un DJ set qui traverse tout
  le spectre des musiques ténébreuses !</p><p>Domaine qui remonte au XIe siè
 cle\, <strong>l’Abbaye de Salaz</strong> est reprise mille ans plus tard pa
 r la famille Zbinden\, qui y élève tout d’abord des vaches et des pommiers\
 , avant de se focaliser sur le raisin – bichonné de nos jours par la troisi
 ème génération\, Michel\, Janine et Bernard. Quatre hectares autour d’Ollon
 \, et une vingtaine de cru différents\, du Chasselas au Pinot Noir (forcéme
 nt) mais aussi Syrah\, Mondeuse ou Merlot Blanc !</p><p><strong>Marjorie Bo
 nvin</strong> - Presque aussi vieilles que le château\, les vignes de Chill
 on ont pris racine sur les contre-hauts du lac depuis le XIIIe siècle déjà.
  Marjorie Bonvin\, émérite œnologue de la maison Henri Badoux\, tricote les
  cépages du Château sous la juste appellation « Clos de Chillon »\, un nom 
 qui résonnait déjà au XVIIIe siècle\, entre deux invasions bernoises.</p>
CATEGORIES:Wave
LOCATION:Château de Chillon
GEO:46.417856;6.928318
ORGANIZER;CN="JHG Shark":MAILTO:webmaster@jhgshark.ch
URL;VALUE=URI:https://artnoir.ch/events/event/post-punk-and-wine-2026-05-16
 /
ATTACH;FMTTYPE=image/png:https://artnoir.ch/wp-content/uploads/2026/01/post-and-punk-wine-2026-05-15.png
END:VEVENT
BEGIN:VTIMEZONE
TZID:Europe/Zurich
BEGIN:DAYLIGHT
TZOFFSETFROM:+0100
TZOFFSETTO:+0200
DTSTART:20260329T010000
TZNAME:CEST
END:DAYLIGHT
END:VTIMEZONE
END:VCALENDAR
