BEGIN:VCALENDAR
VERSION:2.0
PRODID:-//ARTNOIR//NONSGML Events//EN
CALSCALE:GREGORIAN
X-ORIGINAL-URL:https://artnoir.ch/events/event/
X-WR-CALDESC:ARTNOIR - Events
BEGIN:VEVENT
UID:20260118T0727Z-1768721276.1098-EO-258826-1@10.0.9.48
STATUS:CONFIRMED
DTSTAMP:20260423T214817Z
CREATED:20260115T203615Z
LAST-MODIFIED:20260406T110640Z
DTSTART;TZID=Europe/Zurich:20260515T170000
DTEND;TZID=Europe/Zurich:20260515T235500
SUMMARY: Post-Punk & Wine
DESCRIPTION: Ash Code / Black Doldrums / Sonic Jesus\nFormation séminale de
  la scène darkwave italienne\, ASH CODE\, c’est encore un trio : 33% de cla
 viériste et 66% de frères jumeaux. Après quatre albums\, des tournées au-de
 là des océans et un hiatus de quelques années\, les Napolitains sont revenu
 s en 2025 avec un bébé (un vrai) et un nouveau-né discographique\, Synthome
 \, toujours foisonnant d’une élégance romantique\, ... [Read more...]
X-ALT-DESC;FMTTYPE=text/html: <p><a href="https://www.ashcode.eu/" target="
 _blank" rel="noopener">Ash Code</a> / <a href="https://www.facebook.com/Bla
 ckDoldrums/" target="_blank" rel="noopener">Black Doldrums</a> / <a href="h
 ttps://www.sonicjesusofficial.com/" target="_blank" rel="noopener">Sonic Je
 sus</a></p><p>Formation séminale de la scène darkwave italienne\, <strong>A
 SH CODE</strong>\, c’est encore un trio : 33% de claviériste et 66% de frèr
 es jumeaux. Après quatre albums\, des tournées au-delà des océans et un hia
 tus de quelques années\, les Napolitains sont revenus en 2025 avec un bébé 
 (un vrai) et un nouveau-né discographique\, Synthome\, toujours foisonnant 
 d’une élégance romantique\, à cheval entre pop synthétique vintage et post-
 punk contemporain. Unique date\, itou !</p><p>Pour faire de l’ordre au mili
 eu des pillards sans vergogne qui vampirisent le saint héritage de Joy Divi
 sion et New Order\, on peut compter sur le preux trio londonien <strong>BLA
 CK DOLDRUMS</strong>. Des références à Factory Records\, certes\, mais shak
 ées avec un shoegazing lumineux : une dreampop caverneuse gorgée de sève fu
 zz brianjohnstonmassacresque\, étincelante de beauté spectrale et de noirce
 ur psychédélique. Fuzz Club (le meilleur label du monde après Humus Records
 ) ne s’y sont d’ailleurs pas trompés\, nous non plus. Unique date suisse\, 
 aussi !</p><p>Secret un peu trop bien gardé de l’underground transalpin\, <
 strong>SONIC JESUS</strong> ont montré le bout de leur nez -pas si catholiq
 ue que ça- la première fois en 2015 avec un album faramineux chez Fuzz Club
 \, la Mecque londonienne du psyché contemporain (réédité en grandes pompes 
 cette année). Adoubé par The Black Angels -c’est peu surprenant- puis aperç
 u à travers l’Europe à la droite d’A Place To Bury Strangers ou Jesus & Mar
 y Chain\, le trio fait un saut de (grosse) puce à Chillon depuis Rome pour 
 présenter son futur nouvel album. Unique date suisse !</p><p>Domaine qui re
 monte au XIe siècle\, <strong>l’Abbaye de Salaz</strong> est reprise mille 
 ans plus tard par la famille Zbinden\, qui y élève tout d’abord des vaches 
 et des pommiers\, avant de se focaliser sur le raisin – bichonné de nos jou
 rs par la troisième génération\, Michel\, Janine et Bernard. Quatre hectare
 s autour d’Ollon\, et une vingtaine de cru différents\, du Chasselas au Pin
 ot Noir (forcément) mais aussi Syrah\, Mondeuse ou Merlot Blanc !</p><p><st
 rong>Marjorie Bonvin</strong> - Presque aussi vieilles que le château\, les
  vignes de Chillon ont pris racine sur les contre-hauts du lac depuis le XI
 IIe siècle déjà. Marjorie Bonvin\, émérite œnologue de la maison Henri Bado
 ux\, tricote les cépages du Château sous la juste appellation « Clos de Chi
 llon »\, un nom qui résonnait déjà au XVIIIe siècle\, entre deux invasions 
 bernoises.</p>
CATEGORIES:Wave
LOCATION:Château de Chillon
GEO:46.417856;6.928318
ORGANIZER;CN="JHG Shark":MAILTO:webmaster@jhgshark.ch
URL;VALUE=URI:https://artnoir.ch/events/event/post-punk-and-wine-2026-05-15
 /
ATTACH;FMTTYPE=image/png:https://artnoir.ch/wp-content/uploads/2026/01/post-and-punk-wine-2026-05-15.png
END:VEVENT
BEGIN:VTIMEZONE
TZID:Europe/Zurich
BEGIN:DAYLIGHT
TZOFFSETFROM:+0100
TZOFFSETTO:+0200
DTSTART:20260329T010000
TZNAME:CEST
END:DAYLIGHT
END:VTIMEZONE
END:VCALENDAR
