BEGIN:VCALENDAR
VERSION:2.0
PRODID:-//ARTNOIR//NONSGML Events//EN
CALSCALE:GREGORIAN
X-ORIGINAL-URL:https://artnoir.ch/events/event/
X-WR-CALDESC:ARTNOIR - Events
BEGIN:VEVENT
UID:20260222T0006Z-1771718810.6708-EO-260531-1@10.0.9.48
STATUS:CONFIRMED
DTSTAMP:20260424T014707Z
CREATED:20260216T201643Z
LAST-MODIFIED:20260216T201917Z
DTSTART;TZID=Europe/Zurich:20260614T190000
DTEND;TZID=Europe/Zurich:20260614T235900
SUMMARY: Possessed & Vomitheist
DESCRIPTION: Possessed & Vomitheist\nPOSSESSED\, die Gründungsväter des Dea
 th Metal\, sind auf Brandschatzung mit ihrem ikonischen Werk SEVEN CHURCHES
 .\nVor 41 Jahren erschien ihr legendäres Werk welches den Song DEATH METAL 
 enthält. Beeinflusst von Motörhead und Exodus begründeten sie mit ihrer bis
  dato unbekannten Spielweise das Sub Genre Death Metal.\nZahlreiche Besetzu
 ngswechsel\, Auflösungen und der Schussverletzung des Sängers\, die zur Que
 rschnittslähmung führte\, später\, ... [Read more...]
X-ALT-DESC;FMTTYPE=text/html: <p><a href="https://www.facebook.com/possesse
 dofficial/" rel="noopener" target="_blank">Possessed</a> & <a href="https:/
 /www.facebook.com/Vomitheist/" rel="noopener" target="_blank">Vomitheist</a
 ></p><p><strong>POSSESSED</strong>\, die Gründungsväter des Death Metal\, s
 ind auf Brandschatzung mit ihrem ikonischen Werk SEVEN CHURCHES.</p><p>Vor 
 41 Jahren erschien ihr legendäres Werk welches den Song DEATH METAL enthält
 . Beeinflusst von Motörhead und Exodus begründeten sie mit ihrer bis dato u
 nbekannten Spielweise das Sub Genre Death Metal.</p><p>Zahlreiche Besetzung
 swechsel\, Auflösungen und der Schussverletzung des Sängers\, die zur Quers
 chnittslähmung führte\, später\, hat sich die Band auf dem Wacken Openair w
 iedervereinigt. Nochmals fast 20 Jahre später rollt der Nightliner ins Eise
 nwerk.</p><p>Eröffnet wird dieser Sonntagabend mit unseren eigenen Death Me
 tal Legenden aus Frauenfeld\, <strong>VOMITHEIST</strong>.</p>
CATEGORIES:Metal
LOCATION:Eisenwerk
GEO:47.561190;8.893648
ORGANIZER;CN="JHG Shark":MAILTO:webmaster@jhgshark.ch
URL;VALUE=URI:https://artnoir.ch/events/event/possessed-and-vomitheist-2026
 -06-14/
ATTACH;FMTTYPE=image/jpeg:https://artnoir.ch/wp-content/uploads/2026/02/possessed-and-vomitheist-2026-06-14.jpg
END:VEVENT
BEGIN:VTIMEZONE
TZID:Europe/Zurich
BEGIN:DAYLIGHT
TZOFFSETFROM:+0100
TZOFFSETTO:+0200
DTSTART:20260329T010000
TZNAME:CEST
END:DAYLIGHT
END:VTIMEZONE
END:VCALENDAR
