BEGIN:VCALENDAR
VERSION:2.0
PRODID:-//ARTNOIR//NONSGML Events//EN
CALSCALE:GREGORIAN
X-ORIGINAL-URL:https://artnoir.ch/events/event/
X-WR-CALDESC:ARTNOIR - Events
BEGIN:VEVENT
UID:20250925T1907Z-1758827238.1374-EO-253275-1@10.0.9.22
STATUS:CONFIRMED
DTSTAMP:20260423T232620Z
CREATED:20250922T173926Z
LAST-MODIFIED:20260315T162837Z
DTSTART;TZID=Europe/Zurich:20261127T193000
DTEND;TZID=Europe/Zurich:20261127T224500
SUMMARY: Portugal. The Man
DESCRIPTION: Portugal. The Man\nPortugal. The Man erreichte 2017 mit der Ve
 röffentlichung seines mittlerweile von der RIAA mit Platin ausgezeichneten 
 Albums «Woodstock» neue Höhen. Das Album wurde geprägt durch den erstaunlic
 hen Erfolg ihrer mitreissenden Single «Feel It Still»\, die der Gruppe eine
 n GRAMMY für «Best Pop Duo/Group Performance»\, eine 7-fache RIAA-Platin-Au
 szeichnung\, einen Rekordaufenthalt von 20 Wochen auf Platz 1 der Alternati
 ve-Radiocharts und eine unausweichliche Präsenz in den Top 40 der Airplay-C
 harts einbrachte. ... [Read more...]
X-ALT-DESC;FMTTYPE=text/html: <p><a href="https://portugaltheman.com/" rel=
 "noopener" target="_blank">Portugal. The Man</a></p><p>Portugal. The Man er
 reichte 2017 mit der Veröffentlichung seines mittlerweile von der RIAA mit 
 Platin ausgezeichneten Albums «Woodstock» neue Höhen. Das Album wurde geprä
 gt durch den erstaunlichen Erfolg ihrer mitreissenden Single «Feel It Still
 »\, die der Gruppe einen GRAMMY für «Best Pop Duo/Group Performance»\, eine
  7-fache RIAA-Platin-Auszeichnung\, einen Rekordaufenthalt von 20 Wochen au
 f Platz 1 der Alternative-Radiocharts und eine unausweichliche Präsenz in d
 en Top 40 der Airplay-Charts einbrachte. Am 15. März spielen sie im Komplex
  457 in Zürich.</p><p>Neben dem Glanz ihrer unzähligen musikalischen Erfolg
 e steht die langjährige Leidenschaft der Gruppe für soziale Gerechtigkeit. 
 Genau an dieser Schnittstelle ist Portugal. The Man erfolgreich: Während ih
 rer gesamten Karriere hat die Band immer wieder gezeigt\, wie man sich sowo
 hl der Kunst als auch dem Aktivismus tief verpflichtet fühlt. Dies inspirie
 rte sie schliesslich dazu\, 2020 die Pass The Mic Foundation zu gründen\, d
 ie sich auf universelle Themen im Zusammenhang mit Menschenrechten\, der Ge
 sundheit von Gemeinschaften und der Umwelt konzentriert\, mit einem Schwerp
 unkt auf Anliegen\, die indigene Völker direkt betreffen\, darunter Alaska 
 Native Health (die Bereitstellung von Gesundheitsdienstleistungen höchster 
 Qualität für die Ureinwohner Alaskas) und Seeding Sovereignty (die Radikali
 sierung und Aufbrechung kolonialisierter Räume durch Arbeit in den Bereiche
 n Land\, Körper\, Ernährungssouveränität und mehr). Die Band engagiert sich
  auch für die Sensibilisierung und die Beschaffung wichtiger Gelder für die
  DHDDS-Gemeinschaft durch die Kampagne Frances Changed My Life. Die Kampagn
 e wurde zu Ehren von Gourleys Tochter Frances ins Leben gerufen und zielt d
 arauf ab\, Familien zu unterstützen\, die von DHDDS betroffen sind\, indem 
 sie ihnen hilft\, die emotionale und finanzielle Belastung zu verringern\, 
 die mit seltenen Krankheiten einhergeht. In den letzten Jahren hat die Band
  über eine Million Dollar für beide Wohltätigkeitsorganisationen gesammelt 
 und gespendet.</p><p>Portugal. The Man hat sich auch mit einer Reihe von Or
 ganisationen zusammengetan\, darunter die National Coalition Against Censor
 ship\, The Skatepark Project (das Gemeinden beim Bau öffentlicher Skatepark
 s für Jugendliche in benachteiligten Gemeinden unterstützt)\, March for Our
  Lives (Waffenreform)\, Keep Oregon Well (psychische Gesundheit) und Protec
 t Our Winters (Klimawandel)\, um nur einige zu nennen. Im Jahr 2022 setzte 
 die Band ihr Engagement für den Aktivismus fort und startete die Initiative
  PTM's NIGHT OUT\, die behinderte Fans unterstützt\, die einen barrierefrei
 en Zugang benötigen.</p><p>Zur Unterstützung dieser wichtigen Anliegen hat 
 Portugal. The Man das ganze Jahr über Aktionen geplant! Im Juli Pass the Mi
 c arbeitet mit King Gizzard & The Lizard Wizard für deren Festivaltermine i
 n Colorado zusammen\, und im September findet eine Online-Auktion zur Unter
 stützung von Frances Changed My Life statt\, bei der seltene Erlebnisse mit
  der Band und Freunden\, Erinnerungsstücke und vieles mehr angeboten werden
 !</p><p><span style="color: #c86079\;">Ein <strong>ARTNOIR</strong> Partner
 -Event</span></p>
CATEGORIES:Partner-Event,Pop,Rock
LOCATION:Komplex 457
GEO:47.387269;8.499988
ORGANIZER;CN="JHG Shark":MAILTO:webmaster@jhgshark.ch
URL;VALUE=URI:https://artnoir.ch/events/event/portugal-the-man-2026-11-27/
ATTACH;FMTTYPE=image/png:https://artnoir.ch/wp-content/uploads/2025/09/portugal-the-man-2026-11-27.png
END:VEVENT
BEGIN:VTIMEZONE
TZID:Europe/Zurich
BEGIN:STANDARD
TZOFFSETFROM:+0200
TZOFFSETTO:+0100
DTSTART:20261025T010000
TZNAME:CET
END:STANDARD
END:VTIMEZONE
END:VCALENDAR
