BEGIN:VCALENDAR
VERSION:2.0
PRODID:-//ARTNOIR//NONSGML Events//EN
CALSCALE:GREGORIAN
X-ORIGINAL-URL:https://artnoir.ch/events/event/
X-WR-CALDESC:ARTNOIR - Events
BEGIN:VEVENT
UID:20260321T0331Z-1774063874.0502-EO-262023-1@10.0.9.48
STATUS:CONFIRMED
DTSTAMP:20260423T234337Z
CREATED:20260318T175614Z
LAST-MODIFIED:20260318T175920Z
DTSTART;TZID=Europe/Zurich:20261104T180000
DTEND;TZID=Europe/Zurich:20261104T223000
SUMMARY: Placebo
DESCRIPTION: Placebo\n30TH ANNIVERSARY TOUR Playing songs from Placebo & Wi
 thout You I’m Nothing\n30 Jahre Placebo – die Band kehrt zurück mit Placebo
  RE:CREATED. Mit ihrer PLACEBO 30TH ANNIVERSARY TOUR machen sie einen Halt 
 im Zürcher Hallenstadion am 04.11.2026. Es werden Songs aus Placebo und Wit
 hout You I’m Nothing gespielt. ... [Read more...]
X-ALT-DESC;FMTTYPE=text/html: <p><a href="https://www.placeboworld.co.uk/" 
 rel="noopener" target="_blank">Placebo</a></p><p><strong>30TH ANNIVERSARY T
 OUR Playing songs from Placebo & Without You I’m Nothing</strong></p><p>30 
 Jahre Placebo – die Band kehrt zurück mit Placebo RE:CREATED. Mit ihrer PLA
 CEBO 30TH ANNIVERSARY TOUR machen sie einen Halt im Zürcher Hallenstadion a
 m 04.11.2026. Es werden Songs aus Placebo und Without You I’m Nothing gespi
 elt.</p>
CATEGORIES:Pop,Rock
LOCATION:Hallenstadion
GEO:47.411425;8.551685
ORGANIZER;CN="JHG Shark":MAILTO:webmaster@jhgshark.ch
URL;VALUE=URI:https://artnoir.ch/events/event/placebo-2026-11-04/
ATTACH;FMTTYPE=image/jpeg:https://artnoir.ch/wp-content/uploads/2026/03/placebo-2026-11-04.jpg
END:VEVENT
BEGIN:VTIMEZONE
TZID:Europe/Zurich
BEGIN:STANDARD
TZOFFSETFROM:+0200
TZOFFSETTO:+0100
DTSTART:20261025T010000
TZNAME:CET
END:STANDARD
END:VTIMEZONE
END:VCALENDAR
