BEGIN:VCALENDAR
VERSION:2.0
PRODID:-//ARTNOIR//NONSGML Events//EN
CALSCALE:GREGORIAN
X-ORIGINAL-URL:https://artnoir.ch/events/event/
X-WR-CALDESC:ARTNOIR - Events
BEGIN:VEVENT
UID:20260328T1601Z-1774713705.8018-EO-262284-1@10.0.9.48
STATUS:CONFIRMED
DTSTAMP:20260423T234630Z
CREATED:20260326T175533Z
LAST-MODIFIED:20260326T175652Z
DTSTART;TZID=Europe/Zurich:20260510T191500
DTEND;TZID=Europe/Zurich:20260510T230000
SUMMARY: Patricia Vonne
DESCRIPTION: Patricia Vonne\nZwischen mexikanischem Feuer & amerikanischem 
 Freigeist (!): Die Schöne mit den geilen Kastagnetten\, der atemberaubenden
  Bühnenpräsenz und dem explosiven Latin-Rock ist zurück.\nMüssen wir diese 
 musikalische Femme Fatale wirklich noch vorstellen? Versetzte sie doch unse
 re heiligen Inselmusikhallen schon unzählige Male in seismischen Ausnahmezu
 stand. Latin-Roots und Rockabilly-Seele prallen hier im musikalischen Teilc
 henbeschleuniger vollknall zusammen und setzen gewaltige Kräfte frei\, die 
 dem Publikum in die Scheichen\, Steifhüften und weiss-der-pfeilschiessende-
 Eros-wohin fräsen. ... [Read more...]
X-ALT-DESC;FMTTYPE=text/html: <p><a href="https://www.patriciavonne.com/" r
 el="noopener" target="_blank">Patricia Vonne</a></p><p>Zwischen mexikanisch
 em Feuer & amerikanischem Freigeist (!): Die Schöne mit den geilen Kastagne
 tten\, der atemberaubenden Bühnenpräsenz und dem explosiven Latin-Rock ist 
 zurück.</p><p>Müssen wir diese musikalische Femme Fatale wirklich noch vors
 tellen? Versetzte sie doch unsere heiligen Inselmusikhallen schon unzählige
  Male in seismischen Ausnahmezustand. Latin-Roots und Rockabilly-Seele pral
 len hier im musikalischen Teilchenbeschleuniger vollknall zusammen und setz
 en gewaltige Kräfte frei\, die dem Publikum in die Scheichen\, Steifhüften 
 und weiss-der-pfeilschiessende-Eros-wohin fräsen. Hopeless\, wem diese schw
 arz glühenden Augen aus den Filmen Sin City\, Spy Kids\, Desperado & From D
 usk till Dawn noch kein Begriff sind. Und Vonnes musikalisches Feuerwerk pa
 sst – wie die Machete an die Gangsterkehle – perfekt zu den Kultfilmen ihre
 s Bruders Roberto Rodriguez\, des besseren Tarantinos. Die beiden seien zwe
 i von insgesamt zehn Kindern einer spanischen Gitarristin & eines mexikanis
 chen Schlagzeugers. Puh! Diese Frau haut nicht nur bis an die Zähne bewehrt
 e Machos mit ihren affenscharfen Spielzeugen um\, sondern auch aller Gattig
  Señoritas. Und das gleich reihenweise\, obwohl sie Cherry Darlings Maschin
 engewehrbeinprothese aus Planet Terror auf unseren Weltbedeutungsbrettern e
 cht noch nie ausgepackt hat. 'schwör\, Bro! Die verheerende Durchschlagskra
 ft ihrer Erscheinung\, ihrer Hammermusik & ihrer entzückenden Castagnetten 
 reichen vollkommen.</p><p>Unser Freund Alejandro Escovedo sagt von ihrem Fü
 nftling «Rattle My Cage» (2014)\, es sei ihr allerbestes Album ever. Und da
 s meint er nicht nur\, weil seine Songs sowie solche von Doyle Bramhall\, R
 osie Flores\, Johnny Reno & anderen darauf zu hören sind. Als Rock’n’Roll-C
 inderella sorgte Vonne auch in Montreux schon für ordli Rauch über dem deep
 -purpligen Lac Léman. Ihr aktuell 10tes Album «My Heart's Got A Mind of Its
  Own» kommt im April 26 und vereint all die facetten- wie kastagnettenreich
 en Komponenten\, die Vonne zu einem ausserordentlichen musikalischen Juwel 
 von Texas machen: Variantenreicher Tex-Mex-Rock'n'Roll und Latin-Rock\, Fol
 k und Flamenco. Zwei der Tracks schrieb Vonne für den Film «Switch-up» der 
 Regisseurin Tara Pirnia\, während sie den Titelsong mit keinem Geringeren a
 ls Chris Isaak zusammen verfasste. So wird es denn auf Mississihl Island wi
 eder einmal aus allen Rohren\, Ritzen\, Löchern und Ecken krachen\, blitzen
  und funkeln wie es nur the one and only Patricia Vonn zuwerke bringt. Much
 achas & Gringos\, watch your hot-blooded corazon!</p>
CATEGORIES:Rock
LOCATION:el Lokal
GEO:47.374407;8.533673
ORGANIZER;CN="JHG Shark":MAILTO:webmaster@jhgshark.ch
URL;VALUE=URI:https://artnoir.ch/events/event/patricia-vonne-2026-05-10/
ATTACH;FMTTYPE=image/jpeg:https://artnoir.ch/wp-content/uploads/2026/03/patricia-vonne-2026-05-10.jpg
END:VEVENT
BEGIN:VTIMEZONE
TZID:Europe/Zurich
BEGIN:DAYLIGHT
TZOFFSETFROM:+0100
TZOFFSETTO:+0200
DTSTART:20260329T010000
TZNAME:CEST
END:DAYLIGHT
END:VTIMEZONE
END:VCALENDAR
