BEGIN:VCALENDAR
VERSION:2.0
PRODID:-//ARTNOIR//NONSGML Events//EN
CALSCALE:GREGORIAN
X-ORIGINAL-URL:https://artnoir.ch/events/event/
X-WR-CALDESC:ARTNOIR - Events
BEGIN:VEVENT
UID:20260328T1255Z-1774702526.2235-EO-262215-1@10.0.9.48
STATUS:CONFIRMED
DTSTAMP:20260423T234507Z
CREATED:20260324T195327Z
LAST-MODIFIED:20260324T195446Z
DTSTART;TZID=Europe/Zurich:20261119T190000
DTEND;TZID=Europe/Zurich:20261119T230000
SUMMARY: Our Promise
DESCRIPTION: Our Promise\nOur Promise ist eine deutsche Metalcore-Band aus 
 Stuttgart\, die sich Ende 2020 gegründet hat. Mit zwei Sängern und einer kl
 aren Mischung aus Metalcore\, Hardcore und Pop-Punk haben sie einen unverwe
 chselbaren Sound entwickelt. Ihr Erfolg spricht für sich: Millionen Spotify
 -Streams\, eine stetig wachsende und treue Fangemeinde sowie mitreißende Sh
 ows vor Tausenden von Zuschauern. Sie haben bereits über 16 Länder in Europ
 a und UK erobert und auf großen Festivals wie Wacken\, ... [Read more...]
X-ALT-DESC;FMTTYPE=text/html: <p><a href="https://our-promise.com/" rel="no
 opener" target="_blank">Our Promise</a></p><p>Our Promise ist eine deutsche
  Metalcore-Band aus Stuttgart\, die sich Ende 2020 gegründet hat. Mit zwei 
 Sängern und einer klaren Mischung aus Metalcore\, Hardcore und Pop-Punk hab
 en sie einen unverwechselbaren Sound entwickelt. Ihr Erfolg spricht für sic
 h: Millionen Spotify-Streams\, eine stetig wachsende und treue Fangemeinde 
 sowie mitreißende Shows vor Tausenden von Zuschauern. Sie haben bereits übe
 r 16 Länder in Europa und UK erobert und auf großen Festivals wie Wacken\, 
 Summer Breeze und Impericon bleibenden Eindruck hinterlassen. Schon auf ihr
 er ersten Headliner-Tour waren nahezu alle Konzerte restlos ausverkauft\, e
 in klares Zeichen dafür\, wie tief ihre Musik in die Herzen der Fans trifft
 .</p><p>Mit der bevorstehenden Fearless Tour 2026 steht für Our Promise nun
  der nächste große Schritt an: Endlich übernehmen sie die Bühnen als Headli
 ner\, die sie auf früheren Touren bereits als Support gespielt haben. Getra
 gen von unermüdlicher Kreativität\, einer starken Vision und ungehemmtem Dr
 ive\, sind sie bereit\, sich als eine der bedeutendsten Metalcore-Bands Deu
 tschlands zu etablieren.</p>
CATEGORIES:Metal
LOCATION:KIFF
GEO:47.398757;8.063867
ORGANIZER;CN="JHG Shark":MAILTO:webmaster@jhgshark.ch
URL;VALUE=URI:https://artnoir.ch/events/event/our-promise-2026-11-19/
ATTACH;FMTTYPE=image/jpeg:https://artnoir.ch/wp-content/uploads/2026/03/our-promise-2026-11-19.jpg
END:VEVENT
BEGIN:VTIMEZONE
TZID:Europe/Zurich
BEGIN:STANDARD
TZOFFSETFROM:+0200
TZOFFSETTO:+0100
DTSTART:20261025T010000
TZNAME:CET
END:STANDARD
END:VTIMEZONE
END:VCALENDAR
