BEGIN:VCALENDAR
VERSION:2.0
PRODID:-//ARTNOIR//NONSGML Events//EN
CALSCALE:GREGORIAN
X-ORIGINAL-URL:https://artnoir.ch/events/event/
X-WR-CALDESC:ARTNOIR - Events
BEGIN:VEVENT
UID:20250912T0443Z-1757652188.0274-EO-252802-1@10.0.9.22
STATUS:CONFIRMED
DTSTAMP:20260423T234348Z
CREATED:20250911T061246Z
LAST-MODIFIED:20260309T122638Z
DTSTART;VALUE=DATE:20260731
DTEND;VALUE=DATE:20260802
SUMMARY: Open Air Gränichen
DESCRIPTION: Bands\nInternationale Grössen und starke Schweizer Szene an de
 r 30. Ausgabe\nMit der letzten Bandwelle ist das Line-Up des Open Air Gräni
 chen 2026 vollständig. Zur 30. Ausgabe vereint das Festival erneut internat
 ionale Szenegrössen mit einer kraftvollen Präsenz aus der Schweizer Musikla
 ndschaft. Neben renommierten Acts aus Europa und Übersee setzt das Open Air
  Gränichen bewusst ein starkes Zeichen für nationale Bands und unterstreich
 t damit seine langjährige Verbundenheit mit der hiesigen Szene. ... [Read m
 ore...]
X-ALT-DESC;FMTTYPE=text/html: <p><a href="https://openairgraenichen.ch/band
 s/" rel="noopener" target="_blank">Bands</a></p><p><strong>Internationale G
 rössen und starke Schweizer Szene an der 30. Ausgabe</strong></p><p>Mit der
  letzten Bandwelle ist das Line-Up des Open Air Gränichen 2026 vollständig.
  Zur 30. Ausgabe vereint das Festival erneut internationale Szenegrössen mi
 t einer kraftvollen Präsenz aus der Schweizer Musiklandschaft. Neben renomm
 ierten Acts aus Europa und Übersee setzt das Open Air Gränichen bewusst ein
  starkes Zeichen für nationale Bands und unterstreicht damit seine langjähr
 ige Verbundenheit mit der hiesigen Szene.</p><p>Folgende Bands komplettiere
 n das Line-Up: </p><p><strong>THE SUICIDE MACHINES</strong> (US) - stehen s
 eit den 90er-Jahren für energiegeladenen Ska-Punk mit politischer Haltung u
 nd mitreissender Live-Power</p><p><strong>HALF ME</strong> (DE) -  verbinde
 n modernen Metalcore mit düsteren Atmosphären und kompromissloser Härte  </
 p><p><strong>KAREN DIÓ</strong> (BRA) - bringt rebellischen Punk-Spirit\, P
 op-Affinität und internationale Bühnen­erfahrung nach Gränichen</p><p>Mit <
 strong>ZATOKREV</strong> (CH) erhält die Schweizer Post-Metal-Szene eine ei
 ndrucksvolle Bühne für ihre atmosphärische Wucht</p><p><strong>SICKRET</str
 ong> (CH) - stehen für modernen Nu Metal „made in Switzerland" und internat
 ionale Tourerfahrung  </p><p><strong>HEISSKALT</strong> (DE) - ergänzen das
  Programm mit emotionalem\, deutschsprachigem Rock zwischen Post-Hardcore u
 nd Indie  </p><p>Headliner <strong>HEAVEN SHALL BURN</strong> (DE) zählen z
 u den prägenden Bands des europäischen Extreme Metal und kehren mit ihrer i
 ntensiven Liveshow nach Gränichen zurück  </p><p>Damit präsentiert sich das
  Open Air Gränichen 2026 als Jubiläumsausgabe mit internationaler Strahlkra
 ft und starker nationaler Verankerung – ein Programm\, das Szenevielfalt\, 
 Qualität und Festivaltradition gleichermassen widerspiegelt.. </p><p><span 
 style="color: #c86079\;">Ein <strong>ARTNOIR</strong> Partner-Event</span><
 /p>
CATEGORIES:Metal,Partner-Event,Punk,Rock
LOCATION:Moortal
GEO:47.350370;8.104636
ORGANIZER;CN="JHG Shark":MAILTO:webmaster@jhgshark.ch
URL;VALUE=URI:https://artnoir.ch/events/event/open-air-graenichen-2026/
ATTACH;FMTTYPE=image/jpeg:https://artnoir.ch/wp-content/uploads/2025/09/open-air-graenichen-2026-1-e1773059165161.jpg
END:VEVENT
BEGIN:VTIMEZONE
TZID:Europe/Zurich
BEGIN:DAYLIGHT
TZOFFSETFROM:+0100
TZOFFSETTO:+0200
DTSTART:20260329T010000
TZNAME:CEST
END:DAYLIGHT
END:VTIMEZONE
END:VCALENDAR
