BEGIN:VCALENDAR
VERSION:2.0
PRODID:-//ARTNOIR//NONSGML Events//EN
CALSCALE:GREGORIAN
X-ORIGINAL-URL:https://artnoir.ch/events/event/
X-WR-CALDESC:ARTNOIR - Events
BEGIN:VEVENT
UID:20260403T0737Z-1775201826.2834-EO-262196-1@10.0.9.48
STATUS:CONFIRMED
DTSTAMP:20260423T232550Z
CREATED:20260324T180048Z
LAST-MODIFIED:20260324T180048Z
DTSTART;TZID=Europe/Zurich:20260804T190000
DTEND;TZID=Europe/Zurich:20260804T235900
SUMMARY: Of Mice and Men
DESCRIPTION: Of Mice and Men\n+ Unearth\nDie kalifornische Rockband Of Mice
  & Men (oft abgekürzt OM&M) besteht aus Valentino Arteaga\, Phil Manansala\
 , Alan Ashby und Aaron Pauley. OM&M wurde 2009 von Sänger Austin Carlile un
 d Bassist Jaxin Hall gegründet und hat seitdem mehrere Besetzungswechsel er
 lebt\, aber ihr Hardrock- und Metalcore-Charme ist immer erhalten geblieben
 . Ihr selbstbetiteltes Debütalbum stellte diesen Sound mit Singles wie „SEC
 OND & SEBRING” und „YDG” vor\, ... [Read more...]
X-ALT-DESC;FMTTYPE=text/html: <p><a href="https://www.ofmiceandmenofficial.
 com" rel="noopener" target="_blank">Of Mice and Men</a><br />+ <a href="htt
 ps://www.instagram.com/unearthofficial/" rel="noopener" target="_blank">Une
 arth</a></p><p>Die kalifornische Rockband Of Mice & Men (oft abgekürzt OM&M
 ) besteht aus Valentino Arteaga\, Phil Manansala\, Alan Ashby und Aaron Pau
 ley. OM&M wurde 2009 von Sänger Austin Carlile und Bassist Jaxin Hall gegrü
 ndet und hat seitdem mehrere Besetzungswechsel erlebt\, aber ihr Hardrock- 
 und Metalcore-Charme ist immer erhalten geblieben. Ihr selbstbetiteltes Deb
 ütalbum stellte diesen Sound mit Singles wie „SECOND & SEBRING” und „YDG” v
 or\, und 13 Jahre später wächst die Band mit ihrem achten Album „Tether” we
 iter.</p><p>Tether wurde im Oktober 2023 veröffentlicht und wurde von den L
 ead-Singles „Warpaint“ und „Castaway“ angeführt – beides mosh-taugliche Thr
 asher mit rhythmischer und dynamischer Tiefe. Um die Veröffentlichung zu fe
 iern\, kündigte die Band an\, dass sie im November und Dezember durch Gross
 britannien touren werde\, mit Stationen in London\, Manchester\, Leeds\, No
 ttingham und weiteren Städten. Das Album folgt auf „Echo“ aus dem Jahr 2021
  – ihr erstes Album bei SharpTone Records –\, „EARTHANDSKY“ aus dem Jahr 20
 19 und „Defy“ aus dem Jahr 2018\, das erste Album\, das unter dem neuen Nam
 en der Band veröffentlicht wurde.</p><p>Of Mice & Men sind bekannt für ihre
  treue Fangemeinde\, haben die Billboard Rock Charts angeführt und standen 
 neben Slipknot\, Linkin Park und Metallica auf einigen der grössten Bühnen 
 der Welt.</p>
CATEGORIES:Metal
LOCATION:Dynamo
GEO:47.383312;8.539341
ORGANIZER;CN="Nicole Wild":MAILTO:nic.wild@yahoo.com
URL;VALUE=URI:https://artnoir.ch/events/event/of-mice-and-men-2026-08-04/
ATTACH;FMTTYPE=image/jpeg:https://artnoir.ch/wp-content/uploads/2026/03/of-mice-and-men-2026-08-04.jpeg
END:VEVENT
BEGIN:VTIMEZONE
TZID:Europe/Zurich
BEGIN:DAYLIGHT
TZOFFSETFROM:+0100
TZOFFSETTO:+0200
DTSTART:20260329T010000
TZNAME:CEST
END:DAYLIGHT
END:VTIMEZONE
END:VCALENDAR
