BEGIN:VCALENDAR
VERSION:2.0
PRODID:-//ARTNOIR//NONSGML Events//EN
CALSCALE:GREGORIAN
X-ORIGINAL-URL:https://artnoir.ch/events/event/
X-WR-CALDESC:ARTNOIR - Events
BEGIN:VEVENT
UID:20260312T1524Z-1773329069.8383-EO-261542-1@10.0.9.48
STATUS:CONFIRMED
DTSTAMP:20260423T215313Z
CREATED:20260311T122416Z
LAST-MODIFIED:20260331T193744Z
DTSTART;TZID=Europe/Zurich:20260424T200000
DTEND;TZID=Europe/Zurich:20260425T030000
SUMMARY: Numa Echos
DESCRIPTION: Numa Echos\n+ Jeanne Dark\n+ Afterparty with Guest DJ Dan-Keno
 bi and DJ Grim de Mortem\nOn the 24. of April we open our gates for the fir
 st time at Kaschemme Basel (Lehenmattstrasse 357).\nThe legendary Goth Rock
  project Numa Echos is coming all the way up from Italy to grace us with th
 eir marvellous mix of poetic lyrics over harsh instrumentals.\nAs Support w
 e present you the Post Punk band Jeanne Dark from Zurich. ... [Read more...
 ]
X-ALT-DESC;FMTTYPE=text/html: <p><a href="https://www.instagram.com/numaech
 os/" rel="noopener" target="_blank">Numa Echos</a><br />+ <a href="https://
 www.instagram.com/jeannedarkmusic/" rel="noopener" target="_blank">Jeanne D
 ark</a><br />+ Afterparty with Guest DJ Dan-Kenobi and DJ Grim de Mortem</p
 ><p>On the 24. of April we open our gates for the first time at Kaschemme B
 asel (Lehenmattstrasse 357).</p><p>The legendary Goth Rock project <strong>
 Numa Echos</strong> is coming all the way up from Italy to grace us with th
 eir marvellous mix of poetic lyrics over harsh instrumentals.</p><p>As Supp
 ort we present you the Post Punk band <strong>Jeanne Dark</strong> from Zur
 ich. Their raw and mystical sound carries a lot of Pogo Potential and is pe
 rfect to fire up the Crowd.</p><p>After the Concerts we hope you stay for o
 ur Afterparty with Guest Dj Dan-Kenobi (The B-Side / Formel Events) and new
  resident DJ Grim de Mortem.</p><p>Dance with us to the Dead of Night.</p><
 p>Türöffnung: 20:00 Uhr<br />Jeanne Dark: 21:00 Uhr<br />Numa Echos: 22:00 
 Uhr<br />Afterparty: 23:30 Uhr<br />Ende: 03:00</p>
CATEGORIES:Rock,Wave
LOCATION:Kaschemme
GEO:47.543532;7.620521
ORGANIZER;CN="JHG Shark":MAILTO:webmaster@jhgshark.ch
URL;VALUE=URI:https://artnoir.ch/events/event/numa-echos-2026-04-24/
ATTACH;FMTTYPE=image/jpeg:https://artnoir.ch/wp-content/uploads/2026/03/numa-echos-2026-04-24.jpg
END:VEVENT
BEGIN:VTIMEZONE
TZID:Europe/Zurich
BEGIN:DAYLIGHT
TZOFFSETFROM:+0100
TZOFFSETTO:+0200
DTSTART:20260329T010000
TZNAME:CEST
END:DAYLIGHT
END:VTIMEZONE
END:VCALENDAR
