BEGIN:VCALENDAR
VERSION:2.0
PRODID:-//ARTNOIR//NONSGML Events//EN
CALSCALE:GREGORIAN
X-ORIGINAL-URL:https://artnoir.ch/events/event/
X-WR-CALDESC:ARTNOIR - Events
BEGIN:VEVENT
UID:20251216T1418Z-1765894691.8652-EO-257755-1@10.0.9.48
STATUS:CONFIRMED
DTSTAMP:20260423T221448Z
CREATED:20251212T205651Z
LAST-MODIFIED:20260102T123240Z
DTSTART;TZID=Europe/Zurich:20260417T190000
DTEND;TZID=Europe/Zurich:20260417T235900
SUMMARY: Novelists
DESCRIPTION: Novelists\n+ TSS\n+ vianova\nCODA Tour\nAls Lebensretterin ste
 llten NOVELISTS September 2023 Camille Contreras vor. Bevor die Sängerin al
 s festes Mitglied zur Band stiess\, war selbst das Ende des Projekts eine d
 urchaus realistische Option. Die Entscheidung also\, ausgerechnet mit weibl
 icher Stimme weiterzumachen\, war ein Risiko\, das sich nun bezahlt macht. 
 Denn während sich die Franzosen nach dem Ausstieg ihres langjährigen Frontm
 anns Mattéo Gelsomino mit Nachfolger Tobias Rische etwas orientierungslos z
 eigten\, ... [Read more...]
X-ALT-DESC;FMTTYPE=text/html: <p><a href="https://www.novelists.store" rel=
 "noopener" target="_blank">Novelists</a><br />+ <a href="https://thesundays
 adness.com" rel="noopener" target="_blank">TSS</a><br />+ <a href="https://
 www.instagram.com/vianova.band/" rel="noopener" target="_blank">vianova</a>
 </p><p><strong>CODA Tour</strong></p><p>Als Lebensretterin stellten NOVELIS
 TS September 2023 Camille Contreras vor. Bevor die Sängerin als festes Mitg
 lied zur Band stiess\, war selbst das Ende des Projekts eine durchaus reali
 stische Option. Die Entscheidung also\, ausgerechnet mit weiblicher Stimme 
 weiterzumachen\, war ein Risiko\, das sich nun bezahlt macht. Denn während 
 sich die Franzosen nach dem Ausstieg ihres langjährigen Frontmanns Mattéo G
 elsomino mit Nachfolger Tobias Rische etwas orientierungslos zeigten\, sche
 int die Vision jetzt klar zu sein. Den Synth- und Effekt-Overkill von Déja 
 Vu (2022) fährt das Gespann zurück\, vollzieht den dort bereits angestossen
 en Stilwechsel nun aber ohne weiteres Zögern.</p><p>Mit Camille am Mikro la
 ssen NOVELISTS den Metalcore sowie jegliche progressive Anleihen endgültig 
 hinter sich\, um ihr Glück im modernen Alternative Metal zu suchen. Ein Wag
 nis\, das besser gelingt\, als wir anfangs vermutet hatten: Die geradlinige
 n Strukturen und eingängigen Melodien erlauben schnellen Zugang zum Materia
 l\, das uns kurz darauf mit Detailverliebtheit\, Emotion und Abwechslungsre
 ichtum gefangen nimmt. Nach knapp 40 Minuten ist somit unmissverständlich k
 lar\, dass NOVELISTS im Jahr 2025 schlicht nicht mehr die gleiche Formation
  sind\, die zehn Jahre zuvor das Debüt Souvenirs (2015) aufgenommen hat. Ha
 tte die Band zuletzt aber noch Probleme\, sich voll und ganz auf diese neue
  Ära einzulassen\, verkörpert Coda den Bruch mit der Vergangenheit nun voll
 er Selbstbewusstsein.</p>
CATEGORIES:Metal
LOCATION:KIFF
GEO:47.398757;8.063867
ORGANIZER;CN="Nicole Wild":MAILTO:nic.wild@yahoo.com
URL;VALUE=URI:https://artnoir.ch/events/event/novelists-2026-04-17/
ATTACH;FMTTYPE=image/jpeg:https://artnoir.ch/wp-content/uploads/2025/12/novelists-2026-04-17.jpg
END:VEVENT
BEGIN:VTIMEZONE
TZID:Europe/Zurich
BEGIN:DAYLIGHT
TZOFFSETFROM:+0100
TZOFFSETTO:+0200
DTSTART:20260329T010000
TZNAME:CEST
END:DAYLIGHT
END:VTIMEZONE
END:VCALENDAR
