BEGIN:VCALENDAR
VERSION:2.0
PRODID:-//ARTNOIR//NONSGML Events//EN
CALSCALE:GREGORIAN
X-ORIGINAL-URL:https://artnoir.ch/events/event/
X-WR-CALDESC:ARTNOIR - Events
BEGIN:VEVENT
UID:20260403T0743Z-1775202238.5729-EO-262198-1@10.0.9.48
STATUS:CONFIRMED
DTSTAMP:20260423T234349Z
CREATED:20260324T181117Z
LAST-MODIFIED:20260324T181117Z
DTSTART;TZID=Europe/Zurich:20260810T190000
DTEND;TZID=Europe/Zurich:20260810T235900
SUMMARY: Northlane
DESCRIPTION: Northlane\n+ Stain the Canvas \nNorthlane\, die australische M
 etalcore-Band\, verbindet brachiale Riffs mit atmosphärischen Synthesizern 
 und tiefgründigen Lyrics. Seit ihrer Gründung 2009 haben sie sich mit Alben
  wie Alien und Obsidian stetig weiterentwickelt und neue musikalische Wege 
 eingeschlagen. Ihre ehrlichen Texte thematisieren persönliche und gesellsch
 aftliche Herausforderungen\, während ihr Sound Grenzen zwischen Metalcore\,
  Industrial und elektronischer Musik verschwimmen lässt. Northlane zählt lä
 ngst zu den prägenden Stimmen der modernen Heavy-Musik – intensiv\, ... [Re
 ad more...]
X-ALT-DESC;FMTTYPE=text/html: <p><a href="https://northlaneband.com" rel="n
 oopener" target="_blank">Northlane</a><br />+ <a href="https://stainthecanv
 asofficial.com" rel="noopener" target="_blank">Stain the Canvas </a><br />N
 orthlane\, die australische Metalcore-Band\, verbindet brachiale Riffs mit 
 atmosphärischen Synthesizern und tiefgründigen Lyrics. Seit ihrer Gründung 
 2009 haben sie sich mit Alben wie Alien und Obsidian stetig weiterentwickel
 t und neue musikalische Wege eingeschlagen. Ihre ehrlichen Texte thematisie
 ren persönliche und gesellschaftliche Herausforderungen\, während ihr Sound
  Grenzen zwischen Metalcore\, Industrial und elektronischer Musik verschwim
 men lässt. Northlane zählt längst zu den prägenden Stimmen der modernen Hea
 vy-Musik – intensiv\, emotional und kompromisslos.</p>
CATEGORIES:Metal
LOCATION:KIFF
GEO:47.398757;8.063867
ORGANIZER;CN="Nicole Wild":MAILTO:nic.wild@yahoo.com
URL;VALUE=URI:https://artnoir.ch/events/event/northlane-2026-08-10/
ATTACH;FMTTYPE=image/jpeg:https://artnoir.ch/wp-content/uploads/2026/03/northlane-2026-08-10.jpg
END:VEVENT
BEGIN:VTIMEZONE
TZID:Europe/Zurich
BEGIN:DAYLIGHT
TZOFFSETFROM:+0100
TZOFFSETTO:+0200
DTSTART:20260329T010000
TZNAME:CEST
END:DAYLIGHT
END:VTIMEZONE
END:VCALENDAR
