BEGIN:VCALENDAR
VERSION:2.0
PRODID:-//ARTNOIR//NONSGML Events//EN
CALSCALE:GREGORIAN
X-ORIGINAL-URL:https://artnoir.ch/events/event/
X-WR-CALDESC:ARTNOIR - Events
BEGIN:VEVENT
UID:20260403T0809Z-1775203767.5744-EO-262128-1@10.0.9.48
STATUS:CONFIRMED
DTSTAMP:20260424T011110Z
CREATED:20260323T052520Z
LAST-MODIFIED:20260323T191345Z
DTSTART;TZID=Europe/Zurich:20261103T190000
DTEND;TZID=Europe/Zurich:20261103T223000
SUMMARY: No Cigar
DESCRIPTION: No Cigar\nDie neuseeländische Indie-Rock-Band NO CIGAR aus Auc
 kland begeistert mit einer lässigen Mischung aus Soul\, Indie-Rock und warm
 en Surf-Vibes. Die fünfköpfige Formation rund um Willy Ferrier verbindet en
 tspannte Grooves mit hymnischen Refrains und einer spürbaren DIY-Attitüde –
  Musik\, die gleichzeitig nach Roadtrip\, Sonnenuntergang und verschwitztem
  Clubkonzert klingt.\nSeit ihrer Gründung hat sich die Band mit drei Studio
 alben und unermüdlichem Touring eine stetig wachsende internationale Fangem
 einde erspielt – von Neuseeland über Grossbritannien bis in die USA und nac
 h Europa. ... [Read more...]
X-ALT-DESC;FMTTYPE=text/html: <p><a href="https://www.instagram.com/nocigar
 music/" target="_blank" rel="noopener">No Cigar</a></p><p>Die neuseeländisc
 he Indie-Rock-Band NO CIGAR aus Auckland begeistert mit einer lässigen Misc
 hung aus Soul\, Indie-Rock und warmen Surf-Vibes. Die fünfköpfige Formation
  rund um Willy Ferrier verbindet entspannte Grooves mit hymnischen Refrains
  und einer spürbaren DIY-Attitüde – Musik\, die gleichzeitig nach Roadtrip\
 , Sonnenuntergang und verschwitztem Clubkonzert klingt.</p><p>Seit ihrer Gr
 ündung hat sich die Band mit drei Studioalben und unermüdlichem Touring ein
 e stetig wachsende internationale Fangemeinde erspielt – von Neuseeland übe
 r Grossbritannien bis in die USA und nach Europa. Ihre Shows sind bekannt f
 ür ihren unverkennbaren Flow zwischen laid-back Coolness und explosiver Liv
 e-Dynamik.</p><p>Das 2025 veröffentlichte Album "Under The Surface" entstan
 d grösstenteils im französischen Chantilly\, wo die Band während ihrer Euro
 patour 2023 probte\, schrieb und aufnahm. Die Songs spiegeln die Erfahrunge
 n des Unterwegsseins wider – zwischen Heimweh\, Fernweh und der Suche nach 
 dem\, was unter der Oberfläche liegt. Fertiggestellt wurde das Album währen
 d der anschliessenden Neuseeland-Tour mit Produzent Connor Jaine.</p><p>Nac
 h ausverkauften Tourneen in Grossbritannien und Neuseeland dürfen wir NO CI
 GAR 2026 erstmals in der Schweiz willkommen heissen!</p>
CATEGORIES:Rock
LOCATION:Albani
GEO:47.498426;8.729203
ORGANIZER;CN="Christian Wölbitsch":MAILTO:info@cd-photography.net
URL;VALUE=URI:https://artnoir.ch/events/event/no-cigar-2026-11-03/
ATTACH;FMTTYPE=image/png:https://artnoir.ch/wp-content/uploads/2026/03/no-cigar-2026-11-03.png
END:VEVENT
BEGIN:VTIMEZONE
TZID:Europe/Zurich
BEGIN:STANDARD
TZOFFSETFROM:+0200
TZOFFSETTO:+0100
DTSTART:20261025T010000
TZNAME:CET
END:STANDARD
END:VTIMEZONE
END:VCALENDAR
