BEGIN:VCALENDAR
VERSION:2.0
PRODID:-//ARTNOIR//NONSGML Events//EN
CALSCALE:GREGORIAN
X-ORIGINAL-URL:https://artnoir.ch/events/event/
X-WR-CALDESC:ARTNOIR - Events
BEGIN:VEVENT
UID:20260403T0808Z-1775203702.8265-EO-262546-1@10.0.9.48
STATUS:CONFIRMED
DTSTAMP:20260423T234653Z
CREATED:20260331T185630Z
LAST-MODIFIED:20260403T115948Z
DTSTART;TZID=Europe/Zurich:20260705T193000
DTEND;TZID=Europe/Zurich:20260705T235900
SUMMARY: Nick Cave & The Bad Seeds
DESCRIPTION: Nick Cave & The Bad Seeds\n+ Aldous Harding\nNick Cave\, meist
 erhafter Dichter und Bühnenbiest\, gehört zusammen mit seinen treuen Soundk
 ünstlern zu einer seltenen Klasse\, die Jahrzehnte überdauert\, ohne auch n
 ur einen Hauch an Relevanz oder Intensität zu einzubüssen. Von From Her To 
 Eternity\, dem ersten Meisterwerk voller Abgründe aus dem Jahr 1984\, bis h
 in zu Wild God\, dem hellen Zauber aus dem Jahr 2024\, ... [Read more...]
X-ALT-DESC;FMTTYPE=text/html: <p><a href="https://www.nickcave.com/" rel="n
 oopener" target="_blank">Nick Cave & The Bad Seeds</a><br />+ <a href="http
 s://www.aldousharding.com/" rel="noopener" target="_blank">Aldous Harding</
 a></p><p><strong>Nick Cave</strong>\, meisterhafter Dichter und Bühnenbiest
 \, gehört zusammen mit seinen treuen Soundkünstlern zu einer seltenen Klass
 e\, die Jahrzehnte überdauert\, ohne auch nur einen Hauch an Relevanz oder 
 Intensität zu einzubüssen. Von From Her To Eternity\, dem ersten Meisterwer
 k voller Abgründe aus dem Jahr 1984\, bis hin zu Wild God\, dem hellen Zaub
 er aus dem Jahr 2024\, weist die Diskografie der Bad Seeds keine Schwächen 
 auf und wechselt kompromisslos zwischen organischen Balladen und schrillen 
 Klangausbrüchen. Auf der Bühne begeistert Nick Cave die Massen wie kein and
 erer. Im Jahr 2018 verzauberte sein epischer Auftritt in Montreux das Audit
 orium Stravinski: Dem Showman mit der dunklen Stimme gelang es\, das Publik
 um so zu verzaubern\, dass es auf dem Boden Platz nahm. Diesen Sommer freut
  sich das Festival erneut auf seinen Guru.</p><p>Zugleich engelsgleich und 
 von einer unheimlichen Aura durchzogen: Die Stimme der rätselhaften Neuseel
 änderin <strong>Aldous Harding</strong> fesselt die Indie-Szene seit über e
 inem Jahrzehnt. Zwischen introspektivem Folk und psychedelischem Pop bewegt
  sie sich gegen das Licht und lässt dabei entwaffnend schlichte Melodien au
 fscheinen – in der Tradition von Vashti Bunyan\, Nick Drake oder einem Neil
  Young zur Zeit von On the Beach. Ihre Texte\, mal berührend\, mal humorvol
 l\, mal geheimnisvoll\, unterlaufen Klischees mit seltener Raffinesse. Seit
  ihren Anfängen produziert von John Parish\, langjährigem Weggefährten von 
 PJ Harvey\, veröffentlicht sie am 8. Mai 2026 ihr fünftes Album Train on th
 e Island.</p>
CATEGORIES:Rock
LOCATION:Auditorium Stravinski
GEO:46.432291;6.910250
ORGANIZER;CN="JHG Shark":MAILTO:webmaster@jhgshark.ch
URL;VALUE=URI:https://artnoir.ch/events/event/nick-cave-and-the-bad-seeds-2
 026-07-05/
ATTACH;FMTTYPE=image/jpeg:https://artnoir.ch/wp-content/uploads/2026/03/nick-cave-and-the-bad-seeds-2026-07-05.jpg
END:VEVENT
BEGIN:VTIMEZONE
TZID:Europe/Zurich
BEGIN:DAYLIGHT
TZOFFSETFROM:+0100
TZOFFSETTO:+0200
DTSTART:20260329T010000
TZNAME:CEST
END:DAYLIGHT
END:VTIMEZONE
END:VCALENDAR
