BEGIN:VCALENDAR
VERSION:2.0
PRODID:-//ARTNOIR//NONSGML Events//EN
CALSCALE:GREGORIAN
X-ORIGINAL-URL:https://artnoir.ch/events/event/
X-WR-CALDESC:ARTNOIR - Events
BEGIN:VEVENT
UID:20260401T0308Z-1775012924.8314-EO-262075-1@10.0.9.48
STATUS:CONFIRMED
DTSTAMP:20260423T232516Z
CREATED:20260321T165924Z
LAST-MODIFIED:20260321T165924Z
DTSTART;TZID=Europe/Zurich:20260723T190000
DTEND;TZID=Europe/Zurich:20260723T223000
SUMMARY: Municipal Waste
DESCRIPTION: Municipal Waste\n+ Pig Sweat\nCrossover Thrash Metal in Zürich
 \nThrash muss dir die Luft aus den Lungen prügeln\, dich halb ramponiert un
 d vielleicht leicht angetrunken zurücklassen – idealerweise in einer ausgef
 ransten Jeansweste voller unlesbarer Patches. Genau dieses Gefühl liefern M
 unicipal Waste am Donnerstag\, 23. Juli 2026\, wenn sie als eine der prägen
 dsten Thrash-Bands des 21. Jahrhunderts das Dynamo Zürich in einen Abrissco
 ntainer verwandeln. ... [Read more...]
X-ALT-DESC;FMTTYPE=text/html: <p><a href="https://www.municipalwaste.net/" 
 rel="noopener" target="_blank">Municipal Waste</a><br />+ <a href="https://
 www.instagram.com/pigsweat_hc/" rel="noopener" target="_blank">Pig Sweat</a
 ></p><p><strong>Crossover Thrash Metal in Zürich</strong></p><p>Thrash muss
  dir die Luft aus den Lungen prügeln\, dich halb ramponiert und vielleicht 
 leicht angetrunken zurücklassen – idealerweise in einer ausgefransten Jeans
 weste voller unlesbarer Patches. Genau dieses Gefühl liefern Municipal Wast
 e am Donnerstag\, 23. Juli 2026\, wenn sie als eine der prägendsten Thrash-
 Bands des 21. Jahrhunderts das Dynamo Zürich in einen Abrisscontainer verwa
 ndeln.</p><p>Seit 2001 steht das Quintett aus Richmond\, Virginia für ungeb
 remste Energie\, rasende Gitarrenattacken und Shows\, die sich anfühlen wie
  eine ausgelassene Mischung aus Punk-Party und metallischer Abrissbirne. Ih
 re Alben\, allen voran The Art of Partying und Hazardous Mutation – gelten 
 als moderne Klassiker\, die dem Genre frischen Wind verliehen haben.</p><p>
 Mit Electrified Brain legten Municipal Waste 2022 ein Album vor\, das ihren
  Status eindrucksvoll festigt. Ein Werk\, das mit besonders druckvollem Sou
 nd\, präzise gesetzten Breaks und Songs voller Wucht überzeugt. Tracks wie 
 Grave Dive und High Speed Steel stehen exemplarisch für die explosive Misch
 ung\, die die Band seit über zwei Jahrzehnten kultiviert. 2024 veröffentlic
 hten Municipal Waste ihr Album Tango & Thrash neu. Ursprünglich war es 2002
  als Split mit ihren Genrekollegen Bad Acid Trip erschienen und stellte ein
 e Referenz an den 1989er-Film Tango & Cash mit Kurt Russell dar.</p><p>Live
  zünden Municipal Waste die volle Ladung: treibende Riffs\, rasendes Tempo\
 , furiose Drums und ein Publikum\, das spätestens beim ersten Downstroke ko
 mplett ausrastet – genau das Fest\, das alle echten Thrash-Maniacs verdiene
 n.</p><p>Vor Ort nur Cashless-Zahlung.</p>
CATEGORIES:Metal
LOCATION:Dynamo
GEO:47.383312;8.539341
ORGANIZER;CN="JHG Shark":MAILTO:webmaster@jhgshark.ch
URL;VALUE=URI:https://artnoir.ch/events/event/municipal-waste-2026-07-23/
ATTACH;FMTTYPE=image/jpeg:https://artnoir.ch/wp-content/uploads/2026/03/municipal-waste-2026-07-23.jpg
END:VEVENT
BEGIN:VTIMEZONE
TZID:Europe/Zurich
BEGIN:DAYLIGHT
TZOFFSETFROM:+0100
TZOFFSETTO:+0200
DTSTART:20260329T010000
TZNAME:CEST
END:DAYLIGHT
END:VTIMEZONE
END:VCALENDAR
