BEGIN:VCALENDAR
VERSION:2.0
PRODID:-//ARTNOIR//NONSGML Events//EN
CALSCALE:GREGORIAN
X-ORIGINAL-URL:https://artnoir.ch/events/event/
X-WR-CALDESC:ARTNOIR - Events
BEGIN:VEVENT
UID:20260422T0608Z-1776838082.7431-EO-263253-1@10.0.9.48
STATUS:CONFIRMED
DTSTAMP:20260423T231838Z
CREATED:20260419T123446Z
LAST-MODIFIED:20260419T123446Z
DTSTART;TZID=Europe/Zurich:20270203T190000
DTEND;TZID=Europe/Zurich:20270203T235900
SUMMARY: MONO
DESCRIPTION: MONO\nSNOWDROP EUROPEAN TOUR 2027\nDas ist Musik für Gott*inne
 n! Freude und Trauer\, Licht und Dunkelheit\, Leben und Tod\, all das zur g
 leichen Zeit spielt MONO und zwar seit 1999! Instrumentaler Rock direkt aus
  Tokyo\, die wohl international erfolgreichste Band Japans zum zweiten Mal 
 im Dachstock ... [Read more...]
X-ALT-DESC;FMTTYPE=text/html: <p><a href="https://www.monoofjapan.com" rel=
 "noopener" target="_blank">MONO</a></p><p>SNOWDROP EUROPEAN TOUR 2027<br />
 Das ist Musik für Gott*innen! Freude und Trauer\, Licht und Dunkelheit\, Le
 ben und Tod\, all das zur gleichen Zeit spielt MONO und zwar seit 1999! Ins
 trumentaler Rock direkt aus Tokyo\, die wohl international erfolgreichste B
 and Japans zum zweiten Mal im Dachstock</p>
CATEGORIES:Rock
LOCATION:Dachstock
GEO:46.953177;7.440255
ORGANIZER;CN="Nicole Wild":MAILTO:nic.wild@yahoo.com
URL;VALUE=URI:https://artnoir.ch/events/event/mono-2027-02-03/
ATTACH;FMTTYPE=image/jpeg:https://artnoir.ch/wp-content/uploads/2026/04/mono-2027-02-03.jpg
END:VEVENT
BEGIN:VTIMEZONE
TZID:Europe/Zurich
BEGIN:STANDARD
TZOFFSETFROM:+0200
TZOFFSETTO:+0100
DTSTART:20261025T010000
TZNAME:CET
END:STANDARD
END:VTIMEZONE
END:VCALENDAR
