BEGIN:VCALENDAR
VERSION:2.0
PRODID:-//ARTNOIR//NONSGML Events//EN
CALSCALE:GREGORIAN
X-ORIGINAL-URL:https://artnoir.ch/events/event/
X-WR-CALDESC:ARTNOIR - Events
BEGIN:VEVENT
UID:20260402T2028Z-1775161681.7677-EO-262548-1@10.0.9.48
STATUS:CONFIRMED
DTSTAMP:20260423T215141Z
CREATED:20260331T190903Z
LAST-MODIFIED:20260403T115835Z
DTSTART;TZID=Europe/Zurich:20260715T193000
DTEND;TZID=Europe/Zurich:20260715T235900
SUMMARY: Moby
DESCRIPTION: Moby\n+ Noga Erez\nEs wird ein grosses Ereignis sein\, wenn Mo
 by diesen Sommer zum ersten Mal in Montreux auftritt. Vor einem Vierteljahr
 hundert revolutionierte der New Yorker Künstler die weltweite Musikszene mi
 t seinem Album Play\, das sich 12 Millionen Mal verkaufte. Diese bahnbreche
 nde Platte\, eine Synthese aus Elektro\, Blues\, Gospel und Soul\, ist ange
 reichert mit Stimmen\, die Alan Lomax zu Beginn des 20. Jahrhunderts gesamm
 elt hatte. ... [Read more...]
X-ALT-DESC;FMTTYPE=text/html: <p><a href="https://moby.com/" rel="noopener"
  target="_blank">Moby</a><br />+ <a href="https://www.nogaerez.com/" rel="n
 oopener" target="_blank">Noga Erez</a></p><p>Es wird ein grosses Ereignis s
 ein\, wenn <strong>Moby</strong> diesen Sommer zum ersten Mal in Montreux a
 uftritt. Vor einem Vierteljahrhundert revolutionierte der New Yorker Künstl
 er die weltweite Musikszene mit seinem Album Play\, das sich 12 Millionen M
 al verkaufte. Diese bahnbrechende Platte\, eine Synthese aus Elektro\, Blue
 s\, Gospel und Soul\, ist angereichert mit Stimmen\, die Alan Lomax zu Begi
 nn des 20. Jahrhunderts gesammelt hatte. Sie eröffnete der elektronischen M
 usik neue Horizonte und wurde sofort zum Soundtrack einer ganzen Generation
 . Der Popstar\, der sich entschieden für Tierrechte einsetzt\, hat für so u
 nterschiedliche Künstler wie David Bowie\, Public Enemy oder Daft Punk prod
 uziert und remixt. 2026 stellt Moby Future Quiet\, ein minimalistisches Alb
 um\, vor\, mit dem Sie der Welt entfliehen können. Es wird in Montreux in e
 inem Live-Konzert präsentiert\, das meditative Passagen\, immersive visuell
 e Effekte\, klassische Raves und weltweite Hits vereint.</p><p>2017. Die Sä
 ngerin und Rapperin sorgte mit Off the Radar für Furore – einem Album mit w
 ütendem Flow und globalisierten Beats. Sofort waren wir von dieser freigeis
 tigen und frechen Künstlerin begeistert. Nur weniger als ein Jahrzehnt spät
 er präsentiert sich <strong>Noga Erez</strong> heute vielseitig und entschl
 ossen engagiert (z. B. mit dem provokanten Song «Dance While You Shoot») ir
 gendwo zwischen den düsteren Ausbrüchen von Billie Eilish\, der Kühnheit vo
 n Gorillaz und den verrückten Ausflügen von Flying Lotus. Als aussergewöhnl
 iche Performerin stellt die Autorin von «Bubbling» beim Festival nun zum er
 sten Mal ihre frostige und elegante Ästhetik vor – nichts für schwache Nerv
 en.</p>
CATEGORIES:Electro
LOCATION:Auditorium Stravinski
GEO:46.432291;6.910250
ORGANIZER;CN="JHG Shark":MAILTO:webmaster@jhgshark.ch
URL;VALUE=URI:https://artnoir.ch/events/event/moby-2026-07-15/
ATTACH;FMTTYPE=image/jpeg:https://artnoir.ch/wp-content/uploads/2026/03/moby-2026-07-15.jpg
END:VEVENT
BEGIN:VTIMEZONE
TZID:Europe/Zurich
BEGIN:DAYLIGHT
TZOFFSETFROM:+0100
TZOFFSETTO:+0200
DTSTART:20260329T010000
TZNAME:CEST
END:DAYLIGHT
END:VTIMEZONE
END:VCALENDAR
