BEGIN:VCALENDAR
VERSION:2.0
PRODID:-//ARTNOIR//NONSGML Events//EN
CALSCALE:GREGORIAN
X-ORIGINAL-URL:https://artnoir.ch/events/event/
X-WR-CALDESC:ARTNOIR - Events
BEGIN:VEVENT
UID:20250528T1813Z-1748456000.9716-EO-246628-1@10.0.9.22
STATUS:CONFIRMED
DTSTAMP:20260424T000628Z
CREATED:20250522T175614Z
LAST-MODIFIED:20260220T140310Z
DTSTART;TZID=Europe/Zurich:20260527T173000
DTEND;TZID=Europe/Zurich:20260527T223000
SUMMARY: Metallica
DESCRIPTION: Metallica\n+ Gojira\n+ Knocked Loose\nMetallica wird ihre reko
 rdverdächtige M72 WORLD TOUR in ihr viertes Jahr verlängern und kündigt 16 
 Shows in Europa und Grossbritannien an\, die im Mai\, Juni und Juli 2026 st
 attfinden. Im Mai 2026 wird Metallica Stadionshows in Frankfurt\, Zürich un
 d Berlin spielen.\nSeit dem Tourstart im April 2023 in Amsterdam haben rund
  vier Millionen Fans Metallica live erlebt. ... [Read more...]
X-ALT-DESC;FMTTYPE=text/html: <p><a href="https://www.metallica.com/" rel="
 noopener" target="_blank">Metallica</a><br />+ <a href="https://www.gojira-
 music.com" rel="noopener" target="_blank">Gojira</a><br />+ <a href="https:
 //knockedloose.com/" rel="noopener" target="_blank">Knocked Loose</a></p><p
 >Metallica wird ihre rekordverdächtige M72 WORLD TOUR in ihr viertes Jahr v
 erlängern und kündigt 16 Shows in Europa und Grossbritannien an\, die im Ma
 i\, Juni und Juli 2026 stattfinden. Im Mai 2026 wird Metallica Stadionshows
  in Frankfurt\, Zürich und Berlin spielen.</p><p>Seit dem Tourstart im Apri
 l 2023 in Amsterdam haben rund vier Millionen Fans Metallica live erlebt. D
 ie M72 WORLD TOUR wurde unter anderem als „ein durch und durch lebensbejahe
 ndes Erlebnis“ (Billboard)\, „unbestreitbar episch“ (Metal Hammer)\, „eine 
 absolut beeindruckende Show“ (Detroit News)\, „triomphal“ (Kerrang!) und „s
 o kraftvoll und präzise wie seit Jahren nicht mehr“ (Los Angeles Times) gef
 eiert. Metallica begeistert weiterhin Fans und Kritiker gleichermassen.</p>
 <p>Die Europa/UK-Etappe 2026 der M72 WORLD TOUR setzt die gefeierte No Repe
 at Weekend-Tradition mit zwei komplett unterschiedlichen Setlists und Suppo
 rt-Acts an aufeinanderfolgenden Konzertabenden fort. Seit der World Magneti
 c Tour 2009 zählen dazu erste Auftritte am 22. + 24. Mai in Frankfurt (Deut
 sche Bank Arena)\, am 11. + 13. Juni in Budapest\, am 19. + 21. Juni in Dub
 lin sowie am 3. + 5. Juli in London.</p><p>Darüber hinaus bringt M72 die vo
 llständige Produktion – inklusive der beeindruckenden 360°-Bühne – auch zu 
 Einzelshows in folgende Städte: Athen (9. Mai)\, Bucharest (13. Mai)\, Chor
 zów (19. Mai)\, Zürich (27. Mai)\, Berlin (30. Mai)\, Bologna (3. Juni)\, G
 lasgow (25. Juni) und Cardiff (28. Juni).</p><p>Die M72 WORLD TOUR 2026 wir
 d von Live Nation produziert. Wie immer fliesst ein Teil der Einnahmen aus 
 jedem Ticketverkauf an lokale Wohltätigkeitsorganisationen über Metallicas 
 Stiftung „All Within My Hands“. Diese wurde 2017 gegründet\, um den Gemeins
 chaften etwas zurückzugeben\, die Metallica über die Jahre unterstützt habe
 n. Seitdem wurden über 20 Millionen US-Dollar gesammelt – darunter 11\,4 Mi
 llionen USD für Berufs- und technische Bildungsprogramme wie die bahnbreche
 nde Metallica Scholars Initiative (jetzt im siebten Jahr)\, über 7\,4 Milli
 onen USD zur Bekämpfung von Ernährungsunsicherheit und mehr als 4\,7 Millio
 nen USD für Katastrophenhilfsmassnahmen.</p>
CATEGORIES:Metal
LOCATION:Stadion Letzigrund
GEO:47.382960;8.502802
ORGANIZER;CN="Nicole Wild":MAILTO:nic.wild@yahoo.com
URL;VALUE=URI:https://artnoir.ch/events/event/metallica-2026-05-27/
ATTACH;FMTTYPE=image/jpeg:https://artnoir.ch/wp-content/uploads/2025/05/metallica-2026-05-27.jpg
END:VEVENT
BEGIN:VTIMEZONE
TZID:Europe/Zurich
BEGIN:DAYLIGHT
TZOFFSETFROM:+0100
TZOFFSETTO:+0200
DTSTART:20260329T010000
TZNAME:CEST
END:DAYLIGHT
END:VTIMEZONE
END:VCALENDAR
