BEGIN:VCALENDAR
VERSION:2.0
PRODID:-//ARTNOIR//NONSGML Events//EN
CALSCALE:GREGORIAN
X-ORIGINAL-URL:https://artnoir.ch/events/event/
X-WR-CALDESC:ARTNOIR - Events
BEGIN:VEVENT
UID:20260222T0130Z-1771723845.015-EO-260674-1@10.0.9.48
STATUS:CONFIRMED
DTSTAMP:20260423T232543Z
CREATED:20260219T110012Z
LAST-MODIFIED:20260219T154111Z
DTSTART;TZID=Europe/Zurich:20261119T190000
DTEND;TZID=Europe/Zurich:20261119T223000
SUMMARY: Messa
DESCRIPTION: Messa\nThe Spin\nAtmosphärischer Doom Metal trifft auf Jazz\, 
 Punk und Prog. Die italienische Band Messa geht zum ersten Mal auf ausgedeh
 nte Europatournee\, mit im Gepäck haben sie ihr aktuelles Album The Spin. A
 m Donnerstag\, 19. November 2026 macht das Quartett Halt im Dynamo Zürich.\
 nMit The Spin präsentieren Messa ihr viertes Studioalbum und setzen damit e
 in eindrucksvolles Ausrufezeichen in ihrer mittlerweile über zehnjährigen B
 andgeschichte. ... [Read more...]
X-ALT-DESC;FMTTYPE=text/html: <p><a href="https://www.instagram.com/messa_b
 and/" rel="noopener" target="_blank">Messa</a></p><p><strong>The Spin</stro
 ng></p><p>Atmosphärischer Doom Metal trifft auf Jazz\, Punk und Prog. Die i
 talienische Band Messa geht zum ersten Mal auf ausgedehnte Europatournee\, 
 mit im Gepäck haben sie ihr aktuelles Album The Spin. Am Donnerstag\, 19. N
 ovember 2026 macht das Quartett Halt im Dynamo Zürich.</p><p>Mit The Spin p
 räsentieren Messa ihr viertes Studioalbum und setzen damit ein eindrucksvol
 les Ausrufezeichen in ihrer mittlerweile über zehnjährigen Bandgeschichte. 
 In dieser Zeit hat die Band ein modern-nostalgisches Klangbild entwickelt\,
  mit originalem 80er-Equipment\, analogen Synthesizern und einer bewusst re
 duzierten\, pointierten Songstruktur. Ihr charakteristischer «Scarlet Doom»
 -Sound wird nun um neue Nuancen erweitert und verbindet düstere Schwere mit
  cineastischer Weite. Sängerin Sara Bianchin zeigt dabei ihre bislang eindr
 inglichste Performance: persönlich\, verletzlich und zugleich kraftvoll.</p
 ><p>Bereits im vergangenen Herbst begeisterte die Band als Support von Para
 dise Lost ein breites Publikum auf dem europäischen Kontinent. Aktuell spie
 len Messa zahlreiche ausverkaufte Shows in ihrer Heimat Italien. «Wir freue
 n uns sehr\, unsere erste EU/UK-Headlinetour nach der Veröffentlichung von 
 The Spin anzukündigen. Wir können es kaum erwarten\, euch zu sehen und für 
 euch zu spielen!»\, so Sara Bianchin.</p><p>Im Dynamo Zürich erwartet das P
 ublikum ein intensiver\, atmosphärisch dichter Konzertabend – ein musikalis
 cher Sog zwischen Melancholie und eruptiver Wucht.</p><p>Jetzt Tickets via 
 ticketcorner.ch sichern. </p><p><span style="color: #c86079\;">Ein <strong>
 ARTNOIR</strong> Partner-Event</span></p>
CATEGORIES:Metal,Partner-Event,Progressive
LOCATION:Dynamo
GEO:47.383312;8.539341
ORGANIZER;CN="JHG Shark":MAILTO:webmaster@jhgshark.ch
URL;VALUE=URI:https://artnoir.ch/events/event/messa-2026-11-19/
ATTACH;FMTTYPE=image/jpeg:https://artnoir.ch/wp-content/uploads/2026/02/messa-2026-11-19.jpg
END:VEVENT
BEGIN:VTIMEZONE
TZID:Europe/Zurich
BEGIN:STANDARD
TZOFFSETFROM:+0200
TZOFFSETTO:+0100
DTSTART:20261025T010000
TZNAME:CET
END:STANDARD
END:VTIMEZONE
END:VCALENDAR
