BEGIN:VCALENDAR
VERSION:2.0
PRODID:-//ARTNOIR//NONSGML Events//EN
CALSCALE:GREGORIAN
X-ORIGINAL-URL:https://artnoir.ch/events/event/
X-WR-CALDESC:ARTNOIR - Events
BEGIN:VEVENT
UID:20251125T0139Z-1764034784.4341-EO-256817-1@10.0.9.48
STATUS:CONFIRMED
DTSTAMP:20260424T003601Z
CREATED:20251123T132736Z
LAST-MODIFIED:20260405T115411Z
DTSTART;TZID=Europe/Zurich:20260925T190000
DTEND;TZID=Europe/Zurich:20260925T235900
SUMMARY: Merciful Nuns – ** ABGESAGT **
DESCRIPTION: ​Leider müssen wir euch heute mitteilen\, dass die geplanten T
 ermine der Solar Lodge Convention in Aarau und Modena nicht wie geplant sta
 ttfinden können. ​Trotz intensiver Bemühungen aller Beteiligten sind wir au
 f unüberwindbare logistische Hindernisse gestoßen. Die Koordination des Tra
 nsports für die drei Bands Merciful Nuns\, Sweet Ermengarde und Your Life O
 n Hold sowie des gesamten Equipments ist für diese beiden Standorte auch vo
 r dem Hintergrund des bisher schleppend Kartenvorverkaufs finanziell nicht 
 realisierbar. Da wir keine halben Sachen machen wollen und euch die volle E
 xperience der Convention schuldig sind\, ... [Read more...]
X-ALT-DESC;FMTTYPE=text/html: <p>​Leider müssen wir euch heute mitteilen\, 
 dass die geplanten Termine der Solar Lodge Convention in Aarau und Modena n
 icht wie geplant stattfinden können. ​Trotz intensiver Bemühungen aller Bet
 eiligten sind wir auf unüberwindbare logistische Hindernisse gestoßen. Die 
 Koordination des Transports für die drei Bands Merciful Nuns\, Sweet Ermeng
 arde und Your Life On Hold sowie des gesamten Equipments ist für diese beid
 en Standorte auch vor dem Hintergrund des bisher schleppend Kartenvorverkau
 fs finanziell nicht realisierbar. Da wir keine halben Sachen machen wollen 
 und euch die volle Experience der Convention schuldig sind\, blieb uns leid
 er nur dieser schwere Schritt.</p><p>Wichtige Hinweise: Ticket-Erstattung: 
 Ihr müsst nicht selbst aktiv werden. Alle für Aarau und Modena gekauften Ti
 ckets werden in den nächsten Tagen automatisch über die jeweilige Zahlungsm
 ethode erstattet.</p><p>​Euer Solar Lodge Team</p><hr /><p><a href="https:/
 /mercifulnuns.org/" rel="noopener" target="_blank">Merciful Nuns</a><br />+
  <a href="https://www.sweet-ermengarde.de/" rel="noopener" target="_blank">
 Sweet Ermengarde</a><br />+ <a href="https://www.yourlifeonhold.com/" rel="
 noopener" target="_blank">Your Life On Hold</a><br />+ Mottentanz Aftershow
  Party</p><p><strong>Merciful Nuns</strong> zählen zu den prägenden Kräften
  des modernen Gothic Rock. Die Band überschreitet die Grenzen des Genres\, 
 indem sie dunkle rituelle Atmosphären mit tiefgehenden philosophischen Visi
 onen verbindet. Ihre monumentalen Klanglandschaften verweben post-gothische
  Erhabenheit mit apokalyptischer Prophezeiung – gewaltig\, eindringlich und
  zutiefst symbolisch. Getragen von donnernden Basslinien und flirrenden Git
 arren führen Merciful Nuns den Eingeweihten durch die Dunkelheit zur Erleuc
 htung und verwandeln Klang in Offenbarung.</p><p><strong>Sweet Ermengarde</
 strong> wird von Fans und Kritikern gleichermassen als Deutschlands vielver
 sprechendste Gothic-Rock-Band gefeiert. Obwohl sie ihren Wurzeln stets treu
  bleiben\, hat die Band einen stark gitarrenlastigen Sound geschaffen\, der
  die Grenzen dieses Genres – und jedes anderen – sprengt. Ihre Einflüsse re
 ichen von traditionellem Gothic der 80er-Jahre über Progressive Rock und Po
 st-Punk bis hin zu Dark Ambient und darüber hinaus.</p><p><strong>Your Life
  on Hold</strong> – Gothic Rock Sound schien uns passend und natürlich\, um
  die melancholische und düstere Geschichte von YLoH auszudrücken. Verträumt
 e\, atmosphärische Gitarren bringen Licht und Farbe in die dunklen Komposit
 ionen\, während ein druckvoller Rocksound die Melancholie mitunter in eine 
 wütende\, harte Klangwand verwandelt. Daher bezeichnen wir es gerne als Pos
 t-Goth\, da die Vielfalt der Einflüsse und Klangfarben den klassischen Goth
 ic Rock Sound auf ein neues Niveau hebt.</p><p>Running Order:<br />19:00 Op
 ening Ceremony<br />20:00 Your Life on Hold<br />21:10 Sweet Ermengarde<br 
 />22.30 Merciful Nuns<br />00:00 Mottentanz Aftershow Party</p>
CATEGORIES:Wave
LOCATION:KIFF
GEO:47.398757;8.063867
ORGANIZER;CN="JHG Shark":MAILTO:webmaster@jhgshark.ch
URL;VALUE=URI:https://artnoir.ch/events/event/merciful-nuns-2026-09-25/
ATTACH;FMTTYPE=image/jpeg:https://artnoir.ch/wp-content/uploads/2025/11/merciful-nuns-2026-09-25.jpg
END:VEVENT
BEGIN:VTIMEZONE
TZID:Europe/Zurich
BEGIN:DAYLIGHT
TZOFFSETFROM:+0100
TZOFFSETTO:+0200
DTSTART:20260329T010000
TZNAME:CEST
END:DAYLIGHT
END:VTIMEZONE
END:VCALENDAR
