BEGIN:VCALENDAR
VERSION:2.0
PRODID:-//ARTNOIR//NONSGML Events//EN
CALSCALE:GREGORIAN
X-ORIGINAL-URL:https://artnoir.ch/events/event/
X-WR-CALDESC:ARTNOIR - Events
BEGIN:VEVENT
UID:20251129T1559Z-1764431944.6897-EO-257078-1@10.0.9.48
STATUS:CONFIRMED
DTSTAMP:20260423T201804Z
CREATED:20251128T101652Z
LAST-MODIFIED:20260408T164510Z
DTSTART;TZID=Europe/Zurich:20260609T190000
DTEND;TZID=Europe/Zurich:20260609T223000
SUMMARY: Men I Trust
DESCRIPTION: Men I Trust\n+ Evan Wright\nMen I Trust\, die kanadische Indie
 -Band\, die 2014 gegründet wurde\, hat still und leise\, aber nachhaltig ih
 re Spuren in der Musikszene hinterlassen. Am 9. Juni 2026 spielen sie im X-
 TRA Zürich.\nDas Trio\, bestehend aus Emma Proulx (Gitarre und Gesang)\, Je
 ssy Caron (Gitarre und Bass) und Dragos Chiriac (Keyboard)\, begeistert mit
  seinem bezaubernden Sound\, der Dream Pop und Indie-Elemente miteinander v
 erbindet\, ... [Read more...]
X-ALT-DESC;FMTTYPE=text/html: <p><a href="https://menitrust.com/" target="_
 blank" rel="noopener">Men I Trust</a><br />+ <a href="http://evanwrightmusi
 c.com/" rel="noopener" target="_blank">Evan Wright</a></p><p>Men I Trust\, 
 die kanadische Indie-Band\, die 2014 gegründet wurde\, hat still und leise\
 , aber nachhaltig ihre Spuren in der Musikszene hinterlassen. Am 9. Juni 20
 26 spielen sie im X-TRA Zürich.</p><p>Das Trio\, bestehend aus Emma Proulx 
 (Gitarre und Gesang)\, Jessy Caron (Gitarre und Bass) und Dragos Chiriac (K
 eyboard)\, begeistert mit seinem bezaubernden Sound\, der Dream Pop und Ind
 ie-Elemente miteinander verbindet\, ein weltweites Publikum.</p><p>Bekannt 
 für ihre hypnotischen Melodien und fesselnden Vocals\, hat die Band mit ihr
 em unverwechselbaren Musikansatz grosse Anerkennung erworben. Sie produzier
 en ihre Tracks selbst und zeigen eine Reife\, die über ihre Jahre in der Br
 anche hinausgeht. Der Einfluss von Men I Trust reicht von ihren bewegenden 
 Kompositionen bis hin zu ihren zurückhaltenden\, aber mitreissenden Live-Au
 ftritten\, die dem Publikum ein authentisches und intimes Musikerlebnis bie
 ten – so auch am 9. Juni im X-TRA Zürich.</p><p><span style="color: #c86079
 \;">Ein <strong>ARTNOIR</strong> Partner-Event</span></p>
CATEGORIES:Partner-Event,Pop
LOCATION:X-TRA
GEO:47.384261;8.532491
ORGANIZER;CN="JHG Shark":MAILTO:webmaster@jhgshark.ch
URL;VALUE=URI:https://artnoir.ch/events/event/men-i-trust-2026-06-09/
ATTACH;FMTTYPE=image/png:https://artnoir.ch/wp-content/uploads/2025/11/men-i-trust-2026-06-09.png
END:VEVENT
BEGIN:VTIMEZONE
TZID:Europe/Zurich
BEGIN:DAYLIGHT
TZOFFSETFROM:+0100
TZOFFSETTO:+0200
DTSTART:20260329T010000
TZNAME:CEST
END:DAYLIGHT
END:VTIMEZONE
END:VCALENDAR
