BEGIN:VCALENDAR
VERSION:2.0
PRODID:-//ARTNOIR//NONSGML Events//EN
CALSCALE:GREGORIAN
X-ORIGINAL-URL:https://artnoir.ch/events/event/
X-WR-CALDESC:ARTNOIR - Events
BEGIN:VEVENT
UID:20260125T0420Z-1769314854.3715-EO-259046-1@10.0.9.48
STATUS:CONFIRMED
DTSTAMP:20260423T234029Z
CREATED:20260123T141634Z
LAST-MODIFIED:20260306T133417Z
DTSTART;TZID=Europe/Zurich:20260615T173000
DTEND;TZID=Europe/Zurich:20260615T233000
SUMMARY: Megadeth
DESCRIPTION: Megadeth\n+ Decapitated\nTHIS WAS OUR LIFE TOUR\nAm Montag\, 1
 5. Juni 2026 spielen Megadeth im Rahmen ihrer This Was Our Life Tour ein le
 tztes Mal in der Schweiz in der Halle 622 in Zürich. Dieses Konzert bündelt
  vier Jahrzehnte Metal-Power und zeigt eindrucksvoll die prägende Rolle der
  Band im Genre.\nSeit der Gründung 1983 hat Dave Mustaine Megadeth zu einer
  der einflussreichsten Metal-Bands aller Zeiten entwickelt. ... [Read more.
 ..]
X-ALT-DESC;FMTTYPE=text/html: <p><a href="https://www.megadeth.com/" target
 ="_blank" rel="noopener">Megadeth</a><br />+ <a href="https://www.decapitat
 edband.net/" rel="noopener" target="_blank">Decapitated</a></p><p><strong>T
 HIS WAS OUR LIFE TOUR</strong></p><p>Am Montag\, 15. Juni 2026 spielen Mega
 deth im Rahmen ihrer This Was Our Life Tour ein letztes Mal in der Schweiz 
 in der Halle 622 in Zürich. Dieses Konzert bündelt vier Jahrzehnte Metal-Po
 wer und zeigt eindrucksvoll die prägende Rolle der Band im Genre.</p><p>Sei
 t der Gründung 1983 hat Dave Mustaine Megadeth zu einer der einflussreichst
 en Metal-Bands aller Zeiten entwickelt. Mit ikonischen Alben wie Peace Sell
 s… But Who’s Buying?\, Rust in Peace oder Countdown to Extinction haben sie
  nicht nur Klassiker geschaffen\, sondern ganze Generationen von Musiker:in
 nen beeinflusst. Ihre Konzerte: laut\, präzise\, elektrisierend.</p><p>Der 
 Abschied kommt nicht leise – ganz im Gegenteil. Anfang Januar 2026 erschein
 t das neue Studioalbum Megadeth\, ein spürbar kraftvolles Werk voller techn
 ischer Wucht und frischer Energie. Die Band zeigt sich darin stark\, schnel
 l und fokussiert\, getragen von Mustaines unverwechselbarem Stil und einem 
 Zusammenspiel\, das präzise und energiegeladen ist.</p><p>Fans dürfen sich 
 auf eine Setlist freuen\, die den Bogen über die gesamte Karriere spannt: f
 rühe Klassiker\, zeitlose Fan-Favoriten und neue Songs aus dem kommenden Al
 bum. Die Band bringt hier alles auf die Bühne\, was Megadeth seit über 40 J
 ahren auszeichnet – treibende Riffs und eine Live-Performance voller Energi
 e und Präzision. Ein Muss für alle Thrash Metal-Fans\, um Megadeth ehrwürdi
 g zu verabschieden!</p><p>Jetzt Tickets via ticketcorner.ch sichern!</p>
CATEGORIES:Metal
LOCATION:Halle 622
GEO:47.413112;8.541888
ORGANIZER;CN="Christian Wölbitsch":MAILTO:info@cd-photography.net
URL;VALUE=URI:https://artnoir.ch/events/event/megadeth-2026-06-15/
ATTACH;FMTTYPE=image/jpeg:https://artnoir.ch/wp-content/uploads/2026/01/megadeth-2026-06-15.jpg
END:VEVENT
BEGIN:VTIMEZONE
TZID:Europe/Zurich
BEGIN:DAYLIGHT
TZOFFSETFROM:+0100
TZOFFSETTO:+0200
DTSTART:20260329T010000
TZNAME:CEST
END:DAYLIGHT
END:VTIMEZONE
END:VCALENDAR
