BEGIN:VCALENDAR
VERSION:2.0
PRODID:-//ARTNOIR//NONSGML Events//EN
CALSCALE:GREGORIAN
X-ORIGINAL-URL:https://artnoir.ch/events/event/
X-WR-CALDESC:ARTNOIR - Events
BEGIN:VEVENT
UID:20260407T1824Z-1775586253.455-EO-262845-1@10.0.9.48
STATUS:CONFIRMED
DTSTAMP:20260423T231837Z
CREATED:20260406T145420Z
LAST-MODIFIED:20260410T105440Z
DTSTART;TZID=Europe/Zurich:20260609T190000
DTEND;TZID=Europe/Zurich:20260609T223000
SUMMARY: Mastodon
DESCRIPTION: Mastodon\n+ Loathe\nWorld Tour 2026 – Einmalige Clubshow!\nDie
  Progressive Metal-Titanen Mastodon kommen am Dienstag\, 09. Juni 2026 für 
 eine seltene Clubshow in den Komplex 457 nach Zürich. In intimer Atmosphäre
  trifft ihre rohe Sludge Metal-Wucht auf einen über Jahre gewachsenen\, vie
 lschichtigen Sound\, der sich souverän über Genregrenzen hinwegbewegt.\nGeg
 ründet im Jahr 2000 in Atlanta (USA)\, haben sich Mastodon früh als feste G
 rösse der internationalen Metal-Szene etabliert. ... [Read more...]
X-ALT-DESC;FMTTYPE=text/html: <p><a href="https://www.mastodonrocks.com" re
 l="noopener" target="_blank">Mastodon</a><br />+ <a href="https://loatheaso
 ne.co.uk" rel="noopener" target="_blank">Loathe</a></p><p><strong>World Tou
 r 2026 – Einmalige Clubshow!</strong></p><p>Die Progressive Metal-Titanen <
 strong>Mastodon</strong> kommen am Dienstag\, 09. Juni 2026 für eine selten
 e Clubshow in den Komplex 457 nach Zürich. In intimer Atmosphäre trifft ihr
 e rohe Sludge Metal-Wucht auf einen über Jahre gewachsenen\, vielschichtige
 n Sound\, der sich souverän über Genregrenzen hinwegbewegt.</p><p>Gegründet
  im Jahr 2000 in Atlanta (USA)\, haben sich Mastodon früh als feste Grösse 
 der internationalen Metal-Szene etabliert. Mit ihrem markanten Sound\, habe
 n sie die Grenzen des modernen Metal immer wieder neu definiert. Diese stil
 istische Offenheit prägt das unverwechselbare Klangbild der Band: komplexe 
 Gitarrenriffs\, vielschichtige Rhythmusstrukturen und dynamische Songverläu
 fe treffen auf eingängige Melodien und starkes Songwriting.</p><p>Mit Alben
  wie Leviathan\, Crack the Skye oder Emperor of Sand haben Mastodon nicht n
 ur Genregrenzen verschoben\, sondern auch Kritiker:innen und Fans weltweit 
 begeistert. Ein besonderer Meilenstein folgte 2018\, als die Band für den S
 ong Sultan’s Curse mit einem Grammy Award in der Kategorie Best Metal Perfo
 rmance ausgezeichnet wurde.</p><p>Als Special Guest sind <strong>Loathe</st
 rong> mit dabei\, eine der spannendsten Bands der modernen Metal-Szene\, di
 e Metalcore\, Shoegaze und Alternative zu einem intensiven\, zeitgemässen S
 ound verbinden und damit perfekt zum Hauptact des Abends passen.</p><p>Das 
 Konzert im Komplex 457 bietet die seltene Gelegenheit\, Mastodon live in Cl
 ubatmosphäre zu erleben. Ein Pflichttermin für Fans von anspruchsvollem Met
 al.</p>
CATEGORIES:Metal
LOCATION:Komplex 457
GEO:47.387269;8.499988
ORGANIZER;CN="Nicole Wild":MAILTO:nic.wild@yahoo.com
URL;VALUE=URI:https://artnoir.ch/events/event/mastodon-2026-06-09/
ATTACH;FMTTYPE=image/jpeg:https://artnoir.ch/wp-content/uploads/2026/04/mastodon-2026-06-09.jpg
END:VEVENT
BEGIN:VTIMEZONE
TZID:Europe/Zurich
BEGIN:DAYLIGHT
TZOFFSETFROM:+0100
TZOFFSETTO:+0200
DTSTART:20260329T010000
TZNAME:CEST
END:DAYLIGHT
END:VTIMEZONE
END:VCALENDAR
