BEGIN:VCALENDAR
VERSION:2.0
PRODID:-//ARTNOIR//NONSGML Events//EN
CALSCALE:GREGORIAN
X-ORIGINAL-URL:https://artnoir.ch/events/event/
X-WR-CALDESC:ARTNOIR - Events
BEGIN:VEVENT
UID:20260220T0622Z-1771568522.0261-EO-260618-1@10.0.9.48
STATUS:CONFIRMED
DTSTAMP:20260423T234204Z
CREATED:20260217T192349Z
LAST-MODIFIED:20260313T133947Z
DTSTART;TZID=Europe/Zurich:20270308T180000
DTEND;TZID=Europe/Zurich:20270308T223000
SUMMARY: Manowar
DESCRIPTION: Manowar\nManowar – Kings Of Metal Fighting The World Tour 2027
 \nMANOWAR kündigen ihre triumphale Rückkehr in die Schweiz im Rahmen ihrer 
 KINGS OF METAL FIGHTING THE WORLD TOUR 2027. Die legendären amerikanischen 
 Metal-Titanen werden am Montag\, dem 8. März 2027\, im Zürcher Hallenstadio
 n auftreten. Die Show wird das komplette Album „KINGS OF METAL” in voller L
 änge sowie weitere epische Hymnen aus dem legendären Repertoire der Band pr
 äsentieren. ... [Read more...]
X-ALT-DESC;FMTTYPE=text/html: <p><a href="https://manowar.com/" rel="noopen
 er" target="_blank">Manowar</a></p><p><strong>Manowar – Kings Of Metal Figh
 ting The World Tour 2027</strong></p><p>MANOWAR kündigen ihre triumphale Rü
 ckkehr in die Schweiz im Rahmen ihrer KINGS OF METAL FIGHTING THE WORLD TOU
 R 2027. Die legendären amerikanischen Metal-Titanen werden am Montag\, dem 
 8. März 2027\, im Zürcher Hallenstadion auftreten. Die Show wird das komple
 tte Album „KINGS OF METAL” in voller Länge sowie weitere epische Hymnen aus
  dem legendären Repertoire der Band präsentieren. Die Schweizer Show wird M
 ANOWARs Hommage an eines ihrer kultigsten Alben in einem massiven Metal-Ang
 riff auf Augen und Ohren für das ultimative Metal-Erlebnis präsentieren. Na
 ch dem Erfolg der Blood Of Our Enemies Tour 2025 bringt die KINGS OF METAL 
 FIGHTING THE WORLD TOUR 2027 eine der legendären Säulen des Metal ins Herz 
 der Alpen.</p><p>MANOWAR bietet ausserdem ein exklusives und persönliches K
 onzerterlebnis mit einer begrenzten Anzahl von ULTIMATE FAN EXPERIENCE-Upgr
 ades für die Tour 2027. Weitere Informationen unter <a href="https://eu.man
 owarmerch.com/collections/ufe" rel="noopener" target="_blank">https://eu.ma
 nowarmerch.com/collections/ufe</a>.</p><p>Über MANOWAR: 1980 eroberte eine 
 neue Band die Metal-Szene und schrieb Metal-Geschichte\, indem sie ein einz
 igartiges Genre erfand\, das treffend als Power Metal bezeichnet wird und d
 as Leben von Millionen von Menschen veränderte. Seitdem sind ihre Songs zu 
 Kampfhymnen mit einem unverwechselbaren Sound geworden\, die das Publikum w
 eltweit mit ihrer Botschaft der Hoffnung und Ausdauer sowie ihrer Leidensch
 aft und Entschlossenheit\, mit der sie jedes Hindernis überwunden haben\, i
 n ihren Bann ziehen. Ihr Name: MANOWAR! Mit unerschütterlichem Mut\, immer 
 ihren Überzeugungen treu zu bleiben\, hat diese Band selbst die unüberwindb
 arsten Herausforderungen gemeistert. Seit über vier Jahrzehnten geben MANOW
 AR\, die „Kings of Metal“\, wie ihre Fans sie nennen\, ihnen das\, wofür si
 e sie lieben: den atemberaubenden und kraftvollen Soundtrack ihres Lebens\,
  Songs\, die die Kühnheit des Einzelnen und den Gemeinschaftsgeist feiern\,
  sowie Eigenschaften wie Loyalität\, Ehrlichkeit und Integrität. Zahlreiche
  Gold- und Platin-Alben und mehr als 40 Tourneen\, darunter ausverkaufte He
 adliner-Auftritte vor 10.000 bis 50.000 Zuschauern\, zeugen von ihrem Statu
 s in der Metal-Welt.</p><p><span style="color: #c86079\;">Ein <strong>ARTNO
 IR</strong> Partner-Event</span></p>
CATEGORIES:Metal,Partner-Event
LOCATION:Hallenstadion
GEO:47.411425;8.551685
ORGANIZER;CN="JHG Shark":MAILTO:webmaster@jhgshark.ch
URL;VALUE=URI:https://artnoir.ch/events/event/manowar-2027-03-08/
ATTACH;FMTTYPE=image/jpeg:https://artnoir.ch/wp-content/uploads/2026/02/2027-03-08-Manowar-1080x1920-1.jpg
END:VEVENT
BEGIN:VTIMEZONE
TZID:Europe/Zurich
BEGIN:STANDARD
TZOFFSETFROM:+0200
TZOFFSETTO:+0100
DTSTART:20261025T010000
TZNAME:CET
END:STANDARD
END:VTIMEZONE
END:VCALENDAR
