BEGIN:VCALENDAR
VERSION:2.0
PRODID:-//ARTNOIR//NONSGML Events//EN
CALSCALE:GREGORIAN
X-ORIGINAL-URL:https://artnoir.ch/events/event/
X-WR-CALDESC:ARTNOIR - Events
BEGIN:VEVENT
UID:20260205T1241Z-1770295268.9648-EO-259291-1@10.0.9.48
STATUS:CONFIRMED
DTSTAMP:20260423T232320Z
CREATED:20260127T163713Z
LAST-MODIFIED:20260127T163713Z
DTSTART;TZID=Europe/Zurich:20261205T183000
DTEND;TZID=Europe/Zurich:20261205T230000
SUMMARY: Mammoth
DESCRIPTION: Mammoth\n+ Florence Black\nDer für den GRAMMY Award nominierte
  Songwriter\, Sänger\, Multi-Instrumentalist und Produzent Wolfgang Van Hal
 en sorgt weiterhin dafür\, dass Mammoth sich von der Masse abheben. Am Sams
 tag\, 05. Dezember 2026 stellt er sein Können live im Kofmehl in Solothurn 
 unter Beweis.\nDie Musik von Mammoth stützt sich auf die beeindruckende mus
 ikalische Versiertheit Van Halens an Schlagzeug\, Bass\, Keyboard und Gitar
 re und überzeugt mit eingängigen Hooks mit unvergesslichem Gesang. ... [Rea
 d more...]
X-ALT-DESC;FMTTYPE=text/html: <p><a href="https://mammoth.band/" rel="noope
 ner" target="_blank">Mammoth</a><br />+ <a href="https://www.florenceblack.
 uk" rel="noopener" target="_blank">Florence Black</a></p><p>Der für den GRA
 MMY Award nominierte Songwriter\, Sänger\, Multi-Instrumentalist und Produz
 ent Wolfgang Van Halen sorgt weiterhin dafür\, dass Mammoth sich von der Ma
 sse abheben. Am Samstag\, 05. Dezember 2026 stellt er sein Können live im K
 ofmehl in Solothurn unter Beweis.</p><p>Die Musik von Mammoth stützt sich a
 uf die beeindruckende musikalische Versiertheit Van Halens an Schlagzeug\, 
 Bass\, Keyboard und Gitarre und überzeugt mit eingängigen Hooks mit unverge
 sslichem Gesang. Mit einem unwiderstehlichen\, unverwechselbaren Sound\, ei
 ner innovativen Vision und einer unvergleichlichen Identität hat sich die B
 and eine begeisterte weltweite Fangemeinde aufgebaut.</p><p>Genauso einziga
 rtig wie die Musik von Mammoth ist auch ihre bisherige Geschichte. Es hande
 lt sich wohl um die erste Hardrock-Band\, die in den 2020er Jahren aus dem 
 Nichts heraus den Durchbruch geschafft hat\; mit über 100 Millionen Streams
 \, Spitzenplatzierungen in den Charts und ausverkauften Headliner-Tourneen 
 – weniger als fünf Jahre nach ihrem Debüt.</p><p>Die Band tourte mit Metall
 ica und Pantera um die Welt\, supportete die Foo Fighters in Nordamerika un
 d füllte auch alleine die Hallen. Sie traten in der ABC-Show Jimmy Kimmel L
 IVE! auf\, bei der MusiCares 2024 Gala zu Ehren von Jon Bon Jovi\, und Wolf
 gang Van Halen stand bei der Aufnahme von Ozzy Osbourne in die Rock and Rol
 l Hall of Fame auf der Bühne.</p><p>Jetzt schreitet er mit Mammoths drittem
  Album The End voran. Jetzt Tickets via ticketcorner.ch sichern.</p>
CATEGORIES:Rock
LOCATION:Kofmehl
GEO:47.200649;7.528200
ORGANIZER;CN="Nicole Wild":MAILTO:nic.wild@yahoo.com
URL;VALUE=URI:https://artnoir.ch/events/event/mammoth-2026-12-05/
ATTACH;FMTTYPE=image/jpeg:https://artnoir.ch/wp-content/uploads/2026/01/mammoth-2026-12-05.jpg
END:VEVENT
BEGIN:VTIMEZONE
TZID:Europe/Zurich
BEGIN:STANDARD
TZOFFSETFROM:+0200
TZOFFSETTO:+0100
DTSTART:20261025T010000
TZNAME:CET
END:STANDARD
END:VTIMEZONE
END:VCALENDAR
