BEGIN:VCALENDAR
VERSION:2.0
PRODID:-//ARTNOIR//NONSGML Events//EN
CALSCALE:GREGORIAN
X-ORIGINAL-URL:https://artnoir.ch/events/event/
X-WR-CALDESC:ARTNOIR - Events
BEGIN:VEVENT
UID:20251219T2340Z-1766187616.6016-EO-257745-1@10.0.9.48
STATUS:CONFIRMED
DTSTAMP:20260424T010947Z
CREATED:20251212T192732Z
LAST-MODIFIED:20251212T192732Z
DTSTART;TZID=Europe/Zurich:20260617T180000
DTEND;TZID=Europe/Zurich:20260617T224000
SUMMARY: Malevolence
DESCRIPTION: Malevolence\n+ Drain\n+ Harms way\n+ Gridiron\nVon kleinen Har
 dcore-Gigs in engsten Räumen bis hin zu riesigen Moshpits auf großen Metal-
 Festivals – wer Malevolence schon einmal live gesehen hat\, weiss\, dass si
 e jeden Ort zum Beben bringen. Die im Norden Englands gegründete Band hat e
 inen ganz eigenen Sound definiert und dabei die Kraft der Riffs und die Bru
 talität der Breakdowns perfektioniert. ... [Read more...]
X-ALT-DESC;FMTTYPE=text/html: <p><a href="https://mlvltd.com" rel="noopener
 " target="_blank">Malevolence</a><br />+ <a href="https://drain831.com" rel
 ="noopener" target="_blank">Drain</a><br />+ <a href="https://www.harmsway1
 3.eu" rel="noopener" target="_blank">Harms way</a><br />+ <a href="https://
 gridiron.komi.io" rel="noopener" target="_blank">Gridiron</a></p><p>Von kle
 inen Hardcore-Gigs in engsten Räumen bis hin zu riesigen Moshpits auf große
 n Metal-Festivals – wer Malevolence schon einmal live gesehen hat\, weiss\,
  dass sie jeden Ort zum Beben bringen. Die im Norden Englands gegründete Ba
 nd hat einen ganz eigenen Sound definiert und dabei die Kraft der Riffs und
  die Brutalität der Breakdowns perfektioniert.</p><p>Die Band hat in den le
 tzten Jahren einige Tourneen hingelegt. Sie stand weltweit mit Grössen wie 
 Mastodon\, Trivium\, Architects und Thy Art Is Murder auf der Bühne und spi
 elte zahlreiche ausverkaufte Headliner-Shows in Grossbritannien und auf dem
  europäischen Festland. Malevolence beweisen damit ein Engagement wie kaum 
 eine andere Band.</p><p>Malevolence haben ihre brandneue Single TRENCHES ve
 röffentlicht\, die die rohe Widerstandsfähigkeit und Entschlossenheit ihrer
  Wurzeln in der Steel City verkörpert. Dieser eigenständige Track ist der e
 rste Einblick in ihre Zusammenarbeit mit dem Grammy-Gewinner Josh Wilbur\, 
 der für seine Arbeit mit Schwergewichten wie Lamb of God\, Korn und Gojira 
 bekannt ist.</p><p>Malevolence haben sich bereits als eine Grösse in der ex
 pandierenden britischen Metal-Szene etabliert und sind mit Kraft und Finess
 e an die Spitze ihrer Klasse vorgestossen. Nie zuvor haben sie ihre Ambitio
 nen so vollständig verwirklicht.</p>
CATEGORIES:Metal
LOCATION:Kofmehl
GEO:47.200649;7.528200
ORGANIZER;CN="Nicole Wild":MAILTO:nic.wild@yahoo.com
URL;VALUE=URI:https://artnoir.ch/events/event/malevolence-2026-06-17/
ATTACH;FMTTYPE=image/jpeg:https://artnoir.ch/wp-content/uploads/2025/12/malevolence-2026-06-17.jpg
END:VEVENT
BEGIN:VTIMEZONE
TZID:Europe/Zurich
BEGIN:DAYLIGHT
TZOFFSETFROM:+0100
TZOFFSETTO:+0200
DTSTART:20260329T010000
TZNAME:CEST
END:DAYLIGHT
END:VTIMEZONE
END:VCALENDAR
