BEGIN:VCALENDAR
VERSION:2.0
PRODID:-//ARTNOIR//NONSGML Events//EN
CALSCALE:GREGORIAN
X-ORIGINAL-URL:https://artnoir.ch/events/event/
X-WR-CALDESC:ARTNOIR - Events
BEGIN:VEVENT
UID:20251219T2342Z-1766187724.0242-EO-258108-1@10.0.9.48
STATUS:CONFIRMED
DTSTAMP:20260423T232320Z
CREATED:20251215T183336Z
LAST-MODIFIED:20260403T120151Z
DTSTART;TZID=Europe/Zurich:20260801T190000
DTEND;TZID=Europe/Zurich:20260801T223000
SUMMARY: Madsen
DESCRIPTION: Madsen\nSmile-Album Tour – Sommer 2026\nWie viele Bands können
  stolz von sich behaupten\, zehn Studioalben veröffentlicht zu haben und da
 bei seit nunmehr über 20 Jahren eine der beliebtesten Live-Bands Deutschlan
 ds zu bleiben? Nicht viele – aber Madsen können sich schon bald dazu zählen
 . Zusammen mit ihrem neuen Album Smile gehen Madsen auf Tour und am Samstag
 \, 01. August 2026 macht die Band Halt im Dynamo Zürich. ... [Read more...]
X-ALT-DESC;FMTTYPE=text/html: <p><a href="https://www.madsenmusik.de/" targ
 et="_blank" rel="noopener">Madsen</a></p><p><strong>Smile-Album Tour – Somm
 er 2026</strong></p><p>Wie viele Bands können stolz von sich behaupten\, ze
 hn Studioalben veröffentlicht zu haben und dabei seit nunmehr über 20 Jahre
 n eine der beliebtesten Live-Bands Deutschlands zu bleiben? Nicht viele – a
 ber Madsen können sich schon bald dazu zählen. Zusammen mit ihrem neuen Alb
 um Smile gehen Madsen auf Tour und am Samstag\, 01. August 2026 macht die B
 and Halt im Dynamo Zürich.</p><p>Seit über zwei Jahrzehnten steht der Name 
 Madsen für prägnante Texte\, eingängige Melodien und Live-Shows\, die eine 
 besondere Nähe zwischen Band und Publikum schaffen. Die neuen Songs erweite
 rn ihr Repertoire um aktuelle musikalische Ideen\, während Klassiker wie Du
  schreibst Geschichte\, Lass die Musik an oder Macht euch laut weiterhin fü
 r vertraute Momente sorgen.</p><p>Auf der Smile-Album Tour zeigen Madsen\, 
 wie sich ihre Musik weiterentwickelt\, ohne dass die Essenz verloren geht\,
  die ihre Fans seit Jahren schätzen. Die Live-Shows der Band zeichnen sich 
 durch ihre direkte und unverfälschte Art aus: Jedes Stück wird mit Klarheit
  und Intensität gespielt\, jedes Konzert wird so zu einem einzigartigen Erl
 ebnis. Dieser Abend ist perfekt für langjährige Wegbegleiter und für alle\,
  die Madsen neu für sich entdecken möchten.</p><p>Ein Abend\, den sich niem
 and entgehen lassen sollte\, der Musik mit Herz\, Aussage und Leidenschaft 
 liebt.</p><p>Jetzt Tickets via ticketcorner.ch sichern.</p><p>Vor Ort nur C
 ashless-Zahlung.</p><p><span style="color: #c86079\;">Ein <strong>ARTNOIR</
 strong> Partner-Event</span></p>
CATEGORIES:Partner-Event,Pop,Rock
LOCATION:Dynamo
GEO:47.383312;8.539341
ORGANIZER;CN="JHG Shark":MAILTO:webmaster@jhgshark.ch
URL;VALUE=URI:https://artnoir.ch/events/event/madsen-2026-08-01/
ATTACH;FMTTYPE=image/jpeg:https://artnoir.ch/wp-content/uploads/2025/12/madsen-2026-08-01.jpg
END:VEVENT
BEGIN:VTIMEZONE
TZID:Europe/Zurich
BEGIN:DAYLIGHT
TZOFFSETFROM:+0100
TZOFFSETTO:+0200
DTSTART:20260329T010000
TZNAME:CEST
END:DAYLIGHT
END:VTIMEZONE
END:VCALENDAR
