BEGIN:VCALENDAR
VERSION:2.0
PRODID:-//ARTNOIR//NONSGML Events//EN
CALSCALE:GREGORIAN
X-ORIGINAL-URL:https://artnoir.ch/events/event/
X-WR-CALDESC:ARTNOIR - Events
BEGIN:VEVENT
UID:20251127T0258Z-1764212317.1204-EO-256983-1@10.0.9.48
STATUS:CONFIRMED
DTSTAMP:20260423T234030Z
CREATED:20251125T121233Z
LAST-MODIFIED:20260206T143641Z
DTSTART;TZID=Europe/Zurich:20260509T193000
DTEND;TZID=Europe/Zurich:20260509T235900
SUMMARY: Machine Head
DESCRIPTION: Machine Head\nMachine Head – seit 1991 unangefochtene Meister 
 der mörderischen Riffs und rohen Intensität – gehören zu den einflussreichs
 ten Metal-Bands überhaupt. Immer in Bewegung und doch ihren Wurzeln treu\, 
 ziehen sie kompromisslos weiter: ein echter Bulldozer.\nIn Fri-Son verspric
 ht “An Evening With” ein totales Eintauchen: 35 Jahre riffs wie mit dem Ham
 mer geschmiedet\, verdichtet zu einem einzigartigen Abend – roh\, direkt un
 d gnadenlos. Lasst euch mitreissen von einem Erlebnis\, ... [Read more...]
X-ALT-DESC;FMTTYPE=text/html: <p><a href="https://www.machinehead1.com/" re
 l="noopener" target="_blank">Machine Head</a></p><p>Machine Head – seit 199
 1 unangefochtene Meister der mörderischen Riffs und rohen Intensität – gehö
 ren zu den einflussreichsten Metal-Bands überhaupt. Immer in Bewegung und d
 och ihren Wurzeln treu\, ziehen sie kompromisslos weiter: ein echter Bulldo
 zer.</p><p>In Fri-Son verspricht “An Evening With” ein totales Eintauchen: 
 35 Jahre riffs wie mit dem Hammer geschmiedet\, verdichtet zu einem einziga
 rtigen Abend – roh\, direkt und gnadenlos. Lasst euch mitreissen von einem 
 Erlebnis\, das genauso hart trifft\, wie es verbindet.</p><p>Voraussichtlic
 her Zeitplan:<br />Doors: 19h00<br />Machine Head: 20h00 - ca. 23h00<br />(
 kein Supportact) </p>
CATEGORIES:Metal
LOCATION:Fri-Son
GEO:46.795008;7.151619
ORGANIZER;CN="JHG Shark":MAILTO:webmaster@jhgshark.ch
URL;VALUE=URI:https://artnoir.ch/events/event/machine-head-2026-05-09/
ATTACH;FMTTYPE=image/jpeg:https://artnoir.ch/wp-content/uploads/2025/11/machine-head-2026-05-09.jpg
END:VEVENT
BEGIN:VTIMEZONE
TZID:Europe/Zurich
BEGIN:DAYLIGHT
TZOFFSETFROM:+0100
TZOFFSETTO:+0200
DTSTART:20260329T010000
TZNAME:CEST
END:DAYLIGHT
END:VTIMEZONE
END:VCALENDAR
