BEGIN:VCALENDAR
VERSION:2.0
PRODID:-//ARTNOIR//NONSGML Events//EN
CALSCALE:GREGORIAN
X-ORIGINAL-URL:https://artnoir.ch/events/event/
X-WR-CALDESC:ARTNOIR - Events
BEGIN:VEVENT
UID:20251113T2052Z-1763067161.3556-EO-255959-1@10.0.9.48
STATUS:CONFIRMED
DTSTAMP:20260423T234334Z
CREATED:20251108T123900Z
LAST-MODIFIED:20251108T124043Z
DTSTART;TZID=Europe/Zurich:20261217T180000
DTEND;TZID=Europe/Zurich:20261217T223000
SUMMARY: Lisa Eckhart
DESCRIPTION: Lisa Eckhart\nEin harmloser Kinderwitz hat Lisa Eckhart um Hau
 s und Hof\, Familie und Fans gebracht. Sie hat nichts mehr zu verlieren. Ni
 cht einmal den Verstand. Jetzt kann sie mehr denn je tun und sagen\, was si
 e will. Sie muss es sogar. Denn auch ein schlechter Ruf verpflichtet. ... [
 Read more...]
X-ALT-DESC;FMTTYPE=text/html: <p><a href="https://www.lisaeckhart.com/" rel
 ="noopener" target="_blank">Lisa Eckhart</a></p><p>Ein harmloser Kinderwitz
  hat Lisa Eckhart um Haus und Hof\, Familie und Fans gebracht. Sie hat nich
 ts mehr zu verlieren. Nicht einmal den Verstand. Jetzt kann sie mehr denn j
 e tun und sagen\, was sie will. Sie muss es sogar. Denn auch ein schlechter
  Ruf verpflichtet.</p>
CATEGORIES:Anderes
LOCATION:Hallenstadion
GEO:47.411425;8.551685
ORGANIZER;CN="JHG Shark":MAILTO:webmaster@jhgshark.ch
URL;VALUE=URI:https://artnoir.ch/events/event/lisa-eckhart-2026-12-17/
ATTACH;FMTTYPE=image/jpeg:https://artnoir.ch/wp-content/uploads/2025/11/lisa-eckhart-c-jens-doerre-2026-12-17.jpg
END:VEVENT
BEGIN:VTIMEZONE
TZID:Europe/Zurich
BEGIN:STANDARD
TZOFFSETFROM:+0200
TZOFFSETTO:+0100
DTSTART:20261025T010000
TZNAME:CET
END:STANDARD
END:VTIMEZONE
END:VCALENDAR
