BEGIN:VCALENDAR
VERSION:2.0
PRODID:-//ARTNOIR//NONSGML Events//EN
CALSCALE:GREGORIAN
X-ORIGINAL-URL:https://artnoir.ch/events/event/
X-WR-CALDESC:ARTNOIR - Events
BEGIN:VEVENT
UID:20250715T0837Z-1752568647.4661-EO-249664-1@10.0.9.22
STATUS:CONFIRMED
DTSTAMP:20260424T011416Z
CREATED:20250708T175609Z
LAST-MODIFIED:20260306T134732Z
DTSTART;TZID=Europe/Zurich:20260630T180000
DTEND;TZID=Europe/Zurich:20260630T223000
SUMMARY: Linkin Park
DESCRIPTION: Linkin Park\n+ Clipse\n+ Phantogram\nDie für den 30. Juni 2025
  in Bern (Bernexpo) geplante Veranstaltung wurde offiziell abgesagt. Aufgru
 nd von Terminüberschneidungen am Veranstaltungsort in Bern war eine Verlegu
 ng nach Zürich die beste Option\, um sicherzustellen\, dass die Band 2026 i
 n die Schweiz zurückkehren kann.\nDiejenigen\, die für das ursprünglich gep
 lante Konzert in Bern ein Ticket erworben haben\, erhalten eine Rückerstatt
 ung für diese Veranstaltung. ... [Read more...]
X-ALT-DESC;FMTTYPE=text/html: <p><a href="https://www.linkinpark.com" rel="
 noopener" target="_blank">Linkin Park</a><br />+ <a href="https://www.insta
 gram.com/clipse/" rel="noopener" target="_blank">Clipse</a><br />+ <a href=
 "https://www.phantogram.com/" rel="noopener" target="_blank">Phantogram</a>
 </p><p>Die für den 30. Juni 2025 in Bern (Bernexpo) geplante Veranstaltung 
 wurde offiziell abgesagt. Aufgrund von Terminüberschneidungen am Veranstalt
 ungsort in Bern war eine Verlegung nach Zürich die beste Option\, um sicher
 zustellen\, dass die Band 2026 in die Schweiz zurückkehren kann.</p><p>Diej
 enigen\, die für das ursprünglich geplante Konzert in Bern ein Ticket erwor
 ben haben\, erhalten eine Rückerstattung für diese Veranstaltung. Für das n
 eu angesetzte Konzert am 30. Juni 2026 in Zürich\, Stadion Letzigrund im Ja
 hr 2026 müssen die Tickets neu erworben werden.</p><p>Alle Informationen si
 nd den nachstehenden <a href="https://www.livenation.ch/linkin-park-tickets
 -adp475#faq" rel="noopener" target="_blank">FAQ</a> zu entnehmen und bitte 
 zu berücksichtigen.</p><p>ÜBER LINKIN PARK:</p><p>LINKIN PARK haben sich zu
  einer innovativen Sensation in der Musikbranche entwickelt und gehören zu 
 den meistverkauften Künstlern der letzten zwanzig Jahre. Ihr RIAA Diamant-z
 ertifiziertes Debütalbum „Hybrid Theory“ gilt als das „meistverkaufte Debüt
  des 21. Jahrhunderts“\, während ihr zweites Album „Meteora“ auf Platz 1 de
 r Billboard Top 200 einstieg und in den USA 8-fach Platin erhielt. Die Band
  hat weltweit mehr als 100 Millionen Alben verkauft und neben zahlreichen A
 uszeichnungen und Ehrungen 2 GRAMMY® Awards\, 5 American Music Awards\, 4 M
 TV VMA Awards\, 10 MTV Europe Music Awards und 3 World Music Awards erhalte
 n. Sie haben weltweit die Stadien ausverkauft\, waren Headliner bei den grö
 ssten Festivals rund um den Globus und sind die erste und einzige Rockband 
 der westlichen Hemisphäre\, die eine Tour durch fünf Stadien in China gespi
 elt hat. „One More Light“ aus dem Jahr 2017 war ihr fünfter Nr.-1-Charteins
 tieg in den Billboard 200.</p><p>Im Jahr 2020 feierte die Band ihr bahnbrec
 hendes Debütalbum „Hybrid Theory“ mit der Veröffentlichung eines umfassende
 n Super-Deluxe-Boxsets zum 20-jährigen Jubiläum\, das die RIAA Diamant-zert
 ifizierte Single „In The End“ enthält. 2023 veröffentlichten sie die „Meteo
 ra 20th Anniversary Edition“\, die die Charts anführte und den neu entdeckt
 en Song „Lost“ enthielt. Die emotional aufgeladene Single wurde ursprünglic
 h während der Sessions für ihr zweites Studioalbum „Meteora“ (2003) aufgeno
 mmen. Kurz nach der Veröffentlichung 2023 erreichte „Lost“ Platz 1 sowohl i
 m Alternative- als auch im Rock-Radio. 2024 erschien ihr erstes Greatest Hi
 ts-Paket „Papercuts“ mit dem Titel „Friendly Fire“\, der sowohl die Alterna
 tive- als auch die Rock-Charts anführte. Am 5. September kehrte die Band mi
 t „The Emptiness Machine“ triumphal an die Spitze der Charts zurück. Der So
 ng entwickelte sich zur Nummer 1 der Rock-Charts des Landes und zum grösste
 n Rocksong des Jahres 2024. Der Titel kletterte sowohl in den Billboard Mai
 nstream Rock Airplay Charts als auch in den Alternative Airplay Charts schn
 ell auf Platz 1. Insgesamt hat die Band unglaubliche 13 Nummer-1-Einträge i
 n den letztgenannten Charts erzielt (die zweitmeisten in der Geschichte)\, 
 davon drei in den letzten achtzehn Monaten. LINKIN PARK werden ihr 8. Studi
 oalbum „From Zero“ am 15. November 2024 bei Warner Records veröffentlichen.
  Die Band hat schon immer Charity-Massnahmen in den Vordergrund gestellt\, 
 um die Welt zu verbessern und hat im Laufe der Jahre Millionen für die Opfe
 r von Naturkatastrophen gesammelt. Heute wird der Einfluss von LINKIN PARK 
 auf Musik und Kultur immer grösser und massgeblicher.</p>
CATEGORIES:Metal,Rock
LOCATION:Stadion Letzigrund
GEO:47.382960;8.502802
ORGANIZER;CN="Nicole Wild":MAILTO:nic.wild@yahoo.com
URL;VALUE=URI:https://artnoir.ch/events/event/linkin-park-2026-06-30/
ATTACH;FMTTYPE=image/jpeg:https://artnoir.ch/wp-content/uploads/2025/07/linkin-park-2026-06-30.jpg
END:VEVENT
BEGIN:VTIMEZONE
TZID:Europe/Zurich
BEGIN:DAYLIGHT
TZOFFSETFROM:+0100
TZOFFSETTO:+0200
DTSTART:20260329T010000
TZNAME:CEST
END:DAYLIGHT
END:VTIMEZONE
END:VCALENDAR
