BEGIN:VCALENDAR
VERSION:2.0
PRODID:-//ARTNOIR//NONSGML Events//EN
CALSCALE:GREGORIAN
X-ORIGINAL-URL:https://artnoir.ch/events/event/
X-WR-CALDESC:ARTNOIR - Events
BEGIN:VEVENT
UID:20260305T1030Z-1772706628.4121-EO-261221-1@10.0.9.48
STATUS:CONFIRMED
DTSTAMP:20260423T234333Z
CREATED:20260303T154833Z
LAST-MODIFIED:20260419T121725Z
DTSTART;TZID=Europe/Zurich:20261106T180000
DTEND;TZID=Europe/Zurich:20261106T235900
SUMMARY: Lifelover
DESCRIPTION: Lifelover \n+ Nocturnal Depression \n+ Hypothermia\n+ Unviar \
 n+ Bedrängnis  ... [Read more...]
X-ALT-DESC;FMTTYPE=text/html: <p><a href="https://www.facebook.com/lifelove
 rofficial/" target="_blank" rel="noopener">Lifelover </a><br />+ <a href="h
 ttps://nocturnaldepression.bandcamp.com/?fbclid=IwY2xjawQT4d5leHRuA2FlbQIxM
 ABicmlkETFpTHA4bnJnanBnR3BsczlIc3J0YwZhcHBfaWQQMjIyMDM5MTc4ODIwMDg5MgABHrwR
 bQpxFSUocfJ8Mc65sluwp7aKcqGdOWcs4kU4vHBaq0EXW1k0HW0x83Aj_aem_gQ4HyrhBR_55KB
 mPzyve0w" target="_blank" rel="noopener">Nocturnal Depression </a><br />+ <
 a href="https://www.facebook.com/Vemodsorkestern/" target="_blank" rel="noo
 pener">Hypothermia</a><br />+ <a href="https://www.facebook.com/unviarband/
 " target="_blank" rel="noopener">Unviar </a><br />+ <a href="https://www.fa
 cebook.com/Bedraengnis/?locale=de_DE" target="_blank" rel="noopener">Bedrän
 gnis </a></p>
CATEGORIES:Metal
LOCATION:Musigburg
GEO:47.320494;7.906709
ORGANIZER;CN="Nicole Wild":MAILTO:nic.wild@yahoo.com
URL;VALUE=URI:https://artnoir.ch/events/event/lifelover-2026-11-06/
ATTACH;FMTTYPE=image/jpeg:https://artnoir.ch/wp-content/uploads/2026/03/lifelover-2026-11-06.jpg
END:VEVENT
BEGIN:VTIMEZONE
TZID:Europe/Zurich
BEGIN:STANDARD
TZOFFSETFROM:+0200
TZOFFSETTO:+0100
DTSTART:20261025T010000
TZNAME:CET
END:STANDARD
END:VTIMEZONE
END:VCALENDAR
