BEGIN:VCALENDAR
VERSION:2.0
PRODID:-//ARTNOIR//NONSGML Events//EN
CALSCALE:GREGORIAN
X-ORIGINAL-URL:https://artnoir.ch/events/event/
X-WR-CALDESC:ARTNOIR - Events
BEGIN:VEVENT
UID:20260411T0517Z-1775884677.1072-EO-262882-1@10.0.9.48
STATUS:CONFIRMED
DTSTAMP:20260423T231855Z
CREATED:20260409T204026Z
LAST-MODIFIED:20260409T204026Z
DTSTART;TZID=Europe/Zurich:20261204T193000
DTEND;TZID=Europe/Zurich:20261204T235900
SUMMARY: Lebanon Hanover
DESCRIPTION: Lebanon Hanover\nLebanon Hanover est une réponse glaciale au m
 onde aliéné venant de deux cœurs chauds et battants. Larissa Iceglass et Wi
 lliam Maybelline apparaissent comme de véritables romantiques de l’époque m
 oderne\, admirant William Wordsworth\, fascinés par la beauté de l’esthétiq
 ue art nouveau\, explorant les bords de mer  la nuit et les forêts britanni
 ques\, tout en s’inspirant de l’urbanisme de Berlin. 5 ans après leur parti
 cipation à la Post Punk Night\, il nous tarde de découvrir leur évolution s
 ur scène. ... [Read more...]
X-ALT-DESC;FMTTYPE=text/html: <p><a href="https://www.lebanonhanover.com" r
 el="noopener" target="_blank">Lebanon Hanover</a></p><p>Lebanon Hanover est
  une réponse glaciale au monde aliéné venant de deux cœurs chauds et battan
 ts. Larissa Iceglass et William Maybelline apparaissent comme de véritables
  romantiques de l'époque moderne\, admirant William Wordsworth\, fascinés p
 ar la beauté de l'esthétique art nouveau\, explorant les bords de mer  la n
 uit et les forêts britanniques\, tout en s'inspirant de l'urbanisme de Berl
 in. 5 ans après leur participation à la Post Punk Night\, il nous tarde de 
 découvrir leur évolution sur scène. </p>
CATEGORIES:Wave
LOCATION:Docks
GEO:46.522375;6.619252
ORGANIZER;CN="Nicole Wild":MAILTO:nic.wild@yahoo.com
URL;VALUE=URI:https://artnoir.ch/events/event/lebanon-hanover-2026-12-04/
ATTACH;FMTTYPE=image/jpeg:https://artnoir.ch/wp-content/uploads/2026/04/lebanon-hanover-2026-12-04.jpg
END:VEVENT
BEGIN:VTIMEZONE
TZID:Europe/Zurich
BEGIN:STANDARD
TZOFFSETFROM:+0200
TZOFFSETTO:+0100
DTSTART:20261025T010000
TZNAME:CET
END:STANDARD
END:VTIMEZONE
END:VCALENDAR
