BEGIN:VCALENDAR
VERSION:2.0
PRODID:-//ARTNOIR//NONSGML Events//EN
CALSCALE:GREGORIAN
X-ORIGINAL-URL:https://artnoir.ch/events/event/
X-WR-CALDESC:ARTNOIR - Events
BEGIN:VEVENT
UID:20260411T1527Z-1775921259.1952-EO-262880-1@10.0.9.48
STATUS:CONFIRMED
DTSTAMP:20260423T235928Z
CREATED:20260409T203100Z
LAST-MODIFIED:20260409T203100Z
DTSTART;TZID=Europe/Zurich:20261203T190000
DTEND;TZID=Europe/Zurich:20261203T235900
SUMMARY: Lebanon Hanover
DESCRIPTION: Lebanon Hanover\nLebanon Hanover ist die eiskalte Reaktion auf
  eine distanzierte Welt.\nIhre Musik ist im Post-Punk und Dark Wave zuhause
  und erweckt ein Gefühl von Isolation und urbaner Einsamkeit. Mit kalten Sy
 nthesizern\, einfachen Drum-Machines und düsteren Gitarren schaffen sie ihr
 en reduzierten\, melancholischen Sound\, der sich stark an der Musik der 19
 80er-Jahre orientiert. Thematisch kreisen ihre Songs um Entfremdung\, Sehns
 ucht und emotionale Distanz.\nMit ihrer konsequenten Klangsprache und der k
 alkulierten Ästhetik haben sie sich eine treue Fangemeinde in der Szene auf
 gebaut. ... [Read more...]
X-ALT-DESC;FMTTYPE=text/html: <p><a href="https://www.lebanonhanover.com" r
 el="noopener" target="_blank">Lebanon Hanover</a></p><p>Lebanon Hanover ist
  die eiskalte Reaktion auf eine distanzierte Welt.</p><p>Ihre Musik ist im 
 Post-Punk und Dark Wave zuhause und erweckt ein Gefühl von Isolation und ur
 baner Einsamkeit. Mit kalten Synthesizern\, einfachen Drum-Machines und düs
 teren Gitarren schaffen sie ihren reduzierten\, melancholischen Sound\, der
  sich stark an der Musik der 1980er-Jahre orientiert. Thematisch kreisen ih
 re Songs um Entfremdung\, Sehnsucht und emotionale Distanz.</p><p>Mit ihrer
  konsequenten Klangsprache und der kalkulierten Ästhetik haben sie sich ein
 e treue Fangemeinde in der Szene aufgebaut.</p>
CATEGORIES:Wave
LOCATION:Salzhaus
GEO:47.497538;8.722299
ORGANIZER;CN="Nicole Wild":MAILTO:nic.wild@yahoo.com
URL;VALUE=URI:https://artnoir.ch/events/event/lebanon-hanover-2026-12-03/
ATTACH;FMTTYPE=image/jpeg:https://artnoir.ch/wp-content/uploads/2026/04/lebanon-hanover-2026-12-03.jpg
END:VEVENT
BEGIN:VTIMEZONE
TZID:Europe/Zurich
BEGIN:STANDARD
TZOFFSETFROM:+0200
TZOFFSETTO:+0100
DTSTART:20261025T010000
TZNAME:CET
END:STANDARD
END:VTIMEZONE
END:VCALENDAR
