BEGIN:VCALENDAR
VERSION:2.0
PRODID:-//ARTNOIR//NONSGML Events//EN
CALSCALE:GREGORIAN
X-ORIGINAL-URL:https://artnoir.ch/events/event/
X-WR-CALDESC:ARTNOIR - Events
BEGIN:VEVENT
UID:20260321T2113Z-1774127625.173-EO-262033-1@10.0.9.48
STATUS:CONFIRMED
DTSTAMP:20260423T215334Z
CREATED:20260319T131207Z
LAST-MODIFIED:20260319T131410Z
DTSTART;TZID=Europe/Zurich:20260429T193000
DTEND;TZID=Europe/Zurich:20260429T230000
SUMMARY: Leap
DESCRIPTION: Leap\nLeap kehrt ins Sudhaus zurück!\nZur Feier der Veröffentl
 ichung ihres mit Spannung erwarteten Debütalbums „Entropy“ (3. Oktober) prä
 sentieren die rauen Indie-Pop-Rocker LEAP ihre bisher grösste Tournee. Nach
  dem Erfolg ihrer ersten drei EPs und dank ihrer explosiven Live-Shows\, fü
 r die über 30.000 Tickets verkauft wurden\, sind LEAP auf dem besten Weg\, 
 sich als eine der spannendsten Bands der Rockszene zu etablieren. ... [Read
  more...]
X-ALT-DESC;FMTTYPE=text/html: <p><a href="https://leaptheband.com/" rel="no
 opener" target="_blank">Leap</a></p><p><strong>Leap kehrt ins Sudhaus zurüc
 k!</strong></p><p>Zur Feier der Veröffentlichung ihres mit Spannung erwarte
 ten Debütalbums „Entropy“ (3. Oktober) präsentieren die rauen Indie-Pop-Roc
 ker LEAP ihre bisher grösste Tournee. Nach dem Erfolg ihrer ersten drei EPs
  und dank ihrer explosiven Live-Shows\, für die über 30.000 Tickets verkauf
 t wurden\, sind LEAP auf dem besten Weg\, sich als eine der spannendsten Ba
 nds der Rockszene zu etablieren.</p>
CATEGORIES:Pop,Rock
LOCATION:Sudhaus
GEO:47.558178;7.601148
ORGANIZER;CN="JHG Shark":MAILTO:webmaster@jhgshark.ch
URL;VALUE=URI:https://artnoir.ch/events/event/leap-2026-04-29/
ATTACH;FMTTYPE=image/jpeg:https://artnoir.ch/wp-content/uploads/2026/03/leap-2026-04-29.jpg
END:VEVENT
BEGIN:VTIMEZONE
TZID:Europe/Zurich
BEGIN:DAYLIGHT
TZOFFSETFROM:+0100
TZOFFSETTO:+0200
DTSTART:20260329T010000
TZNAME:CEST
END:DAYLIGHT
END:VTIMEZONE
END:VCALENDAR
