BEGIN:VCALENDAR
VERSION:2.0
PRODID:-//ARTNOIR//NONSGML Events//EN
CALSCALE:GREGORIAN
X-ORIGINAL-URL:https://artnoir.ch/events/event/
X-WR-CALDESC:ARTNOIR - Events
BEGIN:VEVENT
UID:20260411T0854Z-1775897687.1988-EO-262872-1@10.0.9.48
STATUS:CONFIRMED
DTSTAMP:20260423T235958Z
CREATED:20260409T170959Z
LAST-MODIFIED:20260409T171306Z
DTSTART;TZID=Europe/Zurich:20260606T200000
DTEND;TZID=Europe/Zurich:20260606T230000
SUMMARY: Leaden Fumes & Dim Hope
DESCRIPTION: Leaden Fumes & Dim Hope\nLeaden Fumes sind eine Schweizer Slud
 ge’n’Doom Band der Melvinschen Sorte. Ihr 2. Album\, aufgenommen mit M. Obr
 ist von Zeal & Ardor\, erschien bei Sixteentimes Music und erntete – wie da
 s erste Album – gute Kritiken seitens der Presse.\nLeaden Fumes bestehen zu
  2/3 aus ehemaligen Phased Mitgliedern – der einzigen Schweizer Stoner Band
  welche bei Elektrohasch (Colour Haze) unter Vertrag stand.\nLeaden Fumes s
 ind Bühnenerfahren und liefern eine professionelle Show mit sattem Sound. .
 .. [Read more...]
X-ALT-DESC;FMTTYPE=text/html: <p><a href="https://www.leadenfumes.com/" rel
 ="noopener" target="_blank">Leaden Fumes</a> & Dim Hope</p><p><strong>Leade
 n Fumes</strong> sind eine Schweizer Sludge’n’Doom Band der Melvinschen Sor
 te. Ihr 2. Album\, aufgenommen mit M. Obrist von Zeal & Ardor\, erschien be
 i Sixteentimes Music und erntete – wie das erste Album – gute Kritiken seit
 ens der Presse.</p><p>Leaden Fumes bestehen zu 2/3 aus ehemaligen Phased Mi
 tgliedern - der einzigen Schweizer Stoner Band welche bei Elektrohasch (Col
 our Haze) unter Vertrag stand.</p><p>Leaden Fumes sind Bühnenerfahren und l
 iefern eine professionelle Show mit sattem Sound.</p><p>Auftritte u.a. mit 
 Elder\, The Obsessed\, Gates Of Slumber\, Dymna Lotva\, Ponte del Diavolo\,
  Tons.</p><p><strong>DIM HOPE</strong> ist eine 3-köpfige Band aus St. Gall
 en\, die mit intensiven Klanglandschaften\, eingängigen Leads und emotional
 er Tiefe überzeugt. Ihr Sound bewegt sich zwischen Post Metal und Doom Meta
 l und verbindet schwere\, druckvolle Riffs mit atmosphärischen Passagen. Da
 bei entstehen dichte Kompositionen\, die gleichermaßen düster wie eindringl
 ich wirken. Die Band setzt auf dynamische Spannungsbögen\, die von ruhigen\
 , fast fragilen Momenten bis hin zu massiven Klangwänden reichen.</p>
CATEGORIES:Metal
LOCATION:KAFF
GEO:47.560142;8.898753
ORGANIZER;CN="JHG Shark":MAILTO:webmaster@jhgshark.ch
URL;VALUE=URI:https://artnoir.ch/events/event/leaden-fumes-and-dim-hope-202
 6-06-06/
ATTACH;FMTTYPE=image/jpeg:https://artnoir.ch/wp-content/uploads/2026/04/leaden-fumes-and-dim-hope-2026-06-06.jpg
END:VEVENT
BEGIN:VTIMEZONE
TZID:Europe/Zurich
BEGIN:DAYLIGHT
TZOFFSETFROM:+0100
TZOFFSETTO:+0200
DTSTART:20260329T010000
TZNAME:CEST
END:DAYLIGHT
END:VTIMEZONE
END:VCALENDAR
