BEGIN:VCALENDAR
VERSION:2.0
PRODID:-//ARTNOIR//NONSGML Events//EN
CALSCALE:GREGORIAN
X-ORIGINAL-URL:https://artnoir.ch/events/event/
X-WR-CALDESC:ARTNOIR - Events
BEGIN:VEVENT
UID:20251010T2056Z-1760129787.6918-EO-253442-1@10.0.9.22
STATUS:CONFIRMED
DTSTAMP:20260423T214301Z
CREATED:20250925T170035Z
LAST-MODIFIED:20260327T114913Z
DTSTART;TZID=Europe/Zurich:20260401T170000
DTEND;TZID=Europe/Zurich:20260401T223000
SUMMARY: KREATOR
DESCRIPTION: KREATOR\n+ Carcass\n+ Exodus\n+ Nails\nKrushers Of The World T
 our 2026\nDie Thrash-Metal-Ikonen KREATOR kehren mit voller Wucht zurück: A
 m Mittwoch\, 01. April 2026 verwandeln Mille Petrozza und seine Mitstreiter
  die Halle 622 Zürich in ein Epizentrum der extremen Musik. Gemeinsam mit d
 en Special Guests Carcass\, Exodus und Nails erwartet die Fans ein Abend\, 
 der in Sachen Intensität neue Massstäbe setzt. ... [Read more...]
X-ALT-DESC;FMTTYPE=text/html: <p><a href="https://www.kreator-terrorzone.de
 " rel="noopener" target="_blank">KREATOR</a><br />+ <a href="https://www.fa
 cebook.com/OfficialCarcass/" rel="noopener" target="_blank">Carcass</a><br 
 />+ <a href="https://exodusattack.com/" rel="noopener" target="_blank">Exod
 us</a><br />+ <a href="https://www.facebook.com/NAILSoxnard/" rel="noopener
 " target="_blank">Nails</a></p><p><strong>Krushers Of The World Tour 2026</
 strong></p><p>Die Thrash-Metal-Ikonen KREATOR kehren mit voller Wucht zurüc
 k: Am Mittwoch\, 01. April 2026 verwandeln Mille Petrozza und seine Mitstre
 iter die Halle 622 Zürich in ein Epizentrum der extremen Musik. Gemeinsam m
 it den Special Guests Carcass\, Exodus und Nails erwartet die Fans ein Aben
 d\, der in Sachen Intensität neue Massstäbe setzt.</p><p>Am 16. Januar 2026
  erscheint das sechzehnte Studioalbum der Essener Legenden – KRUSHERS OF TH
 E WORLD. Nach dem gefeierten Dokumentarfilm Hate & Hope und der Autobiograf
 ie Your Heaven\, My Hell von Frontmann Mille Petrozza folgt nun das nächste
  Kapitel in der über 40-jährigen Bandgeschichte. Das neue Werk ist ein Stat
 ement purer Energie\, getragen von mitreissenden Riffs\, wuchtigen Drums un
 d einer unverkennbaren Stimme\, die Generationen von Metal-Fans geprägt hat
 .</p><p>Die kommende Tour markiert die bislang grösste Live-Produktion der 
 Band. In Zürich dürfen sich die «Hordes of Switzerland» nicht nur auf brand
 neue Songs freuen\, sondern auch auf Klassiker\, die seit Jahrzehnten Metal
 -Geschichte schreiben. Mit Carcass\, den Pionieren des Death Metal\, den Ba
 y Area Thrash-Veteranen Exodus und der direkten Härte von Nails bietet das 
 Line-up eine seltene Gelegenheit\, vier aussergewöhnliche Bands an einem Ab
 end zu erleben.</p><p>«Dieses Jahr ist ein Neubeginn für KREATOR. Mit dem n
 euen Album und dieser Tour wollen wir unseren Fans ein unvergessliches Erle
 bnis bieten. Wir sehen uns in Zürich – hail to the hordes!»\, sagt Mille Pe
 trozza.</p><p>17:50 Nails<br />18:40 Exodus<br />19:45 Carcass<br />21:00 K
 reator<br />ca. 22:30 Konzertende</p>
CATEGORIES:Metal
LOCATION:Halle 622
GEO:47.413112;8.541888
ORGANIZER;CN="Nicole Wild":MAILTO:nic.wild@yahoo.com
URL;VALUE=URI:https://artnoir.ch/events/event/kreator/
ATTACH;FMTTYPE=image/jpeg:https://artnoir.ch/wp-content/uploads/2025/09/kreator-2026-04-01.jpg
END:VEVENT
BEGIN:VTIMEZONE
TZID:Europe/Zurich
BEGIN:DAYLIGHT
TZOFFSETFROM:+0100
TZOFFSETTO:+0200
DTSTART:20260329T010000
TZNAME:CEST
END:DAYLIGHT
END:VTIMEZONE
END:VCALENDAR
