BEGIN:VCALENDAR
VERSION:2.0
PRODID:-//ARTNOIR//NONSGML Events//EN
CALSCALE:GREGORIAN
X-ORIGINAL-URL:https://artnoir.ch/events/event/
X-WR-CALDESC:ARTNOIR - Events
BEGIN:VEVENT
UID:20260219T1514Z-1771514059.4459-EO-260539-1@10.0.9.48
STATUS:CONFIRMED
DTSTAMP:20260423T215419Z
CREATED:20260217T114653Z
LAST-MODIFIED:20260227T121942Z
DTSTART;TZID=Europe/Zurich:20260408T200000
DTEND;TZID=Europe/Zurich:20260408T230000
SUMMARY: Korine
DESCRIPTION: Korine (US)\n+ Parker Leftlover (CH)\nKorine est un duo de Phi
 ladelphie formé en 2017 par Morgy Ramone et Trey Frye. Leur univers mêle ne
 w wave nostalgique\, emo et punk à une pop moderne\, portée par des synthés
  accrocheurs et une mélancolie élégante. Après l’EP remarqué Corsage et l’a
 lbum New Arrangements\, le groupe affirme pleinement son identité avec The 
 Night We Raise (2020)\, largement salué par la critique. ... [Read more...]
X-ALT-DESC;FMTTYPE=text/html: <p><a href="https://www.korineband.com/" targ
 et="_blank" rel="noopener">Korine</a> (US)<br />+ <a href="https://www.inst
 agram.com/parker_leftlover/">Parker Leftlover</a> (CH)</p><p><strong>Korine
 </strong> est un duo de Philadelphie formé en 2017 par Morgy Ramone et Trey
  Frye. Leur univers mêle new wave nostalgique\, emo et punk à une pop moder
 ne\, portée par des synthés accrocheurs et une mélancolie élégante. Après l
 ’EP remarqué Corsage et l’album New Arrangements\, le groupe affirme pleine
 ment son identité avec The Night We Raise (2020)\, largement salué par la c
 ritique. Korine poursuit son évolution artistique avec Tear\, un nouvel alb
 um qui confirme la singularité et la maturité de leur son.</p><p><strong>Pa
 rker Leftlover</strong> mêle cold wave\, slow disco et synthés rêveurs des 
 années 80\, leur musique oscille entre un minimalisme abrasif et une tendre
 sse romantique\, entre synthpop et darkwave. Des échos d’Orchestral Manoeuv
 res in the Dark rencontrent les univers néonisés des films de Wong Kar-wai\
 , évoquant la beauté et la fragilité des relations modernes : euphorie et p
 anique\, auto-aliénation et quête du bonheur.</p>
CATEGORIES:Electro,Wave
LOCATION:Le Romandie
GEO:46.520220;6.631540
ORGANIZER;CN="JHG Shark":MAILTO:webmaster@jhgshark.ch
URL;VALUE=URI:https://artnoir.ch/events/event/korine-2026-04-08/
ATTACH;FMTTYPE=image/jpeg:https://artnoir.ch/wp-content/uploads/2026/02/korine-2026-04-08.jpg
END:VEVENT
BEGIN:VTIMEZONE
TZID:Europe/Zurich
BEGIN:DAYLIGHT
TZOFFSETFROM:+0100
TZOFFSETTO:+0200
DTSTART:20260329T010000
TZNAME:CEST
END:DAYLIGHT
END:VTIMEZONE
END:VCALENDAR
