BEGIN:VCALENDAR
VERSION:2.0
PRODID:-//ARTNOIR//NONSGML Events//EN
CALSCALE:GREGORIAN
X-ORIGINAL-URL:https://artnoir.ch/events/event/
X-WR-CALDESC:ARTNOIR - Events
BEGIN:VEVENT
UID:20260331T0946Z-1774950419.1926-EO-262194-1@10.0.9.48
STATUS:CONFIRMED
DTSTAMP:20260423T232416Z
CREATED:20260324T174205Z
LAST-MODIFIED:20260327T123224Z
DTSTART;TZID=Europe/Zurich:20260528T190000
DTEND;TZID=Europe/Zurich:20260528T235900
SUMMARY: Knocked Loose
DESCRIPTION: Knocked Loose\n+ Static Dress\nNur einen Tag nach dem sie für 
 Metallica\, eine der wohl legendärsten Metalbands der Welt\, die Bühne im Z
 ürcher Letzigrund eröffnen dürfen\, spielen die US-amerikanischen Hardcore-
 Shootingstars Knocked Loose eine exklusive Headlineshow im Komplex 457. Tic
 kets sind ab dem 13. März erhältlich.\nAls Knocked Loose mit der Arbeit an 
 ihrem dritten Album begannen\, spürten sie den Druck von allen Seiten. Inte
 rn mussten sie sich selbst als Songwriter herausfordern und gleichzeitig di
 e gnadenlose Intensität und unerschütterliche Ehrlichkeit beibehalten\, ...
  [Read more...]
X-ALT-DESC;FMTTYPE=text/html: <p><a href="https://knockedloose.com" rel="no
 opener" target="_blank">Knocked Loose</a><br />+ <a href="https://www.insta
 gram.com/staticdress/" rel="noopener" target="_blank">Static Dress</a></p><
 p>Nur einen Tag nach dem sie für Metallica\, eine der wohl legendärsten Met
 albands der Welt\, die Bühne im Zürcher Letzigrund eröffnen dürfen\, spiele
 n die US-amerikanischen Hardcore-Shootingstars Knocked Loose eine exklusive
  Headlineshow im Komplex 457. Tickets sind ab dem 13. März erhältlich.</p><
 p>Als Knocked Loose mit der Arbeit an ihrem dritten Album begannen\, spürte
 n sie den Druck von allen Seiten. Intern mussten sie sich selbst als Songwr
 iter herausfordern und gleichzeitig die gnadenlose Intensität und unerschüt
 terliche Ehrlichkeit beibehalten\, die seit jeher ihr Markenzeichen sind – 
 und sie mussten auch den hohen Erwartungen gerecht werden\, die nach dem 20
 19 erschienenen Album «A Different Shade of Blue»\, einem der meistgelobten
  metallic Hardcore-Alben der letzten Zeit\, an sie gestellt wurden. Extern 
 richteten sich\, nach einem erfolgreichen Tournee-Jahr\, in dem sie ihren U
 nderground-Sound auf einige der grössten Bühnen der Welt gebracht hatten un
 d sich als unerwartete virale Lieblinge von Festivals wie dem Coachella wie
 derfanden\, ganz neue Augen auf das hart tourende Quintett aus Louisville\,
  USA.</p><p>Doch auch im Jahr 2026 gibt es keine Grenzen für Hardcore – sel
 bst eine kompromisslose Band wie Knocked Loose kann in Mainstream-nahen Ber
 eichen auftreten und neue Fans gewinnen. Aber der Kern ihrer Musik wird sic
 h nie ändern.</p><p>«Knocked Loose wird immer eine Heavy-Band bleiben»\, be
 tont Gitarrist Hale. Aber\, fügt er hinzu\, Wachstumspotenzial ist ebenfall
 s entscheidend: «Ich möchte vor 10.000 Menschen auf einem Festival spielen 
 können\, aber auch vor 50 Leuten in einer Pizzeria. Es muss in beiden Umgeb
 ungen funktionieren. Gleichzeitig haben wir alle unterschiedliche Einflüsse
  und unterschiedliche Ideen. Die Frage war immer: Wie können wir diese Einf
 lüsse geschmackvoll in etwas einfliessen lassen\, das im Wesentlichen immer
  noch ein Hardcore-Song mit Mosh-Parts und Breakdowns ist?»</p><p>Auf 10 Tr
 acks beantwortet «You Won’t Go Before You’re Supposed To» diese Frage immer
  wieder. Diese Songs sind immer noch Hardcore\, immer noch Knocked Loose\, 
 aber sie erkunden neue Horizonte der Emotionen\, Texturen und Klangstrategi
 en. Alles\, was sie bisher erlebt haben\, ist auf diesem Album zu finden – 
 aber auch alles\, was sie noch erleben werden.</p>
CATEGORIES:Metal
LOCATION:Komplex 457
GEO:47.387269;8.499988
ORGANIZER;CN="Nicole Wild":MAILTO:nic.wild@yahoo.com
URL;VALUE=URI:https://artnoir.ch/events/event/knocked-loose-2026-05-28/
ATTACH;FMTTYPE=image/jpeg:https://artnoir.ch/wp-content/uploads/2026/03/knocked-loose-2026-05-28.jpg
END:VEVENT
BEGIN:VTIMEZONE
TZID:Europe/Zurich
BEGIN:DAYLIGHT
TZOFFSETFROM:+0100
TZOFFSETTO:+0200
DTSTART:20260329T010000
TZNAME:CEST
END:DAYLIGHT
END:VTIMEZONE
END:VCALENDAR
