BEGIN:VCALENDAR
VERSION:2.0
PRODID:-//ARTNOIR//NONSGML Events//EN
CALSCALE:GREGORIAN
X-ORIGINAL-URL:https://artnoir.ch/events/event/
X-WR-CALDESC:ARTNOIR - Events
BEGIN:VEVENT
UID:20260405T1559Z-1775404792.0413-EO-262625-1@10.0.9.48
STATUS:CONFIRMED
DTSTAMP:20260423T233815Z
CREATED:20260403T094048Z
LAST-MODIFIED:20260403T094222Z
DTSTART;TZID=Europe/Zurich:20261009T200000
DTEND;TZID=Europe/Zurich:20261009T235900
SUMMARY: Kirlian Camera
DESCRIPTION: Kirlian Camera\n+ Twin Noir\n+ The Brute\nKirlian Camera\, 198
 0 von Angelo Bergamini gegründet\, ist eine Pionierband der elektronischen 
 Musik\, die für Hits wie „Crystal Morn“ und „Sky Collapse“ bekannt ist. Dur
 ch die Zusammenarbeit mit verschiedenen Musikern\, darunter Trevor Rabin un
 d Michael Ciravolo\, hat die Band weltweit eine treue Anhängerschaft.\nDie 
 aktuelle Besetzung besteht aus Angelo Bergamini und der talentierten Sänger
 in und Komponistin Elena Alice Fossi. ... [Read more...]
X-ALT-DESC;FMTTYPE=text/html: <p><a href="https://www.kirliancamera.com/" r
 el="noopener" target="_blank">Kirlian Camera</a><br />+ <a href="https://ww
 w.twinnoir.com/" rel="noopener" target="_blank">Twin Noir</a><br />+ <a hre
 f="https://www.thebrutemusic.com/" rel="noopener" target="_blank">The Brute
 </a></p><p><strong>Kirlian Camera</strong>\, 1980 von Angelo Bergamini gegr
 ündet\, ist eine Pionierband der elektronischen Musik\, die für Hits wie „C
 rystal Morn“ und „Sky Collapse“ bekannt ist. Durch die Zusammenarbeit mit v
 erschiedenen Musikern\, darunter Trevor Rabin und Michael Ciravolo\, hat di
 e Band weltweit eine treue Anhängerschaft.</p><p>Die aktuelle Besetzung bes
 teht aus Angelo Bergamini und der talentierten Sängerin und Komponistin Ele
 na Alice Fossi. Elenas bemerkenswerte Stimme\, die von der Sopranistin Susa
 nna Rigacci ausgebildet wurde\, verleiht der Musik der Band eine einzigarti
 ge Note. Die Alben von Kirlian Camera\, wie z. B. „Hologram Moon“\, waren k
 ommerziell erfolgreich und wurden von der Kritik gelobt. Der Sound der Band
  lässt sich nicht klassifizieren\, da er Post-Industrial-\, Symphonic-\, Tr
 ip-Hop- und Electro-Elemente miteinander verbindet.</p><p><strong>Twin Noir
 </strong> ist eine von Cody Barcelona und Ian Volt in Berlin gegründete Ban
 d. Stilistisch reichen ihre Einflüsse nach eigenen Angaben von Bands wie Kr
 aftwerk oder DAF über die Genres Electronic Body Music und Techno bis zum P
 unk und Rock der 1970er bis 1990er.</p><p>Die Songs von <strong>The Brute</
 strong>: wecken Erinnerungen an klassische Electronic Bands und warten mit 
 einem moderneren Touch auf\, der treibende Basslinien\, eine fesselnden Sti
 mme mit Songtexten verbindet\, die bei jedem anhören eine neue Bedeutung zu
  haben scheinen.</p>
CATEGORIES:Electro,Wave
LOCATION:Musigburg
GEO:47.320494;7.906709
ORGANIZER;CN="JHG Shark":MAILTO:webmaster@jhgshark.ch
URL;VALUE=URI:https://artnoir.ch/events/event/kirlian-camera-2026-10-09/
ATTACH;FMTTYPE=image/jpeg:https://artnoir.ch/wp-content/uploads/2026/04/kirlian-camera-2026-10-09.jpg
END:VEVENT
BEGIN:VTIMEZONE
TZID:Europe/Zurich
BEGIN:DAYLIGHT
TZOFFSETFROM:+0100
TZOFFSETTO:+0200
DTSTART:20260329T010000
TZNAME:CEST
END:DAYLIGHT
END:VTIMEZONE
END:VCALENDAR
