BEGIN:VCALENDAR
VERSION:2.0
PRODID:-//ARTNOIR//NONSGML Events//EN
CALSCALE:GREGORIAN
X-ORIGINAL-URL:https://artnoir.ch/events/event/
X-WR-CALDESC:ARTNOIR - Events
BEGIN:VEVENT
UID:20260415T1949Z-1776282560.5873-EO-263062-1@10.0.9.48
STATUS:CONFIRMED
DTSTAMP:20260423T233700Z
CREATED:20260413T194019Z
LAST-MODIFIED:20260413T194045Z
DTSTART;TZID=Europe/Zurich:20261003T170000
DTEND;TZID=Europe/Zurich:20261003T223000
SUMMARY: King Dude
DESCRIPTION: King Dude\n+ Kevin Galland\nKING DUDE\nChaînon manquant entre 
 Earth et Johnny Cash\, KING DUDE arpente depuis quinze ans les chemins les 
 plus ténébreux de la folk américaine\, en version électrique claquante ou e
 n mode acoustique funèbre. C’est en duo qu’il vient hanter le château d’Aig
 le\, et chanter l’amour\, la mort\, le diable et la lumière de son inimitab
 le timbre sépulcral. Adeptes de Swans\, ... [Read more...]
X-ALT-DESC;FMTTYPE=text/html: <p><a href="https://www.ltlotw.com/" rel="noo
 pener" target="_blank">King Dude</a><br />+ <a href="https://www.instagram.
 com/kevin.caoimhin.galland/" rel="noopener" target="_blank">Kevin Galland</
 a></p><p><strong>KING DUDE</strong><br />Chaînon manquant entre Earth et Jo
 hnny Cash\, KING DUDE arpente depuis quinze ans les chemins les plus ténébr
 eux de la folk américaine\, en version électrique claquante ou en mode acou
 stique funèbre. C’est en duo qu’il vient hanter le château d’Aigle\, et cha
 nter l’amour\, la mort\, le diable et la lumière de son inimitable timbre s
 épulcral. Adeptes de Swans\, de Woven Hand ou de Robert Johnson\, accourez 
 !</p><p><strong>KEVIN GALLAND</strong><br />Touche-à-tout assez génial (ing
 énieur du son chevronné\, bassiste de Coilguns\, producteur de plein de gro
 upes Humus)\, KEVIN GALLAND s’est posé en 2023\, avec sa guitare mais aussi
  une ribambelle de matériel sonore\, pour accoucher de son projet solo\, en
 tre folk et pop nostalgique. Prévue plus pour les salons que pour les stade
 s\, sa musique intimiste sera tout à fait à sa place dans les tentures de l
 a Salle des Communes du Château d’Aigle.</p><p><strong>La Cave Alain Emery<
 /strong><br />Cinquième génération d’Emery dans les vignes d’Aigle (ils ont
  déboulé en 1883 déjà) \, Alain a repris en 2007 – et rejoint par son frère
  Marc-\, un domaine de 5 hectares entre les coteaux de Beauregard (en face 
 des Dents-du-Midi) et les vignes qui entourent le Château. De culture raiso
 nnée (label Vinatura)\, une gamme d’une dizaine de vins (les classiques cha
 sselas\, pinot et gamay) réhaussée de quelques crus plus iconoclastes (dont
  un Gamaret barriqué vinifié en style Porto).</p><p><strong>Château d’Aigle
 </strong><br />Ancienne résidence des chevaliers d’Aigle\, puis des Gouvern
 eurs bernois (à l’époque où ils coupaient la tête aux officiers vaudois)\, 
 et prison effroyable jusqu’en 1972\, le Château d’Aigle domine le Chablais 
 depuis le XIIe siècle. Parmi les monuments les plus grandioses du pays\, il
  abrite le Musée de la Vigne\, du Vin et de l’Etiquette – ça tombe droit bi
 en pour une session « Humus & Wine ». Avec le soutien de la commission cult
 urelle de la commune d’Aigle.</p><p>Concerts en intérieur / Visite du Châte
 au incluse dès 17h / Bar et restauration dès 18h / Dégustation de 18 à 19h 
 ((billets « dégust » seulement) / Concerts dès 20h\, fin vers 22h30.</p>
CATEGORIES:Rock,Wave
LOCATION:Château d’Aigle
GEO:47.356272;5.435073
ORGANIZER;CN="JHG Shark":MAILTO:webmaster@jhgshark.ch
URL;VALUE=URI:https://artnoir.ch/events/event/king-dude-2026-10-03/
ATTACH;FMTTYPE=image/jpeg:https://artnoir.ch/wp-content/uploads/2026/04/king-dude-2026-10-03.jpg
END:VEVENT
BEGIN:VTIMEZONE
TZID:Europe/Zurich
BEGIN:DAYLIGHT
TZOFFSETFROM:+0100
TZOFFSETTO:+0200
DTSTART:20260329T010000
TZNAME:CEST
END:DAYLIGHT
END:VTIMEZONE
END:VCALENDAR
