BEGIN:VCALENDAR
VERSION:2.0
PRODID:-//ARTNOIR//NONSGML Events//EN
CALSCALE:GREGORIAN
X-ORIGINAL-URL:https://artnoir.ch/events/event/
X-WR-CALDESC:ARTNOIR - Events
BEGIN:VEVENT
UID:20260329T0153Z-1774749198.6589-EO-262131-1@10.0.9.48
STATUS:CONFIRMED
DTSTAMP:20260423T232516Z
CREATED:20260323T053208Z
LAST-MODIFIED:20260323T191053Z
DTSTART;TZID=Europe/Zurich:20261128T190000
DTEND;TZID=Europe/Zurich:20261128T223000
SUMMARY: Kids With Buns
DESCRIPTION: Kids With Buns\nNach ihrem beeindruckenden Debütalbum „Out of 
 Place“ melden sich Kids With Buns im Oktober 2026 mit dem lang erwarteten z
 weiten Album zurück. Das queere belgische Indie-Pop-Duo – bestehend aus Amb
 er Piddington und Marie Van Uytvanck – begann die Arbeit an den neuen Songs
  in einer Zeit persönlicher Umbrüche: Beide hatten gerade Trennungen erlebt
 .\nFür die Produktion reisten sie nach Philadelphia\, um mit Jacob Blizard 
 (u. a. ... [Read more...]
X-ALT-DESC;FMTTYPE=text/html: <p><a href="https://www.instagram.com/kidswit
 hbuns/" target="_blank" rel="noopener">Kids With Buns</a></p><p>Nach ihrem 
 beeindruckenden Debütalbum "Out of Place" melden sich Kids With Buns im Okt
 ober 2026 mit dem lang erwarteten zweiten Album zurück. Das queere belgisch
 e Indie-Pop-Duo – bestehend aus Amber Piddington und Marie Van Uytvanck – b
 egann die Arbeit an den neuen Songs in einer Zeit persönlicher Umbrüche: Be
 ide hatten gerade Trennungen erlebt.</p><p>Für die Produktion reisten sie n
 ach Philadelphia\, um mit Jacob Blizard (u. a. Lucy Dacus\, boygenius) zusa
 mmenzuarbeiten. Inspiriert von Chaos\, langen Nächten und Herzschmerz entst
 and ihr bislang reifstes und tiefgründigstes Werk – intensiv\, ehrlich und 
 emotional packend.</p><p>Mit Auftritten auf den Hauptbühnen grosser belgisc
 her Festivals sowie Clubshows in Deutschland\, Luxemburg\, Rumänien\, Frank
 reich und den Niederlanden haben Kids With Buns ihren Ruf als kraftvolle Li
 ve-Band längst gefestigt. Ihre Konzerte sind eindringliche Übersetzungen ih
 rer verletzlichen Songs – und zugleich einzigartige Erlebnisse\, die jedes 
 Publikum in den Bann ziehen.</p>
CATEGORIES:Pop
LOCATION:Albani
GEO:47.498426;8.729203
ORGANIZER;CN="Christian Wölbitsch":MAILTO:info@cd-photography.net
URL;VALUE=URI:https://artnoir.ch/events/event/kids-with-buns-2026-11-28/
ATTACH;FMTTYPE=image/png:https://artnoir.ch/wp-content/uploads/2026/03/Kids-With-Buns-2026-11-28.png
END:VEVENT
BEGIN:VTIMEZONE
TZID:Europe/Zurich
BEGIN:STANDARD
TZOFFSETFROM:+0200
TZOFFSETTO:+0100
DTSTART:20261025T010000
TZNAME:CET
END:STANDARD
END:VTIMEZONE
END:VCALENDAR
