BEGIN:VCALENDAR
VERSION:2.0
PRODID:-//ARTNOIR//NONSGML Events//EN
CALSCALE:GREGORIAN
X-ORIGINAL-URL:https://artnoir.ch/events/event/
X-WR-CALDESC:ARTNOIR - Events
BEGIN:VEVENT
UID:20260301T1841Z-1772390474.8895-EO-260926-1@10.0.9.48
STATUS:CONFIRMED
DTSTAMP:20260423T215315Z
CREATED:20260227T132729Z
LAST-MODIFIED:20260227T132828Z
DTSTART;TZID=Europe/Zurich:20260831T180000
DTEND;TZID=Europe/Zurich:20260831T224500
SUMMARY: Joji
DESCRIPTION: Joji\n+ Tommy Richman\nDer von Kritikern gefeierte Sänger und 
 Produzent Joji hat seine kommende internationale SOLARIS TOUR angekündigt. 
 Die Termine führen ihn durch Nordamerika\, Europa\, Asien\, Australien und 
 Neuseeland. Im Rahmen der von Live Nation präsentierten Tour wird Joji in A
 renen rund um den Globus auftreten – darunter im Prudential Center\, Barcla
 ys Center\, Intuit Dome\, The O2 sowie vielen weiteren. Im August kommt er 
 nach Köln und Berlin sowie in die Schweizer Hauptstadt Zürich. ... [Read mo
 re...]
X-ALT-DESC;FMTTYPE=text/html: <p><a href="https://www.jojimusic.com/" rel="
 noopener" target="_blank">Joji</a><br />+ <a href="https://everythingispunk
 .com/" rel="noopener" target="_blank">Tommy Richman</a></p><p>Der von Kriti
 kern gefeierte Sänger und Produzent Joji hat seine kommende internationale 
 SOLARIS TOUR angekündigt. Die Termine führen ihn durch Nordamerika\, Europa
 \, Asien\, Australien und Neuseeland. Im Rahmen der von Live Nation präsent
 ierten Tour wird Joji in Arenen rund um den Globus auftreten – darunter im 
 Prudential Center\, Barclays Center\, Intuit Dome\, The O2 sowie vielen wei
 teren. Im August kommt er nach Köln und Berlin sowie in die Schweizer Haupt
 stadt Zürich.</p><p>Die SOLARIS TOUR bringt eine komplett neue Showprodukti
 on auf die Bühne – konzipiert als immersives Erlebnis\, das Jojis Welt auf 
 eine Art erweitert\, wie Fans sie bislang noch nicht gesehen haben. Mit ein
 er Setlist voller Hits von „Glimpse of Us“ bis „SLOW DANCING IN THE DARK“ m
 arkieren die Konzerte außerdem die ersten Live-Performances überhaupt von S
 ongs aus seinem neuen Album „Piss In The Wind“.</p><p>Der Nordamerika-Teil 
 der SOLARIS TOUR wird von Nate Sib und Corbin unterstützt. Die Termine in E
 uropa sowie Australien/Neuseeland werden von Tommy Richman begleitet.</p><p
 >„Piss In The Wind“\, das Anfang dieses Monats über Palace Creek erschienen
  ist\, verbindet Jojis klangliche Vergangenheit und Gegenwart: melancholisc
 h-düstere Songs treffen auf eine raue sowie zugleich atmosphärische Produkt
 ion. Mit einer umfangreichen Tracklist von 21 Songs und einer prägnanten kr
 eativen Bildsprache entsteht ein in sich geschlossenes Album. Verstärkt wir
 d das Release durch Kollaborationen mit Giveon\, 4batz\, Yeat und Don Toliv
 er.</p><p>Nach Veröffentlichung stieg „Piss In The Wind“ auf Platz 5 der Bi
 llboard 200 ein und erreichte in den USA Platz 1 der Indie Store Album Sale
 s Charts\, Current Alternative Albums sowie Current Pop Albums. Internation
 al erzielte das Album ebenfalls neue Bestmarken\, darunter Top-10-Debüts in
  Australien (Platz 3)\, UK (Platz 6 – neue Bestmarke)\, Deutschland (Platz 
 4 – neue Bestmarke) sowie den Niederlanden (Platz 9 – neue Bestmarke). Zude
 m erreichte Joji seine bislang höchsten nationalen Einstiege in Frankreich\
 , Belgien\, Italien und weiteren Ländern.</p>
CATEGORIES:Anderes,Electro
LOCATION:Hallenstadion
GEO:47.411425;8.551685
ORGANIZER;CN="JHG Shark":MAILTO:webmaster@jhgshark.ch
URL;VALUE=URI:https://artnoir.ch/events/event/joji-2026-08-31/
ATTACH;FMTTYPE=image/jpeg:https://artnoir.ch/wp-content/uploads/2026/02/joji-2026-08-31.jpg
END:VEVENT
BEGIN:VTIMEZONE
TZID:Europe/Zurich
BEGIN:DAYLIGHT
TZOFFSETFROM:+0100
TZOFFSETTO:+0200
DTSTART:20260329T010000
TZNAME:CEST
END:DAYLIGHT
END:VTIMEZONE
END:VCALENDAR
