BEGIN:VCALENDAR
VERSION:2.0
PRODID:-//ARTNOIR//NONSGML Events//EN
CALSCALE:GREGORIAN
X-ORIGINAL-URL:https://artnoir.ch/events/event/
X-WR-CALDESC:ARTNOIR - Events
BEGIN:VEVENT
UID:20260211T0359Z-1770782367.415-EO-260085-1@10.0.9.48
STATUS:CONFIRMED
DTSTAMP:20260424T010529Z
CREATED:20260209T191836Z
LAST-MODIFIED:20260209T192010Z
DTSTART;TZID=Europe/Zurich:20260708T183000
DTEND;TZID=Europe/Zurich:20260708T230000
SUMMARY: JET
DESCRIPTION: JET\nDas ist ein Ding\, JET kommen zum allerersten Mal überhau
 pt in die Mühle Hunziken und zwar für eine exklusive Schweizer Show. Allein
  dieser Satz fühlt sich schon beinahe historisch an!\nAus den Vororten Melb
 ournes direkt an die Spitze der Rockwelt: Seit der Gründung 2001 haben Jet 
 über 6\,5 Millionen Alben verkauft und mit dem Debüt «Get Born» Rockgeschic
 hte geschrieben. Hymnen wie «Are You Gonna Be My Girl»\, «Rollover DJ»\, ..
 . [Read more...]
X-ALT-DESC;FMTTYPE=text/html: <p><a href="https://www.jetofficial.com/" rel
 ="noopener" target="_blank">JET</a></p><p>Das ist ein Ding\, JET kommen zum
  allerersten Mal überhaupt in die Mühle Hunziken und zwar für eine exklusiv
 e Schweizer Show. Allein dieser Satz fühlt sich schon beinahe historisch an
 !</p><p>Aus den Vororten Melbournes direkt an die Spitze der Rockwelt: Seit
  der Gründung 2001 haben Jet über 6\,5 Millionen Alben verkauft und mit dem
  Debüt «Get Born» Rockgeschichte geschrieben. Hymnen wie «Are You Gonna Be 
 My Girl»\, «Rollover DJ»\, «Cold Hard Bitch» oder «Look What You’ve Done» k
 atapultierten die Band an die Spitze der internationalen Charts\, bescherte
 n Platin-Auszeichnungen und machten JET zu Dauergästen auf den grössten Fes
 tivalbühnen der Welt.</p><p>2023 feierte die Band 20 Jahre Get Born mit umj
 ubelten Comeback-Shows\, kurz darauf folgte die Aufnahme in die ARIA Hall o
 f Fame. Und spätestens 2025 war klar: JET sind zurück – hungrig\, laut und 
 besser denn je.</p><p>Und dieses Jahr führt der musikalische Weg von JET nu
 n erstmals nach Rubigen. Gemeinsam schreiben wir ein weiteres Kapitel Rock’
 n’Roll-Geschichte im wohl schönsten Konzertlokal weit und breit!</p><p>Dies
 es Konzert findet Indoor in der Mühle Hunziken statt.</p>
CATEGORIES:Rock
LOCATION:Mühle Hunziken
GEO:46.891205;7.541725
ORGANIZER;CN="JHG Shark":MAILTO:webmaster@jhgshark.ch
URL;VALUE=URI:https://artnoir.ch/events/event/jet-2026-07-08/
ATTACH;FMTTYPE=image/jpeg:https://artnoir.ch/wp-content/uploads/2026/02/jet-2026-07-08.jpg
END:VEVENT
BEGIN:VTIMEZONE
TZID:Europe/Zurich
BEGIN:DAYLIGHT
TZOFFSETFROM:+0100
TZOFFSETTO:+0200
DTSTART:20260329T010000
TZNAME:CEST
END:DAYLIGHT
END:VTIMEZONE
END:VCALENDAR
